Workbook
Name 課程名稱: [1]選修課程清單!$A:$A

Sheet 貼完後來這邊檢查
A1: 114學年度畢業生歷年成績單分析
A2: 課程類別 | B2: 年級 | D2: 課程名稱 （代碼、名稱） | F2: 必選修 | G2: 學分數
G3: 數學 | H3: 基礎 科學 | I3: 工程專業課程 | K3: 通識
I4: 理論 | J4: 設計 | K4: 課程
A5: 必修 | B5: 一 年 級 | C5: 第 一 學 期 | D5: 微積分甲〈一〉 | F5: 必 | G5: =IFERROR(IF(VLOOKUP(D5,從此工作表的A2貼上你的成績總表!$K$2:$Q$252,3,0 )=0,"",VLOOKUP(D5,從此工作表的A2貼上你的成績總表!$K$2:$Q$252,3,0 )),"") | H5: =IFERROR(IF(VLOOKUP(D5,從此工作表的A2貼上你的成績總表!$K$2:$Q$252,4,0 )=0,"",VLOOKUP(D5,從此工作表的A2貼上你的成績總表!$K$2:$Q$252,4,0 )),"") | I5: =IFERROR(IF(VLOOKUP(D5,從此工作表的A2貼上你的成績總表!$K$2:$Q$252,5,0 )=0,"",VLOOKUP(D5,從此工作表的A2貼上你的成績總表!$K$2:$Q$252,5,0 )),"") | J5: =IFERROR(IF(VLOOKUP(D5,從此工作表的A2貼上你的成績總表!$K$2:$Q$252,6,0 )=0,"",VLOOKUP(D5,從此工作表的A2貼上你的成績總表!$K$2:$Q$252,6,0 )),"") | K5: =IFERROR(IF(VLOOKUP(D5,從此工作表的A2貼上你的成績總表!$K$2:$Q$252,7,0 )=0,"",VLOOKUP(D5,從此工作表的A2貼上你的成績總表!$K$2:$Q$252,7,0 )),"")
D6: 普通物理 | F6: 必 | G6: =IFERROR(IF(VLOOKUP(D6,從此工作表的A2貼上你的成績總表!$K$2:$Q$252,3,0 )=0,"",VLOOKUP(D6,從此工作表的A2貼上你的成績總表!$K$2:$Q$252,3,0 )),"") | H6: =IFERROR(IF(VLOOKUP(D6,從此工作表的A2貼上你的成績總表!$K$2:$Q$252,4,0 )=0,"",VLOOKUP(D6,從此工作表的A2貼上你的成績總表!$K$2:$Q$252,4,0 )),"") | I6: =IFERROR(IF(VLOOKUP(D6,從此工作表的A2貼上你的成績總表!$K$2:$Q$252,5,0 )=0,"",VLOOKUP(D6,從此工作表的A2貼上你的成績總表!$K$2:$Q$252,5,0 )),"") | J6: =IFERROR(IF(VLOOKUP(D6,從此工作表的A2貼上你的成績總表!$K$2:$Q$252,6,0 )=0,"",VLOOKUP(D6,從此工作表的A2貼上你的成績總表!$K$2:$Q$252,6,0 )),"") | K6: =IFERROR(IF(VLOOKUP(D6,從此工作表的A2貼上你的成績總表!$K$2:$Q$252,7,0 )=0,"",VLOOKUP(D6,從此工作表的A2貼上你的成績總表!$K$2:$Q$252,7,0 )),"")
D7: 程式設計 | F7: 必 | G7: =IFERROR(IF(VLOOKUP(D7,從此工作表的A2貼上你的成績總表!$K$2:$Q$252,3,0 )=0,"",VLOOKUP(D7,從此工作表的A2貼上你的成績總表!$K$2:$Q$252,3,0 )),"") | H7: =IFERROR(IF(VLOOKUP(D7,從此工作表的A2貼上你的成績總表!$K$2:$Q$252,4,0 )=0,"",VLOOKUP(D7,從此工作表的A2貼上你的成績總表!$K$2:$Q$252,4,0 )),"") | I7: =IFERROR(IF(VLOOKUP(D7,從此工作表的A2貼上你的成績總表!$K$2:$Q$252,5,0 )=0,"",VLOOKUP(D7,從此工作表的A2貼上你的成績總表!$K$2:$Q$252,5,0 )),"") | J7: =IFERROR(IF(VLOOKUP(D7,從此工作表的A2貼上你的成績總表!$K$2:$Q$252,6,0 )=0,"",VLOOKUP(D7,從此工作表的A2貼上你的成績總表!$K$2:$Q$252,6,0 )),"") | K7: =IFERROR(IF(VLOOKUP(D7,從此工作表的A2貼上你的成績總表!$K$2:$Q$252,7,0 )=0,"",VLOOKUP(D7,從此工作表的A2貼上你的成績總表!$K$2:$Q$252,7,0 )),"")
D8: 邏輯設計 | F8: 必 | G8: =IFERROR(IF(VLOOKUP(D8,從此工作表的A2貼上你的成績總表!$K$2:$Q$252,3,0 )=0,"",VLOOKUP(D8,從此工作表的A2貼上你的成績總表!$K$2:$Q$252,3,0 )),"") | H8: =IFERROR(IF(VLOOKUP(D8,從此工作表的A2貼上你的成績總表!$K$2:$Q$252,4,0 )=0,"",VLOOKUP(D8,從此工作表的A2貼上你的成績總表!$K$2:$Q$252,4,0 )),"") | I8: =IFERROR(IF(VLOOKUP(D8,從此工作表的A2貼上你的成績總表!$K$2:$Q$252,5,0 )=0,"",VLOOKUP(D8,從此工作表的A2貼上你的成績總表!$K$2:$Q$252,5,0 )),"") | J8: =IFERROR(IF(VLOOKUP(D8,從此工作表的A2貼上你的成績總表!$K$2:$Q$252,6,0 )=0,"",VLOOKUP(D8,從此工作表的A2貼上你的成績總表!$K$2:$Q$252,6,0 )),"") | K8: =IFERROR(IF(VLOOKUP(D8,從此工作表的A2貼上你的成績總表!$K$2:$Q$252,7,0 )=0,"",VLOOKUP(D8,從此工作表的A2貼上你的成績總表!$K$2:$Q$252,7,0 )),"")
D9: 邏輯設計實驗 | F9: 必 | G9: =IFERROR(IF(VLOOKUP(D9,從此工作表的A2貼上你的成績總表!$K$2:$Q$252,3,0 )=0,"",VLOOKUP(D9,從此工作表的A2貼上你的成績總表!$K$2:$Q$252,3,0 )),"") | H9: =IFERROR(IF(VLOOKUP(D9,從此工作表的A2貼上你的成績總表!$K$2:$Q$252,4,0 )=0,"",VLOOKUP(D9,從此工作表的A2貼上你的成績總表!$K$2:$Q$252,4,0 )),"") | I9: =IFERROR(IF(VLOOKUP(D9,從此工作表的A2貼上你的成績總表!$K$2:$Q$252,5,0 )=0,"",VLOOKUP(D9,從此工作表的A2貼上你的成績總表!$K$2:$Q$252,5,0 )),"") | J9: =IFERROR(IF(VLOOKUP(D9,從此工作表的A2貼上你的成績總表!$K$2:$Q$252,6,0 )=0,"",VLOOKUP(D9,從此工作表的A2貼上你的成績總表!$K$2:$Q$252,6,0 )),"") | K9: =IFERROR(IF(VLOOKUP(D9,從此工作表的A2貼上你的成績總表!$K$2:$Q$252,7,0 )=0,"",VLOOKUP(D9,從此工作表的A2貼上你的成績總表!$K$2:$Q$252,7,0 )),"")
D10: 線性代數 | F10: 必 | G10: =IFERROR(IF(VLOOKUP(D10,從此工作表的A2貼上你的成績總表!$K$2:$Q$252,3,0 )=0,"",VLOOKUP(D10,從此工作表的A2貼上你的成績總表!$K$2:$Q$252,3,0 )),"") | H10: =IFERROR(IF(VLOOKUP(D10,從此工作表的A2貼上你的成績總表!$K$2:$Q$252,4,0 )=0,"",VLOOKUP(D10,從此工作表的A2貼上你的成績總表!$K$2:$Q$252,4,0 )),"") | I10: =IFERROR(IF(VLOOKUP(D10,從此工作表的A2貼上你的成績總表!$K$2:$Q$252,5,0 )=0,"",VLOOKUP(D10,從此工作表的A2貼上你的成績總表!$K$2:$Q$252,5,0 )),"") | J10: =IFERROR(IF(VLOOKUP(D10,從此工作表的A2貼上你的成績總表!$K$2:$Q$252,6,0 )=0,"",VLOOKUP(D10,從此工作表的A2貼上你的成績總表!$K$2:$Q$252,6,0 )),"") | K10: =IFERROR(IF(VLOOKUP(D10,從此工作表的A2貼上你的成績總表!$K$2:$Q$252,7,0 )=0,"",VLOOKUP(D10,從此工作表的A2貼上你的成績總表!$K$2:$Q$252,7,0 )),"")
D11: 大一英文 | F11: 必 | G11: =IFERROR(IF(VLOOKUP(D11,從此工作表的A2貼上你的成績總表!$K$2:$Q$252,3,0 )=0,"",VLOOKUP(D11,從此工作表的A2貼上你的成績總表!$K$2:$Q$252,3,0 )),"") | H11: =IFERROR(IF(VLOOKUP(D11,從此工作表的A2貼上你的成績總表!$K$2:$Q$252,4,0 )=0,"",VLOOKUP(D11,從此工作表的A2貼上你的成績總表!$K$2:$Q$252,4,0 )),"") | I11: =IFERROR(IF(VLOOKUP(D11,從此工作表的A2貼上你的成績總表!$K$2:$Q$252,5,0 )=0,"",VLOOKUP(D11,從此工作表的A2貼上你的成績總表!$K$2:$Q$252,5,0 )),"") | J11: =IFERROR(IF(VLOOKUP(D11,從此工作表的A2貼上你的成績總表!$K$2:$Q$252,6,0 )=0,"",VLOOKUP(D11,從此工作表的A2貼上你的成績總表!$K$2:$Q$252,6,0 )),"") | K11: =IFERROR(IF(VLOOKUP(D11,從此工作表的A2貼上你的成績總表!$K$2:$Q$252,7,0 )=0,"",VLOOKUP(D11,從此工作表的A2貼上你的成績總表!$K$2:$Q$252,7,0 )),"")
D12: 中文 | F12: 必 | G12: =IFERROR(IF(VLOOKUP(D12,從此工作表的A2貼上你的成績總表!$K$2:$Q$252,3,0 )=0,"",VLOOKUP(D12,從此工作表的A2貼上你的成績總表!$K$2:$Q$252,3,0 )),"") | H12: =IFERROR(IF(VLOOKUP(D12,從此工作表的A2貼上你的成績總表!$K$2:$Q$252,4,0 )=0,"",VLOOKUP(D12,從此工作表的A2貼上你的成績總表!$K$2:$Q$252,4,0 )),"") | I12: =IFERROR(IF(VLOOKUP(D12,從此工作表的A2貼上你的成績總表!$K$2:$Q$252,5,0 )=0,"",VLOOKUP(D12,從此工作表的A2貼上你的成績總表!$K$2:$Q$252,5,0 )),"") | J12: =IFERROR(IF(VLOOKUP(D12,從此工作表的A2貼上你的成績總表!$K$2:$Q$252,6,0 )=0,"",VLOOKUP(D12,從此工作表的A2貼上你的成績總表!$K$2:$Q$252,6,0 )),"") | K12: =IFERROR(IF(VLOOKUP(D12,從此工作表的A2貼上你的成績總表!$K$2:$Q$252,7,0 )=0,"",VLOOKUP(D12,從此工作表的A2貼上你的成績總表!$K$2:$Q$252,7,0 )),"")
D13: 軍訓 | F13: 必 | G13: =IFERROR(IF(VLOOKUP(D13,從此工作表的A2貼上你的成績總表!$K$2:$Q$252,3,0 )=0,"",VLOOKUP(D13,從此工作表的A2貼上你的成績總表!$K$2:$Q$252,3,0 )),"") | H13: =IFERROR(IF(VLOOKUP(D13,從此工作表的A2貼上你的成績總表!$K$2:$Q$252,4,0 )=0,"",VLOOKUP(D13,從此工作表的A2貼上你的成績總表!$K$2:$Q$252,4,0 )),"") | I13: =IFERROR(IF(VLOOKUP(D13,從此工作表的A2貼上你的成績總表!$K$2:$Q$252,5,0 )=0,"",VLOOKUP(D13,從此工作表的A2貼上你的成績總表!$K$2:$Q$252,5,0 )),"") | J13: =IFERROR(IF(VLOOKUP(D13,從此工作表的A2貼上你的成績總表!$K$2:$Q$252,6,0 )=0,"",VLOOKUP(D13,從此工作表的A2貼上你的成績總表!$K$2:$Q$252,6,0 )),"") | K13: =IFERROR(IF(VLOOKUP(D13,從此工作表的A2貼上你的成績總表!$K$2:$Q$252,7,0 )=0,"",VLOOKUP(D13,從此工作表的A2貼上你的成績總表!$K$2:$Q$252,7,0 )),"")
D14: 大一體育 | F14: 必 | G14: =IFERROR(IF(VLOOKUP(D14,從此工作表的A2貼上你的成績總表!$K$2:$Q$252,3,0 )=0,"",VLOOKUP(D14,從此工作表的A2貼上你的成績總表!$K$2:$Q$252,3,0 )),"") | H14: =IFERROR(IF(VLOOKUP(D14,從此工作表的A2貼上你的成績總表!$K$2:$Q$252,4,0 )=0,"",VLOOKUP(D14,從此工作表的A2貼上你的成績總表!$K$2:$Q$252,4,0 )),"") | I14: =IFERROR(IF(VLOOKUP(D14,從此工作表的A2貼上你的成績總表!$K$2:$Q$252,5,0 )=0,"",VLOOKUP(D14,從此工作表的A2貼上你的成績總表!$K$2:$Q$252,5,0 )),"") | J14: =IFERROR(IF(VLOOKUP(D14,從此工作表的A2貼上你的成績總表!$K$2:$Q$252,6,0 )=0,"",VLOOKUP(D14,從此工作表的A2貼上你的成績總表!$K$2:$Q$252,6,0 )),"") | K14: =IFERROR(IF(VLOOKUP(D14,從此工作表的A2貼上你的成績總表!$K$2:$Q$252,7,0 )=0,"",VLOOKUP(D14,從此工作表的A2貼上你的成績總表!$K$2:$Q$252,7,0 )),"")
C15: 第 二 學 期 | D15: 微積分甲〈二〉 | F15: 必 | G15: =IFERROR(IF(VLOOKUP(D15,從此工作表的A2貼上你的成績總表!$K$2:$Q$800,3,0 )=0,"",VLOOKUP(D15,從此工作表的A2貼上你的成績總表!$K$2:$Q$800,3,0 )),"") | H15: =IFERROR(IF(VLOOKUP(D15,從此工作表的A2貼上你的成績總表!$K$2:$Q$252,4,0 )=0,"",VLOOKUP(D15,從此工作表的A2貼上你的成績總表!$K$2:$Q$252,4,0 )),"") | I15: =IFERROR(IF(VLOOKUP(D15,從此工作表的A2貼上你的成績總表!$K$2:$Q$252,5,0 )=0,"",VLOOKUP(D15,從此工作表的A2貼上你的成績總表!$K$2:$Q$252,5,0 )),"") | J15: =IFERROR(IF(VLOOKUP(D15,從此工作表的A2貼上你的成績總表!$K$2:$Q$252,6,0 )=0,"",VLOOKUP(D15,從此工作表的A2貼上你的成績總表!$K$2:$Q$252,6,0 )),"") | K15: =IFERROR(IF(VLOOKUP(D15,從此工作表的A2貼上你的成績總表!$K$2:$Q$252,7,0 )=0,"",VLOOKUP(D15,從此工作表的A2貼上你的成績總表!$K$2:$Q$252,7,0 )),"")
D16: 程式語言 | F16: 必 | G16: =IFERROR(IF(VLOOKUP(D16,從此工作表的A2貼上你的成績總表!$K$2:$Q$252,3,0 )=0,"",VLOOKUP(D16,從此工作表的A2貼上你的成績總表!$K$2:$Q$252,3,0 )),"") | H16: =IFERROR(IF(VLOOKUP(D16,從此工作表的A2貼上你的成績總表!$K$2:$Q$252,4,0 )=0,"",VLOOKUP(D16,從此工作表的A2貼上你的成績總表!$K$2:$Q$252,4,0 )),"") | I16: =IFERROR(IF(VLOOKUP(D16,從此工作表的A2貼上你的成績總表!$K$2:$Q$252,5,0 )=0,"",VLOOKUP(D16,從此工作表的A2貼上你的成績總表!$K$2:$Q$252,5,0 )),"") | J16: =IFERROR(IF(VLOOKUP(D16,從此工作表的A2貼上你的成績總表!$K$2:$Q$252,6,0 )=0,"",VLOOKUP(D16,從此工作表的A2貼上你的成績總表!$K$2:$Q$252,6,0 )),"") | K16: =IFERROR(IF(VLOOKUP(D16,從此工作表的A2貼上你的成績總表!$K$2:$Q$252,7,0 )=0,"",VLOOKUP(D16,從此工作表的A2貼上你的成績總表!$K$2:$Q$252,7,0 )),"")
D17: 工程數學（Ⅰ） | F17: 必 | G17: =IFERROR(IF(VLOOKUP(D17,從此工作表的A2貼上你的成績總表!$K$2:$Q$252,3,0 )=0,"",VLOOKUP(D17,從此工作表的A2貼上你的成績總表!$K$2:$Q$252,3,0 )),"") | H17: =IFERROR(IF(VLOOKUP(D17,從此工作表的A2貼上你的成績總表!$K$2:$Q$252,4,0 )=0,"",VLOOKUP(D17,從此工作表的A2貼上你的成績總表!$K$2:$Q$252,4,0 )),"") | I17: =IFERROR(IF(VLOOKUP(D17,從此工作表的A2貼上你的成績總表!$K$2:$Q$252,5,0 )=0,"",VLOOKUP(D17,從此工作表的A2貼上你的成績總表!$K$2:$Q$252,5,0 )),"") | J17: =IFERROR(IF(VLOOKUP(D17,從此工作表的A2貼上你的成績總表!$K$2:$Q$252,6,0 )=0,"",VLOOKUP(D17,從此工作表的A2貼上你的成績總表!$K$2:$Q$252,6,0 )),"") | K17: =IFERROR(IF(VLOOKUP(D17,從此工作表的A2貼上你的成績總表!$K$2:$Q$252,7,0 )=0,"",VLOOKUP(D17,從此工作表的A2貼上你的成績總表!$K$2:$Q$252,7,0 )),"")
D18: 工程數學軟體實習 | F18: 必 | G18: =IFERROR(IF(VLOOKUP(D18,從此工作表的A2貼上你的成績總表!$K$2:$Q$252,3,0 )=0,"",VLOOKUP(D18,從此工作表的A2貼上你的成績總表!$K$2:$Q$252,3,0 )),"") | H18: =IFERROR(IF(VLOOKUP(D18,從此工作表的A2貼上你的成績總表!$K$2:$Q$252,4,0 )=0,"",VLOOKUP(D18,從此工作表的A2貼上你的成績總表!$K$2:$Q$252,4,0 )),"") | I18: =IFERROR(IF(VLOOKUP(D18,從此工作表的A2貼上你的成績總表!$K$2:$Q$252,5,0 )=0,"",VLOOKUP(D18,從此工作表的A2貼上你的成績總表!$K$2:$Q$252,5,0 )),"") | J18: =IFERROR(IF(VLOOKUP(D18,從此工作表的A2貼上你的成績總表!$K$2:$Q$252,6,0 )=0,"",VLOOKUP(D18,從此工作表的A2貼上你的成績總表!$K$2:$Q$252,6,0 )),"") | K18: =IFERROR(IF(VLOOKUP(D18,從此工作表的A2貼上你的成績總表!$K$2:$Q$252,7,0 )=0,"",VLOOKUP(D18,從此工作表的A2貼上你的成績總表!$K$2:$Q$252,7,0 )),"")
D19: 大一英文 | F19: 必 | G19: =IFERROR(IF(VLOOKUP(D19,從此工作表的A2貼上你的成績總表!$K$2:$Q$252,3,0 )=0,"",VLOOKUP(D19,從此工作表的A2貼上你的成績總表!$K$2:$Q$252,3,0 )),"") | H19: =IFERROR(IF(VLOOKUP(D19,從此工作表的A2貼上你的成績總表!$K$2:$Q$252,4,0 )=0,"",VLOOKUP(D19,從此工作表的A2貼上你的成績總表!$K$2:$Q$252,4,0 )),"") | I19: =IFERROR(IF(VLOOKUP(D19,從此工作表的A2貼上你的成績總表!$K$2:$Q$252,5,0 )=0,"",VLOOKUP(D19,從此工作表的A2貼上你的成績總表!$K$2:$Q$252,5,0 )),"") | J19: =IFERROR(IF(VLOOKUP(D19,從此工作表的A2貼上你的成績總表!$K$2:$Q$252,6,0 )=0,"",VLOOKUP(D19,從此工作表的A2貼上你的成績總表!$K$2:$Q$252,6,0 )),"") | K19: =IFERROR(IF(VLOOKUP(D19,從此工作表的A2貼上你的成績總表!$K$2:$Q$252,7,0 )=0,"",VLOOKUP(D19,從此工作表的A2貼上你的成績總表!$K$2:$Q$252,7,0 )),"")
D20: 中文 | F20: 必 | G20: =IFERROR(IF(VLOOKUP(D20,從此工作表的A2貼上你的成績總表!$K$2:$Q$252,3,0 )=0,"",VLOOKUP(D20,從此工作表的A2貼上你的成績總表!$K$2:$Q$252,3,0 )),"") | H20: =IFERROR(IF(VLOOKUP(D20,從此工作表的A2貼上你的成績總表!$K$2:$Q$252,4,0 )=0,"",VLOOKUP(D20,從此工作表的A2貼上你的成績總表!$K$2:$Q$252,4,0 )),"") | I20: =IFERROR(IF(VLOOKUP(D20,從此工作表的A2貼上你的成績總表!$K$2:$Q$252,5,0 )=0,"",VLOOKUP(D20,從此工作表的A2貼上你的成績總表!$K$2:$Q$252,5,0 )),"") | J20: =IFERROR(IF(VLOOKUP(D20,從此工作表的A2貼上你的成績總表!$K$2:$Q$252,6,0 )=0,"",VLOOKUP(D20,從此工作表的A2貼上你的成績總表!$K$2:$Q$252,6,0 )),"") | K20: =IFERROR(IF(VLOOKUP(D20,從此工作表的A2貼上你的成績總表!$K$2:$Q$252,7,0 )=0,"",VLOOKUP(D20,從此工作表的A2貼上你的成績總表!$K$2:$Q$252,7,0 )),"")
D21: 軍訓 | F21: 必 | G21: =IFERROR(IF(VLOOKUP(D21,從此工作表的A2貼上你的成績總表!$K$2:$Q$252,3,0 )=0,"",VLOOKUP(D21,從此工作表的A2貼上你的成績總表!$K$2:$Q$252,3,0 )),"") | H21: =IFERROR(IF(VLOOKUP(D21,從此工作表的A2貼上你的成績總表!$K$2:$Q$252,4,0 )=0,"",VLOOKUP(D21,從此工作表的A2貼上你的成績總表!$K$2:$Q$252,4,0 )),"") | I21: =IFERROR(IF(VLOOKUP(D21,從此工作表的A2貼上你的成績總表!$K$2:$Q$252,5,0 )=0,"",VLOOKUP(D21,從此工作表的A2貼上你的成績總表!$K$2:$Q$252,5,0 )),"") | J21: =IFERROR(IF(VLOOKUP(D21,從此工作表的A2貼上你的成績總表!$K$2:$Q$252,6,0 )=0,"",VLOOKUP(D21,從此工作表的A2貼上你的成績總表!$K$2:$Q$252,6,0 )),"") | K21: =IFERROR(IF(VLOOKUP(D21,從此工作表的A2貼上你的成績總表!$K$2:$Q$252,7,0 )=0,"",VLOOKUP(D21,從此工作表的A2貼上你的成績總表!$K$2:$Q$252,7,0 )),"")
D22: 大一體育 | F22: 必 | G22: =IFERROR(IF(VLOOKUP(D22,從此工作表的A2貼上你的成績總表!$K$2:$Q$252,3,0 )=0,"",VLOOKUP(D22,從此工作表的A2貼上你的成績總表!$K$2:$Q$252,3,0 )),"") | H22: =IFERROR(IF(VLOOKUP(D22,從此工作表的A2貼上你的成績總表!$K$2:$Q$252,4,0 )=0,"",VLOOKUP(D22,從此工作表的A2貼上你的成績總表!$K$2:$Q$252,4,0 )),"") | I22: =IFERROR(IF(VLOOKUP(D22,從此工作表的A2貼上你的成績總表!$K$2:$Q$252,5,0 )=0,"",VLOOKUP(D22,從此工作表的A2貼上你的成績總表!$K$2:$Q$252,5,0 )),"") | J22: =IFERROR(IF(VLOOKUP(D22,從此工作表的A2貼上你的成績總表!$K$2:$Q$252,6,0 )=0,"",VLOOKUP(D22,從此工作表的A2貼上你的成績總表!$K$2:$Q$252,6,0 )),"") | K22: =IFERROR(IF(VLOOKUP(D22,從此工作表的A2貼上你的成績總表!$K$2:$Q$252,7,0 )=0,"",VLOOKUP(D22,從此工作表的A2貼上你的成績總表!$K$2:$Q$252,7,0 )),"")
B23: 二年級 | C23: 第一學期 | D23: 工程數學（Ⅱ） | F23: 必 | G23: =IFERROR(IF(VLOOKUP(D23,從此工作表的A2貼上你的成績總表!$K$2:$Q$252,3,0 )=0,"",VLOOKUP(D23,從此工作表的A2貼上你的成績總表!$K$2:$Q$252,3,0 )),"") | H23: =IFERROR(IF(VLOOKUP(D23,從此工作表的A2貼上你的成績總表!$K$2:$Q$252,4,0 )=0,"",VLOOKUP(D23,從此工作表的A2貼上你的成績總表!$K$2:$Q$252,4,0 )),"") | I23: =IFERROR(IF(VLOOKUP(D23,從此工作表的A2貼上你的成績總表!$K$2:$Q$252,5,0 )=0,"",VLOOKUP(D23,從此工作表的A2貼上你的成績總表!$K$2:$Q$252,5,0 )),"") | J23: =IFERROR(IF(VLOOKUP(D23,從此工作表的A2貼上你的成績總表!$K$2:$Q$252,6,0 )=0,"",VLOOKUP(D23,從此工作表的A2貼上你的成績總表!$K$2:$Q$252,6,0 )),"") | K23: =IFERROR(IF(VLOOKUP(D23,從此工作表的A2貼上你的成績總表!$K$2:$Q$252,7,0 )=0,"",VLOOKUP(D23,從此工作表的A2貼上你的成績總表!$K$2:$Q$252,7,0 )),"")
D24: 電子學（Ⅰ） | F24: 必 | G24: =IFERROR(IF(VLOOKUP(D24,從此工作表的A2貼上你的成績總表!$K$2:$Q$252,3,0 )=0,"",VLOOKUP(D24,從此工作表的A2貼上你的成績總表!$K$2:$Q$252,3,0 )),"") | H24: =IFERROR(IF(VLOOKUP(D24,從此工作表的A2貼上你的成績總表!$K$2:$Q$252,4,0 )=0,"",VLOOKUP(D24,從此工作表的A2貼上你的成績總表!$K$2:$Q$252,4,0 )),"") | I24: =IFERROR(IF(VLOOKUP(D24,從此工作表的A2貼上你的成績總表!$K$2:$Q$252,5,0 )=0,"",VLOOKUP(D24,從此工作表的A2貼上你的成績總表!$K$2:$Q$252,5,0 )),"") | J24: =IFERROR(IF(VLOOKUP(D24,從此工作表的A2貼上你的成績總表!$K$2:$Q$252,6,0 )=0,"",VLOOKUP(D24,從此工作表的A2貼上你的成績總表!$K$2:$Q$252,6,0 )),"") | K24: =IFERROR(IF(VLOOKUP(D24,從此工作表的A2貼上你的成績總表!$K$2:$Q$252,7,0 )=0,"",VLOOKUP(D24,從此工作表的A2貼上你的成績總表!$K$2:$Q$252,7,0 )),"")
D25: 電路學（Ⅰ） | F25: 必 | G25: =IFERROR(IF(VLOOKUP(D25,從此工作表的A2貼上你的成績總表!$K$2:$Q$252,3,0 )=0,"",VLOOKUP(D25,從此工作表的A2貼上你的成績總表!$K$2:$Q$252,3,0 )),"") | H25: =IFERROR(IF(VLOOKUP(D25,從此工作表的A2貼上你的成績總表!$K$2:$Q$252,4,0 )=0,"",VLOOKUP(D25,從此工作表的A2貼上你的成績總表!$K$2:$Q$252,4,0 )),"") | I25: =IFERROR(IF(VLOOKUP(D25,從此工作表的A2貼上你的成績總表!$K$2:$Q$252,5,0 )=0,"",VLOOKUP(D25,從此工作表的A2貼上你的成績總表!$K$2:$Q$252,5,0 )),"") | J25: =IFERROR(IF(VLOOKUP(D25,從此工作表的A2貼上你的成績總表!$K$2:$Q$252,6,0 )=0,"",VLOOKUP(D25,從此工作表的A2貼上你的成績總表!$K$2:$Q$252,6,0 )),"") | K25: =IFERROR(IF(VLOOKUP(D25,從此工作表的A2貼上你的成績總表!$K$2:$Q$252,7,0 )=0,"",VLOOKUP(D25,從此工作表的A2貼上你的成績總表!$K$2:$Q$252,7,0 )),"")
D26: 電工實驗（Ⅰ） | F26: 必 | G26: =IFERROR(IF(VLOOKUP(D26,從此工作表的A2貼上你的成績總表!$K$2:$Q$252,3,0 )=0,"",VLOOKUP(D26,從此工作表的A2貼上你的成績總表!$K$2:$Q$252,3,0 )),"") | H26: =IFERROR(IF(VLOOKUP(D26,從此工作表的A2貼上你的成績總表!$K$2:$Q$252,4,0 )=0,"",VLOOKUP(D26,從此工作表的A2貼上你的成績總表!$K$2:$Q$252,4,0 )),"") | I26: =IFERROR(IF(VLOOKUP(D26,從此工作表的A2貼上你的成績總表!$K$2:$Q$252,5,0 )=0,"",VLOOKUP(D26,從此工作表的A2貼上你的成績總表!$K$2:$Q$252,5,0 )),"") | J26: =IFERROR(IF(VLOOKUP(D26,從此工作表的A2貼上你的成績總表!$K$2:$Q$252,6,0 )=0,"",VLOOKUP(D26,從此工作表的A2貼上你的成績總表!$K$2:$Q$252,6,0 )),"") | K26: =IFERROR(IF(VLOOKUP(D26,從此工作表的A2貼上你的成績總表!$K$2:$Q$252,7,0 )=0,"",VLOOKUP(D26,從此工作表的A2貼上你的成績總表!$K$2:$Q$252,7,0 )),"")
D27: 系統軟體實習 | F27: 必 | G27: =IFERROR(IF(VLOOKUP(D27,從此工作表的A2貼上你的成績總表!$K$2:$Q$252,3,0 )=0,"",VLOOKUP(D27,從此工作表的A2貼上你的成績總表!$K$2:$Q$252,3,0 )),"") | H27: =IFERROR(IF(VLOOKUP(D27,從此工作表的A2貼上你的成績總表!$K$2:$Q$252,4,0 )=0,"",VLOOKUP(D27,從此工作表的A2貼上你的成績總表!$K$2:$Q$252,4,0 )),"") | I27: =IFERROR(IF(VLOOKUP(D27,從此工作表的A2貼上你的成績總表!$K$2:$Q$252,5,0 )=0,"",VLOOKUP(D27,從此工作表的A2貼上你的成績總表!$K$2:$Q$252,5,0 )),"") | J27: =IFERROR(IF(VLOOKUP(D27,從此工作表的A2貼上你的成績總表!$K$2:$Q$252,6,0 )=0,"",VLOOKUP(D27,從此工作表的A2貼上你的成績總表!$K$2:$Q$252,6,0 )),"") | K27: =IFERROR(IF(VLOOKUP(D27,從此工作表的A2貼上你的成績總表!$K$2:$Q$252,7,0 )=0,"",VLOOKUP(D27,從此工作表的A2貼上你的成績總表!$K$2:$Q$252,7,0 )),"")
D28: 電子電路軟體實習 | F28: 必 | G28: =IFERROR(IF(VLOOKUP(D28,從此工作表的A2貼上你的成績總表!$K$2:$Q$252,3,0 )=0,"",VLOOKUP(D28,從此工作表的A2貼上你的成績總表!$K$2:$Q$252,3,0 )),"") | H28: =IFERROR(IF(VLOOKUP(D28,從此工作表的A2貼上你的成績總表!$K$2:$Q$252,4,0 )=0,"",VLOOKUP(D28,從此工作表的A2貼上你的成績總表!$K$2:$Q$252,4,0 )),"") | I28: =IFERROR(IF(VLOOKUP(D28,從此工作表的A2貼上你的成績總表!$K$2:$Q$252,5,0 )=0,"",VLOOKUP(D28,從此工作表的A2貼上你的成績總表!$K$2:$Q$252,5,0 )),"") | J28: =IFERROR(IF(VLOOKUP(D28,從此工作表的A2貼上你的成績總表!$K$2:$Q$252,6,0 )=0,"",VLOOKUP(D28,從此工作表的A2貼上你的成績總表!$K$2:$Q$252,6,0 )),"") | K28: =IFERROR(IF(VLOOKUP(D28,從此工作表的A2貼上你的成績總表!$K$2:$Q$252,7,0 )=0,"",VLOOKUP(D28,從此工作表的A2貼上你的成績總表!$K$2:$Q$252,7,0 )),"")
D29: 大二英文 | F29: 必 | G29: =IFERROR(IF(VLOOKUP(D29,從此工作表的A2貼上你的成績總表!$K$2:$Q$252,3,0 )=0,"",VLOOKUP(D29,從此工作表的A2貼上你的成績總表!$K$2:$Q$252,3,0 )),"") | H29: =IFERROR(IF(VLOOKUP(D29,從此工作表的A2貼上你的成績總表!$K$2:$Q$252,4,0 )=0,"",VLOOKUP(D29,從此工作表的A2貼上你的成績總表!$K$2:$Q$252,4,0 )),"") | I29: =IFERROR(IF(VLOOKUP(D29,從此工作表的A2貼上你的成績總表!$K$2:$Q$252,5,0 )=0,"",VLOOKUP(D29,從此工作表的A2貼上你的成績總表!$K$2:$Q$252,5,0 )),"") | J29: =IFERROR(IF(VLOOKUP(D29,從此工作表的A2貼上你的成績總表!$K$2:$Q$252,6,0 )=0,"",VLOOKUP(D29,從此工作表的A2貼上你的成績總表!$K$2:$Q$252,6,0 )),"") | K29: =IFERROR(IF(VLOOKUP(D29,從此工作表的A2貼上你的成績總表!$K$2:$Q$252,7,0 )=0,"",VLOOKUP(D29,從此工作表的A2貼上你的成績總表!$K$2:$Q$252,7,0 )),"")
D30: 大二體育 | F30: 必 | G30: =IFERROR(IF(VLOOKUP(D30,從此工作表的A2貼上你的成績總表!$K$2:$Q$252,3,0 )=0,"",VLOOKUP(D30,從此工作表的A2貼上你的成績總表!$K$2:$Q$252,3,0 )),"") | H30: =IFERROR(IF(VLOOKUP(D30,從此工作表的A2貼上你的成績總表!$K$2:$Q$252,4,0 )=0,"",VLOOKUP(D30,從此工作表的A2貼上你的成績總表!$K$2:$Q$252,4,0 )),"") | I30: =IFERROR(IF(VLOOKUP(D30,從此工作表的A2貼上你的成績總表!$K$2:$Q$252,5,0 )=0,"",VLOOKUP(D30,從此工作表的A2貼上你的成績總表!$K$2:$Q$252,5,0 )),"") | J30: =IFERROR(IF(VLOOKUP(D30,從此工作表的A2貼上你的成績總表!$K$2:$Q$252,6,0 )=0,"",VLOOKUP(D30,從此工作表的A2貼上你的成績總表!$K$2:$Q$252,6,0 )),"") | K30: =IFERROR(IF(VLOOKUP(D30,從此工作表的A2貼上你的成績總表!$K$2:$Q$252,7,0 )=0,"",VLOOKUP(D30,從此工作表的A2貼上你的成績總表!$K$2:$Q$252,7,0 )),"")
C31: 第二學期 | D31: 電子學（Ⅱ） | F31: 必 | G31: =IFERROR(IF(VLOOKUP(D31,從此工作表的A2貼上你的成績總表!$K$2:$Q$252,3,0 )=0,"",VLOOKUP(D31,從此工作表的A2貼上你的成績總表!$K$2:$Q$252,3,0 )),"") | H31: =IFERROR(IF(VLOOKUP(D31,從此工作表的A2貼上你的成績總表!$K$2:$Q$252,4,0 )=0,"",VLOOKUP(D31,從此工作表的A2貼上你的成績總表!$K$2:$Q$252,4,0 )),"") | I31: =IFERROR(IF(VLOOKUP(D31,從此工作表的A2貼上你的成績總表!$K$2:$Q$252,5,0 )=0,"",VLOOKUP(D31,從此工作表的A2貼上你的成績總表!$K$2:$Q$252,5,0 )),"") | J31: =IFERROR(IF(VLOOKUP(D31,從此工作表的A2貼上你的成績總表!$K$2:$Q$252,6,0 )=0,"",VLOOKUP(D31,從此工作表的A2貼上你的成績總表!$K$2:$Q$252,6,0 )),"") | K31: =IFERROR(IF(VLOOKUP(D31,從此工作表的A2貼上你的成績總表!$K$2:$Q$252,7,0 )=0,"",VLOOKUP(D31,從此工作表的A2貼上你的成績總表!$K$2:$Q$252,7,0 )),"")
D32: 電路學（Ⅱ） | F32: 必 | G32: =IFERROR(IF(VLOOKUP(D32,從此工作表的A2貼上你的成績總表!$K$2:$Q$252,3,0 )=0,"",VLOOKUP(D32,從此工作表的A2貼上你的成績總表!$K$2:$Q$252,3,0 )),"") | H32: =IFERROR(IF(VLOOKUP(D32,從此工作表的A2貼上你的成績總表!$K$2:$Q$252,4,0 )=0,"",VLOOKUP(D32,從此工作表的A2貼上你的成績總表!$K$2:$Q$252,4,0 )),"") | I32: =IFERROR(IF(VLOOKUP(D32,從此工作表的A2貼上你的成績總表!$K$2:$Q$252,5,0 )=0,"",VLOOKUP(D32,從此工作表的A2貼上你的成績總表!$K$2:$Q$252,5,0 )),"") | J32: =IFERROR(IF(VLOOKUP(D32,從此工作表的A2貼上你的成績總表!$K$2:$Q$252,6,0 )=0,"",VLOOKUP(D32,從此工作表的A2貼上你的成績總表!$K$2:$Q$252,6,0 )),"") | K32: =IFERROR(IF(VLOOKUP(D32,從此工作表的A2貼上你的成績總表!$K$2:$Q$252,7,0 )=0,"",VLOOKUP(D32,從此工作表的A2貼上你的成績總表!$K$2:$Q$252,7,0 )),"")
D33: 電工實驗（Ⅱ） | F33: 必 | G33: =IFERROR(IF(VLOOKUP(D33,從此工作表的A2貼上你的成績總表!$K$2:$Q$252,3,0 )=0,"",VLOOKUP(D33,從此工作表的A2貼上你的成績總表!$K$2:$Q$252,3,0 )),"") | H33: =IFERROR(IF(VLOOKUP(D33,從此工作表的A2貼上你的成績總表!$K$2:$Q$252,4,0 )=0,"",VLOOKUP(D33,從此工作表的A2貼上你的成績總表!$K$2:$Q$252,4,0 )),"") | I33: =IFERROR(IF(VLOOKUP(D33,從此工作表的A2貼上你的成績總表!$K$2:$Q$252,5,0 )=0,"",VLOOKUP(D33,從此工作表的A2貼上你的成績總表!$K$2:$Q$252,5,0 )),"") | J33: =IFERROR(IF(VLOOKUP(D33,從此工作表的A2貼上你的成績總表!$K$2:$Q$252,6,0 )=0,"",VLOOKUP(D33,從此工作表的A2貼上你的成績總表!$K$2:$Q$252,6,0 )),"") | K33: =IFERROR(IF(VLOOKUP(D33,從此工作表的A2貼上你的成績總表!$K$2:$Q$252,7,0 )=0,"",VLOOKUP(D33,從此工作表的A2貼上你的成績總表!$K$2:$Q$252,7,0 )),"")
D34: 電磁學（Ⅰ） | F34: 必 | G34: =IFERROR(IF(VLOOKUP(D34,從此工作表的A2貼上你的成績總表!$K$2:$Q$252,3,0 )=0,"",VLOOKUP(D34,從此工作表的A2貼上你的成績總表!$K$2:$Q$252,3,0 )),"") | H34: =IFERROR(IF(VLOOKUP(D34,從此工作表的A2貼上你的成績總表!$K$2:$Q$252,4,0 )=0,"",VLOOKUP(D34,從此工作表的A2貼上你的成績總表!$K$2:$Q$252,4,0 )),"") | I34: =IFERROR(IF(VLOOKUP(D34,從此工作表的A2貼上你的成績總表!$K$2:$Q$252,5,0 )=0,"",VLOOKUP(D34,從此工作表的A2貼上你的成績總表!$K$2:$Q$252,5,0 )),"") | J34: =IFERROR(IF(VLOOKUP(D34,從此工作表的A2貼上你的成績總表!$K$2:$Q$252,6,0 )=0,"",VLOOKUP(D34,從此工作表的A2貼上你的成績總表!$K$2:$Q$252,6,0 )),"") | K34: =IFERROR(IF(VLOOKUP(D34,從此工作表的A2貼上你的成績總表!$K$2:$Q$252,7,0 )=0,"",VLOOKUP(D34,從此工作表的A2貼上你的成績總表!$K$2:$Q$252,7,0 )),"")
D35: 訊號與系統 | F35: 必 | G35: =IFERROR(IF(VLOOKUP(D35,從此工作表的A2貼上你的成績總表!$K$2:$Q$252,3,0 )=0,"",VLOOKUP(D35,從此工作表的A2貼上你的成績總表!$K$2:$Q$252,3,0 )),"") | H35: =IFERROR(IF(VLOOKUP(D35,從此工作表的A2貼上你的成績總表!$K$2:$Q$252,4,0 )=0,"",VLOOKUP(D35,從此工作表的A2貼上你的成績總表!$K$2:$Q$252,4,0 )),"") | I35: =IFERROR(IF(VLOOKUP(D35,從此工作表的A2貼上你的成績總表!$K$2:$Q$252,5,0 )=0,"",VLOOKUP(D35,從此工作表的A2貼上你的成績總表!$K$2:$Q$252,5,0 )),"") | J35: =IFERROR(IF(VLOOKUP(D35,從此工作表的A2貼上你的成績總表!$K$2:$Q$252,6,0 )=0,"",VLOOKUP(D35,從此工作表的A2貼上你的成績總表!$K$2:$Q$252,6,0 )),"") | K35: =IFERROR(IF(VLOOKUP(D35,從此工作表的A2貼上你的成績總表!$K$2:$Q$252,7,0 )=0,"",VLOOKUP(D35,從此工作表的A2貼上你的成績總表!$K$2:$Q$252,7,0 )),"")
D36: 大二英文 | F36: 必 | G36: =IFERROR(IF(VLOOKUP(D36,從此工作表的A2貼上你的成績總表!$K$2:$Q$252,3,0 )=0,"",VLOOKUP(D36,從此工作表的A2貼上你的成績總表!$K$2:$Q$252,3,0 )),"") | H36: =IFERROR(IF(VLOOKUP(D36,從此工作表的A2貼上你的成績總表!$K$2:$Q$252,4,0 )=0,"",VLOOKUP(D36,從此工作表的A2貼上你的成績總表!$K$2:$Q$252,4,0 )),"") | I36: =IFERROR(IF(VLOOKUP(D36,從此工作表的A2貼上你的成績總表!$K$2:$Q$252,5,0 )=0,"",VLOOKUP(D36,從此工作表的A2貼上你的成績總表!$K$2:$Q$252,5,0 )),"") | J36: =IFERROR(IF(VLOOKUP(D36,從此工作表的A2貼上你的成績總表!$K$2:$Q$252,6,0 )=0,"",VLOOKUP(D36,從此工作表的A2貼上你的成績總表!$K$2:$Q$252,6,0 )),"") | K36: =IFERROR(IF(VLOOKUP(D36,從此工作表的A2貼上你的成績總表!$K$2:$Q$252,7,0 )=0,"",VLOOKUP(D36,從此工作表的A2貼上你的成績總表!$K$2:$Q$252,7,0 )),"")
D37: 大二體育 | F37: 必 | G37: =IFERROR(IF(VLOOKUP(D37,從此工作表的A2貼上你的成績總表!$K$2:$Q$252,3,0 )=0,"",VLOOKUP(D37,從此工作表的A2貼上你的成績總表!$K$2:$Q$252,3,0 )),"") | H37: =IFERROR(IF(VLOOKUP(D37,從此工作表的A2貼上你的成績總表!$K$2:$Q$252,4,0 )=0,"",VLOOKUP(D37,從此工作表的A2貼上你的成績總表!$K$2:$Q$252,4,0 )),"") | I37: =IFERROR(IF(VLOOKUP(D37,從此工作表的A2貼上你的成績總表!$K$2:$Q$252,5,0 )=0,"",VLOOKUP(D37,從此工作表的A2貼上你的成績總表!$K$2:$Q$252,5,0 )),"") | J37: =IFERROR(IF(VLOOKUP(D37,從此工作表的A2貼上你的成績總表!$K$2:$Q$252,6,0 )=0,"",VLOOKUP(D37,從此工作表的A2貼上你的成績總表!$K$2:$Q$252,6,0 )),"") | K37: =IFERROR(IF(VLOOKUP(D37,從此工作表的A2貼上你的成績總表!$K$2:$Q$252,7,0 )=0,"",VLOOKUP(D37,從此工作表的A2貼上你的成績總表!$K$2:$Q$252,7,0 )),"")
A38: 必修 | B38: 三年級 | C38: 第一二學期 | D38: 電磁學（Ⅱ） | F38: 必 | G38: =IFERROR(IF(VLOOKUP(D38,從此工作表的A2貼上你的成績總表!$K$2:$Q$252,3,0 )=0,"",VLOOKUP(D38,從此工作表的A2貼上你的成績總表!$K$2:$Q$252,3,0 )),"") | H38: =IFERROR(IF(VLOOKUP(D38,從此工作表的A2貼上你的成績總表!$K$2:$Q$252,4,0 )=0,"",VLOOKUP(D38,從此工作表的A2貼上你的成績總表!$K$2:$Q$252,4,0 )),"") | I38: =IFERROR(IF(VLOOKUP(D38,從此工作表的A2貼上你的成績總表!$K$2:$Q$252,5,0 )=0,"",VLOOKUP(D38,從此工作表的A2貼上你的成績總表!$K$2:$Q$252,5,0 )),"") | J38: =IFERROR(IF(VLOOKUP(D38,從此工作表的A2貼上你的成績總表!$K$2:$Q$252,6,0 )=0,"",VLOOKUP(D38,從此工作表的A2貼上你的成績總表!$K$2:$Q$252,6,0 )),"") | K38: =IFERROR(IF(VLOOKUP(D38,從此工作表的A2貼上你的成績總表!$K$2:$Q$252,7,0 )=0,"",VLOOKUP(D38,從此工作表的A2貼上你的成績總表!$K$2:$Q$252,7,0 )),"")
D39: 專題研究 | F39: 必 | G39: =IFERROR(IF(VLOOKUP(D39,從此工作表的A2貼上你的成績總表!$K$2:$Q$252,3,0 )=0,"",VLOOKUP(D39,從此工作表的A2貼上你的成績總表!$K$2:$Q$252,3,0 )),"") | H39: =IFERROR(IF(VLOOKUP(D39,從此工作表的A2貼上你的成績總表!$K$2:$Q$252,4,0 )=0,"",VLOOKUP(D39,從此工作表的A2貼上你的成績總表!$K$2:$Q$252,4,0 )),"") | I39: =IFERROR(IF(VLOOKUP(D39,從此工作表的A2貼上你的成績總表!$K$2:$Q$252,5,0 )=0,"",VLOOKUP(D39,從此工作表的A2貼上你的成績總表!$K$2:$Q$252,5,0 )),"") | J39: =IFERROR(IF(VLOOKUP(D39,從此工作表的A2貼上你的成績總表!$K$2:$Q$252,6,0 )=0,"",VLOOKUP(D39,從此工作表的A2貼上你的成績總表!$K$2:$Q$252,6,0 )),"") | K39: =IFERROR(IF(VLOOKUP(D39,從此工作表的A2貼上你的成績總表!$K$2:$Q$252,7,0 )=0,"",VLOOKUP(D39,從此工作表的A2貼上你的成績總表!$K$2:$Q$252,7,0 )),"")
D40: 專題實作 | F40: 必 | G40: =IFERROR(IF(VLOOKUP(D40,從此工作表的A2貼上你的成績總表!$K$2:$Q$252,3,0 )=0,"",VLOOKUP(D40,從此工作表的A2貼上你的成績總表!$K$2:$Q$252,3,0 )),"") | H40: =IFERROR(IF(VLOOKUP(D40,從此工作表的A2貼上你的成績總表!$K$2:$Q$252,4,0 )=0,"",VLOOKUP(D40,從此工作表的A2貼上你的成績總表!$K$2:$Q$252,4,0 )),"") | I40: =IFERROR(IF(VLOOKUP(D40,從此工作表的A2貼上你的成績總表!$K$2:$Q$252,5,0 )=0,"",VLOOKUP(D40,從此工作表的A2貼上你的成績總表!$K$2:$Q$252,5,0 )),"") | J40: =IFERROR(IF(VLOOKUP(D40,從此工作表的A2貼上你的成績總表!$K$2:$Q$252,6,0 )=0,"",VLOOKUP(D40,從此工作表的A2貼上你的成績總表!$K$2:$Q$252,6,0 )),"") | K40: =IFERROR(IF(VLOOKUP(D40,從此工作表的A2貼上你的成績總表!$K$2:$Q$252,7,0 )=0,"",VLOOKUP(D40,從此工作表的A2貼上你的成績總表!$K$2:$Q$252,7,0 )),"")
A41: 通識 | D41: 通識四領域選三領域：人文、自然、社會、文明與經典 | K41: 14
A42: 其他/一般選修 | F42: =IF(D42<>"","選","") | G42: =IFERROR(IF(VLOOKUP(D42,工作表2!$B$1:$H$800,3,0 )=0,"",VLOOKUP(D42,工作表2!$B$1:$H$800,3,0 )),"") | H42: =IFERROR(IF(VLOOKUP(D42,工作表2!$B$1:$H$800,4,0 )=0,"",VLOOKUP(D42,工作表2!$B$1:$H$800,4,0 )),"") | I42: =IFERROR(IF(VLOOKUP(D42,工作表2!$B$1:$H$800,5,0 )=0,"",VLOOKUP(D42,工作表2!$B$1:$H$800,5,0 )),"") | J42: =IFERROR(IF(VLOOKUP(D42,工作表2!$B$1:$H$800,6,0 )=0,"",VLOOKUP(D42,工作表2!$B$1:$H$800,6,0 )),"") | K42: =IFERROR(IF(VLOOKUP(D42,工作表2!$B$1:$H$800,7,0 )=0,"",VLOOKUP(D42,工作表2!$B$1:$H$800,7,0 )),"") | M42: =IF(從此工作表的A2貼上你的成績總表!AA2<>0,從此工作表的A2貼上你的成績總表!AA2,"") -> #VALUE!
F43: =IF(D43<>"","選","") | G43: =IFERROR(IF(VLOOKUP(D43,工作表2!$B$1:$H$800,3,0 )=0,"",VLOOKUP(D43,工作表2!$B$1:$H$800,3,0 )),"") | H43: =IFERROR(IF(VLOOKUP(D43,工作表2!$B$1:$H$800,4,0 )=0,"",VLOOKUP(D43,工作表2!$B$1:$H$800,4,0 )),"") | I43: =IFERROR(IF(VLOOKUP(D43,工作表2!$B$1:$H$800,5,0 )=0,"",VLOOKUP(D43,工作表2!$B$1:$H$800,5,0 )),"") | J43: =IFERROR(IF(VLOOKUP(D43,工作表2!$B$1:$H$800,6,0 )=0,"",VLOOKUP(D43,工作表2!$B$1:$H$800,6,0 )),"") | K43: =IFERROR(IF(VLOOKUP(D43,工作表2!$B$1:$H$800,7,0 )=0,"",VLOOKUP(D43,工作表2!$B$1:$H$800,7,0 )),"") | M43: =IF(從此工作表的A2貼上你的成績總表!AA3<>0,從此工作表的A2貼上你的成績總表!AA3,"")
F44: =IF(D44<>"","選","") | G44: =IFERROR(IF(VLOOKUP(D44,工作表2!$B$1:$H$800,3,0 )=0,"",VLOOKUP(D44,工作表2!$B$1:$H$800,3,0 )),"") | H44: =IFERROR(IF(VLOOKUP(D44,工作表2!$B$1:$H$800,4,0 )=0,"",VLOOKUP(D44,工作表2!$B$1:$H$800,4,0 )),"") | I44: =IFERROR(IF(VLOOKUP(D44,工作表2!$B$1:$H$800,5,0 )=0,"",VLOOKUP(D44,工作表2!$B$1:$H$800,5,0 )),"") | J44: =IFERROR(IF(VLOOKUP(D44,工作表2!$B$1:$H$800,6,0 )=0,"",VLOOKUP(D44,工作表2!$B$1:$H$800,6,0 )),"") | K44: =IFERROR(IF(VLOOKUP(D44,工作表2!$B$1:$H$800,7,0 )=0,"",VLOOKUP(D44,工作表2!$B$1:$H$800,7,0 )),"") | M44: =IF(從此工作表的A2貼上你的成績總表!AA4<>0,從此工作表的A2貼上你的成績總表!AA4,"")
F45: =IF(D45<>"","選","") | G45: =IFERROR(IF(VLOOKUP(D45,工作表2!$B$1:$H$800,3,0 )=0,"",VLOOKUP(D45,工作表2!$B$1:$H$800,3,0 )),"") | H45: =IFERROR(IF(VLOOKUP(D45,工作表2!$B$1:$H$800,4,0 )=0,"",VLOOKUP(D45,工作表2!$B$1:$H$800,4,0 )),"") | I45: =IFERROR(IF(VLOOKUP(D45,工作表2!$B$1:$H$800,5,0 )=0,"",VLOOKUP(D45,工作表2!$B$1:$H$800,5,0 )),"") | J45: =IFERROR(IF(VLOOKUP(D45,工作表2!$B$1:$H$800,6,0 )=0,"",VLOOKUP(D45,工作表2!$B$1:$H$800,6,0 )),"") | K45: =IFERROR(IF(VLOOKUP(D45,工作表2!$B$1:$H$800,7,0 )=0,"",VLOOKUP(D45,工作表2!$B$1:$H$800,7,0 )),"") | M45: =IF(從此工作表的A2貼上你的成績總表!AA5<>0,從此工作表的A2貼上你的成績總表!AA5,"")
F46: =IF(D46<>"","選","") | G46: =IFERROR(IF(VLOOKUP(D46,工作表2!$B$1:$H$800,3,0 )=0,"",VLOOKUP(D46,工作表2!$B$1:$H$800,3,0 )),"") | H46: =IFERROR(IF(VLOOKUP(D46,工作表2!$B$1:$H$800,4,0 )=0,"",VLOOKUP(D46,工作表2!$B$1:$H$800,4,0 )),"") | I46: =IFERROR(IF(VLOOKUP(D46,工作表2!$B$1:$H$800,5,0 )=0,"",VLOOKUP(D46,工作表2!$B$1:$H$800,5,0 )),"") | J46: =IFERROR(IF(VLOOKUP(D46,工作表2!$B$1:$H$800,6,0 )=0,"",VLOOKUP(D46,工作表2!$B$1:$H$800,6,0 )),"") | K46: =IFERROR(IF(VLOOKUP(D46,工作表2!$B$1:$H$800,7,0 )=0,"",VLOOKUP(D46,工作表2!$B$1:$H$800,7,0 )),"") | M46: =IF(從此工作表的A2貼上你的成績總表!AA6<>0,從此工作表的A2貼上你的成績總表!AA6,"")
F47: =IF(D47<>"","選","") | G47: =IFERROR(IF(VLOOKUP(D47,工作表2!$B$1:$H$800,3,0 )=0,"",VLOOKUP(D47,工作表2!$B$1:$H$800,3,0 )),"") | H47: =IFERROR(IF(VLOOKUP(D47,工作表2!$B$1:$H$800,4,0 )=0,"",VLOOKUP(D47,工作表2!$B$1:$H$800,4,0 )),"") | I47: =IFERROR(IF(VLOOKUP(D47,工作表2!$B$1:$H$800,5,0 )=0,"",VLOOKUP(D47,工作表2!$B$1:$H$800,5,0 )),"") | J47: =IFERROR(IF(VLOOKUP(D47,工作表2!$B$1:$H$800,6,0 )=0,"",VLOOKUP(D47,工作表2!$B$1:$H$800,6,0 )),"") | K47: =IFERROR(IF(VLOOKUP(D47,工作表2!$B$1:$H$800,7,0 )=0,"",VLOOKUP(D47,工作表2!$B$1:$H$800,7,0 )),"") | M47: =IF(從此工作表的A2貼上你的成績總表!AA7<>0,從此工作表的A2貼上你的成績總表!AA7,"")
F48: =IF(D48<>"","選","") | G48: =IFERROR(IF(VLOOKUP(D48,工作表2!$B$1:$H$800,3,0 )=0,"",VLOOKUP(D48,工作表2!$B$1:$H$800,3,0 )),"") | H48: =IFERROR(IF(VLOOKUP(D48,工作表2!$B$1:$H$800,4,0 )=0,"",VLOOKUP(D48,工作表2!$B$1:$H$800,4,0 )),"") | I48: =IFERROR(IF(VLOOKUP(D48,工作表2!$B$1:$H$800,5,0 )=0,"",VLOOKUP(D48,工作表2!$B$1:$H$800,5,0 )),"") | J48: =IFERROR(IF(VLOOKUP(D48,工作表2!$B$1:$H$800,6,0 )=0,"",VLOOKUP(D48,工作表2!$B$1:$H$800,6,0 )),"") | K48: =IFERROR(IF(VLOOKUP(D48,工作表2!$B$1:$H$800,7,0 )=0,"",VLOOKUP(D48,工作表2!$B$1:$H$800,7,0 )),"") | M48: =IF(從此工作表的A2貼上你的成績總表!AA8<>0,從此工作表的A2貼上你的成績總表!AA8,"")
F49: =IF(D49<>"","選","") | G49: =IFERROR(IF(VLOOKUP(D49,工作表2!$B$1:$H$800,3,0 )=0,"",VLOOKUP(D49,工作表2!$B$1:$H$800,3,0 )),"") | H49: =IFERROR(IF(VLOOKUP(D49,工作表2!$B$1:$H$800,4,0 )=0,"",VLOOKUP(D49,工作表2!$B$1:$H$800,4,0 )),"") | I49: =IFERROR(IF(VLOOKUP(D49,工作表2!$B$1:$H$800,5,0 )=0,"",VLOOKUP(D49,工作表2!$B$1:$H$800,5,0 )),"") | J49: =IFERROR(IF(VLOOKUP(D49,工作表2!$B$1:$H$800,6,0 )=0,"",VLOOKUP(D49,工作表2!$B$1:$H$800,6,0 )),"") | K49: =IFERROR(IF(VLOOKUP(D49,工作表2!$B$1:$H$800,7,0 )=0,"",VLOOKUP(D49,工作表2!$B$1:$H$800,7,0 )),"") | M49: =IF(從此工作表的A2貼上你的成績總表!AA9<>0,從此工作表的A2貼上你的成績總表!AA9,"")
F50: =IF(D50<>"","選","") | G50: =IFERROR(IF(VLOOKUP(D50,工作表2!$B$1:$H$800,3,0 )=0,"",VLOOKUP(D50,工作表2!$B$1:$H$800,3,0 )),"") | H50: =IFERROR(IF(VLOOKUP(D50,工作表2!$B$1:$H$800,4,0 )=0,"",VLOOKUP(D50,工作表2!$B$1:$H$800,4,0 )),"") | I50: =IFERROR(IF(VLOOKUP(D50,工作表2!$B$1:$H$800,5,0 )=0,"",VLOOKUP(D50,工作表2!$B$1:$H$800,5,0 )),"") | J50: =IFERROR(IF(VLOOKUP(D50,工作表2!$B$1:$H$800,6,0 )=0,"",VLOOKUP(D50,工作表2!$B$1:$H$800,6,0 )),"") | K50: =IFERROR(IF(VLOOKUP(D50,工作表2!$B$1:$H$800,7,0 )=0,"",VLOOKUP(D50,工作表2!$B$1:$H$800,7,0 )),"") | M50: =IF(從此工作表的A2貼上你的成績總表!AA10<>0,從此工作表的A2貼上你的成績總表!AA10,"")
F51: =IF(D51<>"","選","") | G51: =IFERROR(IF(VLOOKUP(D51,工作表2!$B$1:$H$800,3,0 )=0,"",VLOOKUP(D51,工作表2!$B$1:$H$800,3,0 )),"") | H51: =IFERROR(IF(VLOOKUP(D51,工作表2!$B$1:$H$800,4,0 )=0,"",VLOOKUP(D51,工作表2!$B$1:$H$800,4,0 )),"") | I51: =IFERROR(IF(VLOOKUP(D51,工作表2!$B$1:$H$800,5,0 )=0,"",VLOOKUP(D51,工作表2!$B$1:$H$800,5,0 )),"") | J51: =IFERROR(IF(VLOOKUP(D51,工作表2!$B$1:$H$800,6,0 )=0,"",VLOOKUP(D51,工作表2!$B$1:$H$800,6,0 )),"") | K51: =IFERROR(IF(VLOOKUP(D51,工作表2!$B$1:$H$800,7,0 )=0,"",VLOOKUP(D51,工作表2!$B$1:$H$800,7,0 )),"") | M51: =IF(從此工作表的A2貼上你的成績總表!AA11<>0,從此工作表的A2貼上你的成績總表!AA11,"")
F52: =IF(D52<>"","選","") | G52: =IFERROR(IF(VLOOKUP(D52,工作表2!$B$1:$H$800,3,0 )=0,"",VLOOKUP(D52,工作表2!$B$1:$H$800,3,0 )),"") | H52: =IFERROR(IF(VLOOKUP(D52,工作表2!$B$1:$H$800,4,0 )=0,"",VLOOKUP(D52,工作表2!$B$1:$H$800,4,0 )),"") | I52: =IFERROR(IF(VLOOKUP(D52,工作表2!$B$1:$H$800,5,0 )=0,"",VLOOKUP(D52,工作表2!$B$1:$H$800,5,0 )),"") | J52: =IFERROR(IF(VLOOKUP(D52,工作表2!$B$1:$H$800,6,0 )=0,"",VLOOKUP(D52,工作表2!$B$1:$H$800,6,0 )),"") | K52: =IFERROR(IF(VLOOKUP(D52,工作表2!$B$1:$H$800,7,0 )=0,"",VLOOKUP(D52,工作表2!$B$1:$H$800,7,0 )),"") | M52: =IF(從此工作表的A2貼上你的成績總表!AA12<>0,從此工作表的A2貼上你的成績總表!AA12,"")
F53: =IF(D53<>"","選","") | G53: =IFERROR(IF(VLOOKUP(D53,工作表2!$B$1:$H$800,3,0 )=0,"",VLOOKUP(D53,工作表2!$B$1:$H$800,3,0 )),"") | H53: =IFERROR(IF(VLOOKUP(D53,工作表2!$B$1:$H$800,4,0 )=0,"",VLOOKUP(D53,工作表2!$B$1:$H$800,4,0 )),"") | I53: =IFERROR(IF(VLOOKUP(D53,工作表2!$B$1:$H$800,5,0 )=0,"",VLOOKUP(D53,工作表2!$B$1:$H$800,5,0 )),"") | J53: =IFERROR(IF(VLOOKUP(D53,工作表2!$B$1:$H$800,6,0 )=0,"",VLOOKUP(D53,工作表2!$B$1:$H$800,6,0 )),"") | K53: =IFERROR(IF(VLOOKUP(D53,工作表2!$B$1:$H$800,7,0 )=0,"",VLOOKUP(D53,工作表2!$B$1:$H$800,7,0 )),"") | M53: =IF(從此工作表的A2貼上你的成績總表!AA13<>0,從此工作表的A2貼上你的成績總表!AA13,"")
F54: =IF(D54<>"","選","") | G54: =IFERROR(IF(VLOOKUP(D54,工作表2!$B$1:$H$800,3,0 )=0,"",VLOOKUP(D54,工作表2!$B$1:$H$800,3,0 )),"") | H54: =IFERROR(IF(VLOOKUP(D54,工作表2!$B$1:$H$800,4,0 )=0,"",VLOOKUP(D54,工作表2!$B$1:$H$800,4,0 )),"") | I54: =IFERROR(IF(VLOOKUP(D54,工作表2!$B$1:$H$800,5,0 )=0,"",VLOOKUP(D54,工作表2!$B$1:$H$800,5,0 )),"") | J54: =IFERROR(IF(VLOOKUP(D54,工作表2!$B$1:$H$800,6,0 )=0,"",VLOOKUP(D54,工作表2!$B$1:$H$800,6,0 )),"") | K54: =IFERROR(IF(VLOOKUP(D54,工作表2!$B$1:$H$800,7,0 )=0,"",VLOOKUP(D54,工作表2!$B$1:$H$800,7,0 )),"") | M54: =IF(從此工作表的A2貼上你的成績總表!AA14<>0,從此工作表的A2貼上你的成績總表!AA14,"")
F55: =IF(D55<>"","選","") | G55: =IFERROR(IF(VLOOKUP(D55,工作表2!$B$1:$H$800,3,0 )=0,"",VLOOKUP(D55,工作表2!$B$1:$H$800,3,0 )),"") | H55: =IFERROR(IF(VLOOKUP(D55,工作表2!$B$1:$H$800,4,0 )=0,"",VLOOKUP(D55,工作表2!$B$1:$H$800,4,0 )),"") | I55: =IFERROR(IF(VLOOKUP(D55,工作表2!$B$1:$H$800,5,0 )=0,"",VLOOKUP(D55,工作表2!$B$1:$H$800,5,0 )),"") | J55: =IFERROR(IF(VLOOKUP(D55,工作表2!$B$1:$H$800,6,0 )=0,"",VLOOKUP(D55,工作表2!$B$1:$H$800,6,0 )),"") | K55: =IFERROR(IF(VLOOKUP(D55,工作表2!$B$1:$H$800,7,0 )=0,"",VLOOKUP(D55,工作表2!$B$1:$H$800,7,0 )),"") | M55: =IF(從此工作表的A2貼上你的成績總表!AA15<>0,從此工作表的A2貼上你的成績總表!AA15,"")
F56: =IF(D56<>"","選","") | G56: =IFERROR(IF(VLOOKUP(D56,工作表2!$B$1:$H$800,3,0 )=0,"",VLOOKUP(D56,工作表2!$B$1:$H$800,3,0 )),"") | H56: =IFERROR(IF(VLOOKUP(D56,工作表2!$B$1:$H$800,4,0 )=0,"",VLOOKUP(D56,工作表2!$B$1:$H$800,4,0 )),"") | I56: =IFERROR(IF(VLOOKUP(D56,工作表2!$B$1:$H$800,5,0 )=0,"",VLOOKUP(D56,工作表2!$B$1:$H$800,5,0 )),"") | J56: =IFERROR(IF(VLOOKUP(D56,工作表2!$B$1:$H$800,6,0 )=0,"",VLOOKUP(D56,工作表2!$B$1:$H$800,6,0 )),"") | K56: =IFERROR(IF(VLOOKUP(D56,工作表2!$B$1:$H$800,7,0 )=0,"",VLOOKUP(D56,工作表2!$B$1:$H$800,7,0 )),"") | M56: =IF(從此工作表的A2貼上你的成績總表!AA16<>0,從此工作表的A2貼上你的成績總表!AA16,"")
F57: =IF(D57<>"","選","") | G57: =IFERROR(IF(VLOOKUP(D57,工作表2!$B$1:$H$800,3,0 )=0,"",VLOOKUP(D57,工作表2!$B$1:$H$800,3,0 )),"") | H57: =IFERROR(IF(VLOOKUP(D57,工作表2!$B$1:$H$800,4,0 )=0,"",VLOOKUP(D57,工作表2!$B$1:$H$800,4,0 )),"") | I57: =IFERROR(IF(VLOOKUP(D57,工作表2!$B$1:$H$800,5,0 )=0,"",VLOOKUP(D57,工作表2!$B$1:$H$800,5,0 )),"") | J57: =IFERROR(IF(VLOOKUP(D57,工作表2!$B$1:$H$800,6,0 )=0,"",VLOOKUP(D57,工作表2!$B$1:$H$800,6,0 )),"") | K57: =IFERROR(IF(VLOOKUP(D57,工作表2!$B$1:$H$800,7,0 )=0,"",VLOOKUP(D57,工作表2!$B$1:$H$800,7,0 )),"") | M57: =IF(從此工作表的A2貼上你的成績總表!AA17<>0,從此工作表的A2貼上你的成績總表!AA17,"")
F58: =IF(D58<>"","選","") | G58: =IFERROR(IF(VLOOKUP(D58,工作表2!$B$1:$H$800,3,0 )=0,"",VLOOKUP(D58,工作表2!$B$1:$H$800,3,0 )),"") | H58: =IFERROR(IF(VLOOKUP(D58,工作表2!$B$1:$H$800,4,0 )=0,"",VLOOKUP(D58,工作表2!$B$1:$H$800,4,0 )),"") | I58: =IFERROR(IF(VLOOKUP(D58,工作表2!$B$1:$H$800,5,0 )=0,"",VLOOKUP(D58,工作表2!$B$1:$H$800,5,0 )),"") | J58: =IFERROR(IF(VLOOKUP(D58,工作表2!$B$1:$H$800,6,0 )=0,"",VLOOKUP(D58,工作表2!$B$1:$H$800,6,0 )),"") | K58: =IFERROR(IF(VLOOKUP(D58,工作表2!$B$1:$H$800,7,0 )=0,"",VLOOKUP(D58,工作表2!$B$1:$H$800,7,0 )),"") | M58: =IF(從此工作表的A2貼上你的成績總表!AA18<>0,從此工作表的A2貼上你的成績總表!AA18,"")
F59: =IF(D59<>"","選","") | G59: =IFERROR(IF(VLOOKUP(D59,工作表2!$B$1:$H$800,3,0 )=0,"",VLOOKUP(D59,工作表2!$B$1:$H$800,3,0 )),"") | H59: =IFERROR(IF(VLOOKUP(D59,工作表2!$B$1:$H$800,4,0 )=0,"",VLOOKUP(D59,工作表2!$B$1:$H$800,4,0 )),"") | I59: =IFERROR(IF(VLOOKUP(D59,工作表2!$B$1:$H$800,5,0 )=0,"",VLOOKUP(D59,工作表2!$B$1:$H$800,5,0 )),"") | J59: =IFERROR(IF(VLOOKUP(D59,工作表2!$B$1:$H$800,6,0 )=0,"",VLOOKUP(D59,工作表2!$B$1:$H$800,6,0 )),"") | K59: =IFERROR(IF(VLOOKUP(D59,工作表2!$B$1:$H$800,7,0 )=0,"",VLOOKUP(D59,工作表2!$B$1:$H$800,7,0 )),"") | M59: =IF(從此工作表的A2貼上你的成績總表!AA19<>0,從此工作表的A2貼上你的成績總表!AA19,"")
F60: =IF(D60<>"","選","") | G60: =IFERROR(IF(VLOOKUP(D60,工作表2!$B$1:$H$800,3,0 )=0,"",VLOOKUP(D60,工作表2!$B$1:$H$800,3,0 )),"") | H60: =IFERROR(IF(VLOOKUP(D60,工作表2!$B$1:$H$800,4,0 )=0,"",VLOOKUP(D60,工作表2!$B$1:$H$800,4,0 )),"") | I60: =IFERROR(IF(VLOOKUP(D60,工作表2!$B$1:$H$800,5,0 )=0,"",VLOOKUP(D60,工作表2!$B$1:$H$800,5,0 )),"") | J60: =IFERROR(IF(VLOOKUP(D60,工作表2!$B$1:$H$800,6,0 )=0,"",VLOOKUP(D60,工作表2!$B$1:$H$800,6,0 )),"") | K60: =IFERROR(IF(VLOOKUP(D60,工作表2!$B$1:$H$800,7,0 )=0,"",VLOOKUP(D60,工作表2!$B$1:$H$800,7,0 )),"") | M60: =IF(從此工作表的A2貼上你的成績總表!AA20<>0,從此工作表的A2貼上你的成績總表!AA20,"")
F61: =IF(D61<>"","選","") | G61: =IFERROR(IF(VLOOKUP(D61,工作表2!$B$1:$H$800,3,0 )=0,"",VLOOKUP(D61,工作表2!$B$1:$H$800,3,0 )),"") | H61: =IFERROR(IF(VLOOKUP(D61,工作表2!$B$1:$H$800,4,0 )=0,"",VLOOKUP(D61,工作表2!$B$1:$H$800,4,0 )),"") | I61: =IFERROR(IF(VLOOKUP(D61,工作表2!$B$1:$H$800,5,0 )=0,"",VLOOKUP(D61,工作表2!$B$1:$H$800,5,0 )),"") | J61: =IFERROR(IF(VLOOKUP(D61,工作表2!$B$1:$H$800,6,0 )=0,"",VLOOKUP(D61,工作表2!$B$1:$H$800,6,0 )),"") | K61: =IFERROR(IF(VLOOKUP(D61,工作表2!$B$1:$H$800,7,0 )=0,"",VLOOKUP(D61,工作表2!$B$1:$H$800,7,0 )),"") | M61: =IF(從此工作表的A2貼上你的成績總表!AA21<>0,從此工作表的A2貼上你的成績總表!AA21,"")
F62: =IF(D62<>"","選","") | G62: =IFERROR(IF(VLOOKUP(D62,工作表2!$B$1:$H$800,3,0 )=0,"",VLOOKUP(D62,工作表2!$B$1:$H$800,3,0 )),"") | H62: =IFERROR(IF(VLOOKUP(D62,工作表2!$B$1:$H$800,4,0 )=0,"",VLOOKUP(D62,工作表2!$B$1:$H$800,4,0 )),"") | I62: =IFERROR(IF(VLOOKUP(D62,工作表2!$B$1:$H$800,5,0 )=0,"",VLOOKUP(D62,工作表2!$B$1:$H$800,5,0 )),"") | J62: =IFERROR(IF(VLOOKUP(D62,工作表2!$B$1:$H$800,6,0 )=0,"",VLOOKUP(D62,工作表2!$B$1:$H$800,6,0 )),"") | K62: =IFERROR(IF(VLOOKUP(D62,工作表2!$B$1:$H$800,7,0 )=0,"",VLOOKUP(D62,工作表2!$B$1:$H$800,7,0 )),"") | M62: =IF(從此工作表的A2貼上你的成績總表!AA22<>0,從此工作表的A2貼上你的成績總表!AA22,"")
F63: =IF(D63<>"","選","") | G63: =IFERROR(IF(VLOOKUP(D63,工作表2!$B$1:$H$800,3,0 )=0,"",VLOOKUP(D63,工作表2!$B$1:$H$800,3,0 )),"") | H63: =IFERROR(IF(VLOOKUP(D63,工作表2!$B$1:$H$800,4,0 )=0,"",VLOOKUP(D63,工作表2!$B$1:$H$800,4,0 )),"") | I63: =IFERROR(IF(VLOOKUP(D63,工作表2!$B$1:$H$800,5,0 )=0,"",VLOOKUP(D63,工作表2!$B$1:$H$800,5,0 )),"") | J63: =IFERROR(IF(VLOOKUP(D63,工作表2!$B$1:$H$800,6,0 )=0,"",VLOOKUP(D63,工作表2!$B$1:$H$800,6,0 )),"") | K63: =IFERROR(IF(VLOOKUP(D63,工作表2!$B$1:$H$800,7,0 )=0,"",VLOOKUP(D63,工作表2!$B$1:$H$800,7,0 )),"") | M63: =IF(從此工作表的A2貼上你的成績總表!AA23<>0,從此工作表的A2貼上你的成績總表!AA23,"")
F64: =IF(D64<>"","選","") | G64: =IFERROR(IF(VLOOKUP(D64,工作表2!$B$1:$H$800,3,0 )=0,"",VLOOKUP(D64,工作表2!$B$1:$H$800,3,0 )),"") | H64: =IFERROR(IF(VLOOKUP(D64,工作表2!$B$1:$H$800,4,0 )=0,"",VLOOKUP(D64,工作表2!$B$1:$H$800,4,0 )),"") | I64: =IFERROR(IF(VLOOKUP(D64,工作表2!$B$1:$H$800,5,0 )=0,"",VLOOKUP(D64,工作表2!$B$1:$H$800,5,0 )),"") | J64: =IFERROR(IF(VLOOKUP(D64,工作表2!$B$1:$H$800,6,0 )=0,"",VLOOKUP(D64,工作表2!$B$1:$H$800,6,0 )),"") | K64: =IFERROR(IF(VLOOKUP(D64,工作表2!$B$1:$H$800,7,0 )=0,"",VLOOKUP(D64,工作表2!$B$1:$H$800,7,0 )),"") | M64: =IF(從此工作表的A2貼上你的成績總表!AA24<>0,從此工作表的A2貼上你的成績總表!AA24,"")
F65: =IF(D65<>"","選","") | G65: =IFERROR(IF(VLOOKUP(D65,工作表2!$B$1:$H$800,3,0 )=0,"",VLOOKUP(D65,工作表2!$B$1:$H$800,3,0 )),"") | H65: =IFERROR(IF(VLOOKUP(D65,工作表2!$B$1:$H$800,4,0 )=0,"",VLOOKUP(D65,工作表2!$B$1:$H$800,4,0 )),"") | I65: =IFERROR(IF(VLOOKUP(D65,工作表2!$B$1:$H$800,5,0 )=0,"",VLOOKUP(D65,工作表2!$B$1:$H$800,5,0 )),"") | J65: =IFERROR(IF(VLOOKUP(D65,工作表2!$B$1:$H$800,6,0 )=0,"",VLOOKUP(D65,工作表2!$B$1:$H$800,6,0 )),"") | K65: =IFERROR(IF(VLOOKUP(D65,工作表2!$B$1:$H$800,7,0 )=0,"",VLOOKUP(D65,工作表2!$B$1:$H$800,7,0 )),"") | M65: =IF(從此工作表的A2貼上你的成績總表!AA25<>0,從此工作表的A2貼上你的成績總表!AA25,"")
F66: =IF(D66<>"","選","") | G66: =IFERROR(IF(VLOOKUP(D66,工作表2!$B$1:$H$800,3,0 )=0,"",VLOOKUP(D66,工作表2!$B$1:$H$800,3,0 )),"") | H66: =IFERROR(IF(VLOOKUP(D66,工作表2!$B$1:$H$800,4,0 )=0,"",VLOOKUP(D66,工作表2!$B$1:$H$800,4,0 )),"") | I66: =IFERROR(IF(VLOOKUP(D66,工作表2!$B$1:$H$800,5,0 )=0,"",VLOOKUP(D66,工作表2!$B$1:$H$800,5,0 )),"") | J66: =IFERROR(IF(VLOOKUP(D66,工作表2!$B$1:$H$800,6,0 )=0,"",VLOOKUP(D66,工作表2!$B$1:$H$800,6,0 )),"") | K66: =IFERROR(IF(VLOOKUP(D66,工作表2!$B$1:$H$800,7,0 )=0,"",VLOOKUP(D66,工作表2!$B$1:$H$800,7,0 )),"") | M66: =IF(從此工作表的A2貼上你的成績總表!AA26<>0,從此工作表的A2貼上你的成績總表!AA26,"")
F67: =IF(D67<>"","選","") | G67: =IFERROR(IF(VLOOKUP(D67,工作表2!$B$1:$H$800,3,0 )=0,"",VLOOKUP(D67,工作表2!$B$1:$H$800,3,0 )),"") | H67: =IFERROR(IF(VLOOKUP(D67,工作表2!$B$1:$H$800,4,0 )=0,"",VLOOKUP(D67,工作表2!$B$1:$H$800,4,0 )),"") | I67: =IFERROR(IF(VLOOKUP(D67,工作表2!$B$1:$H$800,5,0 )=0,"",VLOOKUP(D67,工作表2!$B$1:$H$800,5,0 )),"") | J67: =IFERROR(IF(VLOOKUP(D67,工作表2!$B$1:$H$800,6,0 )=0,"",VLOOKUP(D67,工作表2!$B$1:$H$800,6,0 )),"") | K67: =IFERROR(IF(VLOOKUP(D67,工作表2!$B$1:$H$800,7,0 )=0,"",VLOOKUP(D67,工作表2!$B$1:$H$800,7,0 )),"") | M67: =IF(從此工作表的A2貼上你的成績總表!AA27<>0,從此工作表的A2貼上你的成績總表!AA27,"")
F68: =IF(D68<>"","選","") | G68: =IFERROR(IF(VLOOKUP(D68,工作表2!$B$1:$H$800,3,0 )=0,"",VLOOKUP(D68,工作表2!$B$1:$H$800,3,0 )),"") | H68: =IFERROR(IF(VLOOKUP(D68,工作表2!$B$1:$H$800,4,0 )=0,"",VLOOKUP(D68,工作表2!$B$1:$H$800,4,0 )),"") | I68: =IFERROR(IF(VLOOKUP(D68,工作表2!$B$1:$H$800,5,0 )=0,"",VLOOKUP(D68,工作表2!$B$1:$H$800,5,0 )),"") | J68: =IFERROR(IF(VLOOKUP(D68,工作表2!$B$1:$H$800,6,0 )=0,"",VLOOKUP(D68,工作表2!$B$1:$H$800,6,0 )),"") | K68: =IFERROR(IF(VLOOKUP(D68,工作表2!$B$1:$H$800,7,0 )=0,"",VLOOKUP(D68,工作表2!$B$1:$H$800,7,0 )),"") | M68: =IF(從此工作表的A2貼上你的成績總表!AA28<>0,從此工作表的A2貼上你的成績總表!AA28,"")
F69: =IF(D69<>"","選","") | G69: =IFERROR(IF(VLOOKUP(D69,工作表2!$B$1:$H$800,3,0 )=0,"",VLOOKUP(D69,工作表2!$B$1:$H$800,3,0 )),"") | H69: =IFERROR(IF(VLOOKUP(D69,工作表2!$B$1:$H$800,4,0 )=0,"",VLOOKUP(D69,工作表2!$B$1:$H$800,4,0 )),"") | I69: =IFERROR(IF(VLOOKUP(D69,工作表2!$B$1:$H$800,5,0 )=0,"",VLOOKUP(D69,工作表2!$B$1:$H$800,5,0 )),"") | J69: =IFERROR(IF(VLOOKUP(D69,工作表2!$B$1:$H$800,6,0 )=0,"",VLOOKUP(D69,工作表2!$B$1:$H$800,6,0 )),"") | K69: =IFERROR(IF(VLOOKUP(D69,工作表2!$B$1:$H$800,7,0 )=0,"",VLOOKUP(D69,工作表2!$B$1:$H$800,7,0 )),"") | M69: =IF(從此工作表的A2貼上你的成績總表!AA29<>0,從此工作表的A2貼上你的成績總表!AA29,"")
F70: =IF(D70<>"","選","") | G70: =IFERROR(IF(VLOOKUP(D70,工作表2!$B$1:$H$800,3,0 )=0,"",VLOOKUP(D70,工作表2!$B$1:$H$800,3,0 )),"") | H70: =IFERROR(IF(VLOOKUP(D70,工作表2!$B$1:$H$800,4,0 )=0,"",VLOOKUP(D70,工作表2!$B$1:$H$800,4,0 )),"") | I70: =IFERROR(IF(VLOOKUP(D70,工作表2!$B$1:$H$800,5,0 )=0,"",VLOOKUP(D70,工作表2!$B$1:$H$800,5,0 )),"") | J70: =IFERROR(IF(VLOOKUP(D70,工作表2!$B$1:$H$800,6,0 )=0,"",VLOOKUP(D70,工作表2!$B$1:$H$800,6,0 )),"") | K70: =IFERROR(IF(VLOOKUP(D70,工作表2!$B$1:$H$800,7,0 )=0,"",VLOOKUP(D70,工作表2!$B$1:$H$800,7,0 )),"") | M70: =IF(從此工作表的A2貼上你的成績總表!AA30<>0,從此工作表的A2貼上你的成績總表!AA30,"")
F71: =IF(D71<>"","選","") | G71: =IFERROR(IF(VLOOKUP(D71,工作表2!$B$1:$H$800,3,0 )=0,"",VLOOKUP(D71,工作表2!$B$1:$H$800,3,0 )),"") | H71: =IFERROR(IF(VLOOKUP(D71,工作表2!$B$1:$H$800,4,0 )=0,"",VLOOKUP(D71,工作表2!$B$1:$H$800,4,0 )),"") | I71: =IFERROR(IF(VLOOKUP(D71,工作表2!$B$1:$H$800,5,0 )=0,"",VLOOKUP(D71,工作表2!$B$1:$H$800,5,0 )),"") | J71: =IFERROR(IF(VLOOKUP(D71,工作表2!$B$1:$H$800,6,0 )=0,"",VLOOKUP(D71,工作表2!$B$1:$H$800,6,0 )),"") | K71: =IFERROR(IF(VLOOKUP(D71,工作表2!$B$1:$H$800,7,0 )=0,"",VLOOKUP(D71,工作表2!$B$1:$H$800,7,0 )),"") | M71: =IF(從此工作表的A2貼上你的成績總表!AA31<>0,從此工作表的A2貼上你的成績總表!AA31,"")
F72: =IF(D72<>"","選","") | G72: =IFERROR(IF(VLOOKUP(D72,工作表2!$B$1:$H$800,3,0 )=0,"",VLOOKUP(D72,工作表2!$B$1:$H$800,3,0 )),"") | H72: =IFERROR(IF(VLOOKUP(D72,工作表2!$B$1:$H$800,4,0 )=0,"",VLOOKUP(D72,工作表2!$B$1:$H$800,4,0 )),"") | I72: =IFERROR(IF(VLOOKUP(D72,工作表2!$B$1:$H$800,5,0 )=0,"",VLOOKUP(D72,工作表2!$B$1:$H$800,5,0 )),"") | J72: =IFERROR(IF(VLOOKUP(D72,工作表2!$B$1:$H$800,6,0 )=0,"",VLOOKUP(D72,工作表2!$B$1:$H$800,6,0 )),"") | K72: =IFERROR(IF(VLOOKUP(D72,工作表2!$B$1:$H$800,7,0 )=0,"",VLOOKUP(D72,工作表2!$B$1:$H$800,7,0 )),"") | M72: =IF(從此工作表的A2貼上你的成績總表!AA32<>0,從此工作表的A2貼上你的成績總表!AA32,"")
F73: =IF(D73<>"","選","") | G73: =IFERROR(IF(VLOOKUP(D73,工作表2!$B$1:$H$800,3,0 )=0,"",VLOOKUP(D73,工作表2!$B$1:$H$800,3,0 )),"") | H73: =IFERROR(IF(VLOOKUP(D73,工作表2!$B$1:$H$800,4,0 )=0,"",VLOOKUP(D73,工作表2!$B$1:$H$800,4,0 )),"") | I73: =IFERROR(IF(VLOOKUP(D73,工作表2!$B$1:$H$800,5,0 )=0,"",VLOOKUP(D73,工作表2!$B$1:$H$800,5,0 )),"") | J73: =IFERROR(IF(VLOOKUP(D73,工作表2!$B$1:$H$800,6,0 )=0,"",VLOOKUP(D73,工作表2!$B$1:$H$800,6,0 )),"") | K73: =IFERROR(IF(VLOOKUP(D73,工作表2!$B$1:$H$800,7,0 )=0,"",VLOOKUP(D73,工作表2!$B$1:$H$800,7,0 )),"") | M73: =IF(從此工作表的A2貼上你的成績總表!AA33<>0,從此工作表的A2貼上你的成績總表!AA33,"")
F74: =IF(D74<>"","選","") | G74: =IFERROR(IF(VLOOKUP(D74,工作表2!$B$1:$H$800,3,0 )=0,"",VLOOKUP(D74,工作表2!$B$1:$H$800,3,0 )),"") | H74: =IFERROR(IF(VLOOKUP(D74,工作表2!$B$1:$H$800,4,0 )=0,"",VLOOKUP(D74,工作表2!$B$1:$H$800,4,0 )),"") | I74: =IFERROR(IF(VLOOKUP(D74,工作表2!$B$1:$H$800,5,0 )=0,"",VLOOKUP(D74,工作表2!$B$1:$H$800,5,0 )),"") | J74: =IFERROR(IF(VLOOKUP(D74,工作表2!$B$1:$H$800,6,0 )=0,"",VLOOKUP(D74,工作表2!$B$1:$H$800,6,0 )),"") | K74: =IFERROR(IF(VLOOKUP(D74,工作表2!$B$1:$H$800,7,0 )=0,"",VLOOKUP(D74,工作表2!$B$1:$H$800,7,0 )),"") | M74: =IF(從此工作表的A2貼上你的成績總表!AA34<>0,從此工作表的A2貼上你的成績總表!AA34,"")
F75: =IF(D75<>"","選","") | G75: =IFERROR(IF(VLOOKUP(D75,工作表2!$B$1:$H$800,3,0 )=0,"",VLOOKUP(D75,工作表2!$B$1:$H$800,3,0 )),"") | H75: =IFERROR(IF(VLOOKUP(D75,工作表2!$B$1:$H$800,4,0 )=0,"",VLOOKUP(D75,工作表2!$B$1:$H$800,4,0 )),"") | I75: =IFERROR(IF(VLOOKUP(D75,工作表2!$B$1:$H$800,5,0 )=0,"",VLOOKUP(D75,工作表2!$B$1:$H$800,5,0 )),"") | J75: =IFERROR(IF(VLOOKUP(D75,工作表2!$B$1:$H$800,6,0 )=0,"",VLOOKUP(D75,工作表2!$B$1:$H$800,6,0 )),"") | K75: =IFERROR(IF(VLOOKUP(D75,工作表2!$B$1:$H$800,7,0 )=0,"",VLOOKUP(D75,工作表2!$B$1:$H$800,7,0 )),"") | M75: =IF(從此工作表的A2貼上你的成績總表!AA35<>0,從此工作表的A2貼上你的成績總表!AA35,"")
F76: =IF(D76<>"","選","") | G76: =IFERROR(IF(VLOOKUP(D76,工作表2!$B$1:$H$800,3,0 )=0,"",VLOOKUP(D76,工作表2!$B$1:$H$800,3,0 )),"") | H76: =IFERROR(IF(VLOOKUP(D76,工作表2!$B$1:$H$800,4,0 )=0,"",VLOOKUP(D76,工作表2!$B$1:$H$800,4,0 )),"") | I76: =IFERROR(IF(VLOOKUP(D76,工作表2!$B$1:$H$800,5,0 )=0,"",VLOOKUP(D76,工作表2!$B$1:$H$800,5,0 )),"") | J76: =IFERROR(IF(VLOOKUP(D76,工作表2!$B$1:$H$800,6,0 )=0,"",VLOOKUP(D76,工作表2!$B$1:$H$800,6,0 )),"") | K76: =IFERROR(IF(VLOOKUP(D76,工作表2!$B$1:$H$800,7,0 )=0,"",VLOOKUP(D76,工作表2!$B$1:$H$800,7,0 )),"") | M76: =IF(從此工作表的A2貼上你的成績總表!AA25<>0,從此工作表的A2貼上你的成績總表!AA25,"")
F77: =IF(D77<>"","選","") | G77: =IFERROR(IF(VLOOKUP(D77,工作表2!$B$1:$H$800,3,0 )=0,"",VLOOKUP(D77,工作表2!$B$1:$H$800,3,0 )),"") | H77: =IFERROR(IF(VLOOKUP(D77,工作表2!$B$1:$H$800,4,0 )=0,"",VLOOKUP(D77,工作表2!$B$1:$H$800,4,0 )),"") | I77: =IFERROR(IF(VLOOKUP(D77,工作表2!$B$1:$H$800,5,0 )=0,"",VLOOKUP(D77,工作表2!$B$1:$H$800,5,0 )),"") | J77: =IFERROR(IF(VLOOKUP(D77,工作表2!$B$1:$H$800,6,0 )=0,"",VLOOKUP(D77,工作表2!$B$1:$H$800,6,0 )),"") | K77: =IFERROR(IF(VLOOKUP(D77,工作表2!$B$1:$H$800,7,0 )=0,"",VLOOKUP(D77,工作表2!$B$1:$H$800,7,0 )),"") | M77: =IF(從此工作表的A2貼上你的成績總表!AA26<>0,從此工作表的A2貼上你的成績總表!AA26,"")
F78: =IF(D78<>"","選","") | G78: =IFERROR(IF(VLOOKUP(D78,工作表2!$B$1:$H$800,3,0 )=0,"",VLOOKUP(D78,工作表2!$B$1:$H$800,3,0 )),"") | H78: =IFERROR(IF(VLOOKUP(D78,工作表2!$B$1:$H$800,4,0 )=0,"",VLOOKUP(D78,工作表2!$B$1:$H$800,4,0 )),"") | I78: =IFERROR(IF(VLOOKUP(D78,工作表2!$B$1:$H$800,5,0 )=0,"",VLOOKUP(D78,工作表2!$B$1:$H$800,5,0 )),"") | J78: =IFERROR(IF(VLOOKUP(D78,工作表2!$B$1:$H$800,6,0 )=0,"",VLOOKUP(D78,工作表2!$B$1:$H$800,6,0 )),"") | K78: =IFERROR(IF(VLOOKUP(D78,工作表2!$B$1:$H$800,7,0 )=0,"",VLOOKUP(D78,工作表2!$B$1:$H$800,7,0 )),"") | M78: =IF(從此工作表的A2貼上你的成績總表!AA27<>0,從此工作表的A2貼上你的成績總表!AA27,"")
F79: =IF(D79<>"","選","") | G79: =IFERROR(IF(VLOOKUP(D79,工作表2!$B$1:$H$800,3,0 )=0,"",VLOOKUP(D79,工作表2!$B$1:$H$800,3,0 )),"") | H79: =IFERROR(IF(VLOOKUP(D79,工作表2!$B$1:$H$800,4,0 )=0,"",VLOOKUP(D79,工作表2!$B$1:$H$800,4,0 )),"") | I79: =IFERROR(IF(VLOOKUP(D79,工作表2!$B$1:$H$800,5,0 )=0,"",VLOOKUP(D79,工作表2!$B$1:$H$800,5,0 )),"") | J79: =IFERROR(IF(VLOOKUP(D79,工作表2!$B$1:$H$800,6,0 )=0,"",VLOOKUP(D79,工作表2!$B$1:$H$800,6,0 )),"") | K79: =IFERROR(IF(VLOOKUP(D79,工作表2!$B$1:$H$800,7,0 )=0,"",VLOOKUP(D79,工作表2!$B$1:$H$800,7,0 )),"") | M79: =IF(從此工作表的A2貼上你的成績總表!AA28<>0,從此工作表的A2貼上你的成績總表!AA28,"")
F80: =IF(D80<>"","選","") | G80: =IFERROR(IF(VLOOKUP(D80,工作表2!$B$1:$H$800,3,0 )=0,"",VLOOKUP(D80,工作表2!$B$1:$H$800,3,0 )),"") | H80: =IFERROR(IF(VLOOKUP(D80,工作表2!$B$1:$H$800,4,0 )=0,"",VLOOKUP(D80,工作表2!$B$1:$H$800,4,0 )),"") | I80: =IFERROR(IF(VLOOKUP(D80,工作表2!$B$1:$H$800,5,0 )=0,"",VLOOKUP(D80,工作表2!$B$1:$H$800,5,0 )),"") | J80: =IFERROR(IF(VLOOKUP(D80,工作表2!$B$1:$H$800,6,0 )=0,"",VLOOKUP(D80,工作表2!$B$1:$H$800,6,0 )),"") | K80: =IFERROR(IF(VLOOKUP(D80,工作表2!$B$1:$H$800,7,0 )=0,"",VLOOKUP(D80,工作表2!$B$1:$H$800,7,0 )),"") | M80: =IF(從此工作表的A2貼上你的成績總表!AA29<>0,從此工作表的A2貼上你的成績總表!AA29,"")
F81: =IF(D81<>"","選","") | G81: =IFERROR(IF(VLOOKUP(D81,工作表2!$B$1:$H$800,3,0 )=0,"",VLOOKUP(D81,工作表2!$B$1:$H$800,3,0 )),"") | H81: =IFERROR(IF(VLOOKUP(D81,工作表2!$B$1:$H$800,4,0 )=0,"",VLOOKUP(D81,工作表2!$B$1:$H$800,4,0 )),"") | I81: =IFERROR(IF(VLOOKUP(D81,工作表2!$B$1:$H$800,5,0 )=0,"",VLOOKUP(D81,工作表2!$B$1:$H$800,5,0 )),"") | J81: =IFERROR(IF(VLOOKUP(D81,工作表2!$B$1:$H$800,6,0 )=0,"",VLOOKUP(D81,工作表2!$B$1:$H$800,6,0 )),"") | K81: =IFERROR(IF(VLOOKUP(D81,工作表2!$B$1:$H$800,7,0 )=0,"",VLOOKUP(D81,工作表2!$B$1:$H$800,7,0 )),"") | M81: =IF(從此工作表的A2貼上你的成績總表!AA30<>0,從此工作表的A2貼上你的成績總表!AA30,"")
F82: =IF(D82<>"","選","") | G82: =IFERROR(IF(VLOOKUP(D82,工作表2!$B$1:$H$800,3,0 )=0,"",VLOOKUP(D82,工作表2!$B$1:$H$800,3,0 )),"") | H82: =IFERROR(IF(VLOOKUP(D82,工作表2!$B$1:$H$800,4,0 )=0,"",VLOOKUP(D82,工作表2!$B$1:$H$800,4,0 )),"") | I82: =IFERROR(IF(VLOOKUP(D82,工作表2!$B$1:$H$800,5,0 )=0,"",VLOOKUP(D82,工作表2!$B$1:$H$800,5,0 )),"") | J82: =IFERROR(IF(VLOOKUP(D82,工作表2!$B$1:$H$800,6,0 )=0,"",VLOOKUP(D82,工作表2!$B$1:$H$800,6,0 )),"") | K82: =IFERROR(IF(VLOOKUP(D82,工作表2!$B$1:$H$800,7,0 )=0,"",VLOOKUP(D82,工作表2!$B$1:$H$800,7,0 )),"") | M82: =IF(從此工作表的A2貼上你的成績總表!AA31<>0,從此工作表的A2貼上你的成績總表!AA31,"")
F83: =IF(D83<>"","選","") | G83: =IFERROR(IF(VLOOKUP(D83,工作表2!$B$1:$H$800,3,0 )=0,"",VLOOKUP(D83,工作表2!$B$1:$H$800,3,0 )),"") | H83: =IFERROR(IF(VLOOKUP(D83,工作表2!$B$1:$H$800,4,0 )=0,"",VLOOKUP(D83,工作表2!$B$1:$H$800,4,0 )),"") | I83: =IFERROR(IF(VLOOKUP(D83,工作表2!$B$1:$H$800,5,0 )=0,"",VLOOKUP(D83,工作表2!$B$1:$H$800,5,0 )),"") | J83: =IFERROR(IF(VLOOKUP(D83,工作表2!$B$1:$H$800,6,0 )=0,"",VLOOKUP(D83,工作表2!$B$1:$H$800,6,0 )),"") | K83: =IFERROR(IF(VLOOKUP(D83,工作表2!$B$1:$H$800,7,0 )=0,"",VLOOKUP(D83,工作表2!$B$1:$H$800,7,0 )),"") | M83: =IF(從此工作表的A2貼上你的成績總表!AA32<>0,從此工作表的A2貼上你的成績總表!AA32,"")
F84: =IF(D84<>"","選","") | G84: =IFERROR(IF(VLOOKUP(D84,工作表2!$B$1:$H$800,3,0 )=0,"",VLOOKUP(D84,工作表2!$B$1:$H$800,3,0 )),"") | H84: =IFERROR(IF(VLOOKUP(D84,工作表2!$B$1:$H$800,4,0 )=0,"",VLOOKUP(D84,工作表2!$B$1:$H$800,4,0 )),"") | I84: =IFERROR(IF(VLOOKUP(D84,工作表2!$B$1:$H$800,5,0 )=0,"",VLOOKUP(D84,工作表2!$B$1:$H$800,5,0 )),"") | J84: =IFERROR(IF(VLOOKUP(D84,工作表2!$B$1:$H$800,6,0 )=0,"",VLOOKUP(D84,工作表2!$B$1:$H$800,6,0 )),"") | K84: =IFERROR(IF(VLOOKUP(D84,工作表2!$B$1:$H$800,7,0 )=0,"",VLOOKUP(D84,工作表2!$B$1:$H$800,7,0 )),"") | M84: =IF(從此工作表的A2貼上你的成績總表!AA33<>0,從此工作表的A2貼上你的成績總表!AA33,"")
F85: =IF(D85<>"","選","") | G85: =IFERROR(IF(VLOOKUP(D85,工作表2!$B$1:$H$800,3,0 )=0,"",VLOOKUP(D85,工作表2!$B$1:$H$800,3,0 )),"") | H85: =IFERROR(IF(VLOOKUP(D85,工作表2!$B$1:$H$800,4,0 )=0,"",VLOOKUP(D85,工作表2!$B$1:$H$800,4,0 )),"") | I85: =IFERROR(IF(VLOOKUP(D85,工作表2!$B$1:$H$800,5,0 )=0,"",VLOOKUP(D85,工作表2!$B$1:$H$800,5,0 )),"") | J85: =IFERROR(IF(VLOOKUP(D85,工作表2!$B$1:$H$800,6,0 )=0,"",VLOOKUP(D85,工作表2!$B$1:$H$800,6,0 )),"") | K85: =IFERROR(IF(VLOOKUP(D85,工作表2!$B$1:$H$800,7,0 )=0,"",VLOOKUP(D85,工作表2!$B$1:$H$800,7,0 )),"") | M85: =IF(從此工作表的A2貼上你的成績總表!AA34<>0,從此工作表的A2貼上你的成績總表!AA34,"")
F86: =IF(D86<>"","選","") | G86: =IFERROR(IF(VLOOKUP(D86,工作表2!$B$1:$H$800,3,0 )=0,"",VLOOKUP(D86,工作表2!$B$1:$H$800,3,0 )),"") | H86: =IFERROR(IF(VLOOKUP(D86,工作表2!$B$1:$H$800,4,0 )=0,"",VLOOKUP(D86,工作表2!$B$1:$H$800,4,0 )),"") | I86: =IFERROR(IF(VLOOKUP(D86,工作表2!$B$1:$H$800,5,0 )=0,"",VLOOKUP(D86,工作表2!$B$1:$H$800,5,0 )),"") | J86: =IFERROR(IF(VLOOKUP(D86,工作表2!$B$1:$H$800,6,0 )=0,"",VLOOKUP(D86,工作表2!$B$1:$H$800,6,0 )),"") | K86: =IFERROR(IF(VLOOKUP(D86,工作表2!$B$1:$H$800,7,0 )=0,"",VLOOKUP(D86,工作表2!$B$1:$H$800,7,0 )),"") | M86: =IF(從此工作表的A2貼上你的成績總表!AA35<>0,從此工作表的A2貼上你的成績總表!AA35,"")
F87: =IF(D87<>"","選","") | G87: =IFERROR(IF(VLOOKUP(D87,工作表2!$B$1:$H$800,3,0 )=0,"",VLOOKUP(D87,工作表2!$B$1:$H$800,3,0 )),"") | H87: =IFERROR(IF(VLOOKUP(D87,工作表2!$B$1:$H$800,4,0 )=0,"",VLOOKUP(D87,工作表2!$B$1:$H$800,4,0 )),"") | I87: =IFERROR(IF(VLOOKUP(D87,工作表2!$B$1:$H$800,5,0 )=0,"",VLOOKUP(D87,工作表2!$B$1:$H$800,5,0 )),"") | J87: =IFERROR(IF(VLOOKUP(D87,工作表2!$B$1:$H$800,6,0 )=0,"",VLOOKUP(D87,工作表2!$B$1:$H$800,6,0 )),"") | K87: =IFERROR(IF(VLOOKUP(D87,工作表2!$B$1:$H$800,7,0 )=0,"",VLOOKUP(D87,工作表2!$B$1:$H$800,7,0 )),"") | M87: =IF(從此工作表的A2貼上你的成績總表!AA36<>0,從此工作表的A2貼上你的成績總表!AA36,"")
F88: =IF(D88<>"","選","") | G88: =IFERROR(IF(VLOOKUP(D88,工作表2!$B$1:$H$800,3,0 )=0,"",VLOOKUP(D88,工作表2!$B$1:$H$800,3,0 )),"") | H88: =IFERROR(IF(VLOOKUP(D88,工作表2!$B$1:$H$800,4,0 )=0,"",VLOOKUP(D88,工作表2!$B$1:$H$800,4,0 )),"") | I88: =IFERROR(IF(VLOOKUP(D88,工作表2!$B$1:$H$800,5,0 )=0,"",VLOOKUP(D88,工作表2!$B$1:$H$800,5,0 )),"") | J88: =IFERROR(IF(VLOOKUP(D88,工作表2!$B$1:$H$800,6,0 )=0,"",VLOOKUP(D88,工作表2!$B$1:$H$800,6,0 )),"") | K88: =IFERROR(IF(VLOOKUP(D88,工作表2!$B$1:$H$800,7,0 )=0,"",VLOOKUP(D88,工作表2!$B$1:$H$800,7,0 )),"") | M88: =IF(從此工作表的A2貼上你的成績總表!AA37<>0,從此工作表的A2貼上你的成績總表!AA37,"")
F89: =IF(D89<>"","選","") | G89: =IFERROR(IF(VLOOKUP(D89,工作表2!$B$1:$H$800,3,0 )=0,"",VLOOKUP(D89,工作表2!$B$1:$H$800,3,0 )),"") | H89: =IFERROR(IF(VLOOKUP(D89,工作表2!$B$1:$H$800,4,0 )=0,"",VLOOKUP(D89,工作表2!$B$1:$H$800,4,0 )),"") | I89: =IFERROR(IF(VLOOKUP(D89,工作表2!$B$1:$H$800,5,0 )=0,"",VLOOKUP(D89,工作表2!$B$1:$H$800,5,0 )),"") | J89: =IFERROR(IF(VLOOKUP(D89,工作表2!$B$1:$H$800,6,0 )=0,"",VLOOKUP(D89,工作表2!$B$1:$H$800,6,0 )),"") | K89: =IFERROR(IF(VLOOKUP(D89,工作表2!$B$1:$H$800,7,0 )=0,"",VLOOKUP(D89,工作表2!$B$1:$H$800,7,0 )),"") | M89: =IF(從此工作表的A2貼上你的成績總表!AA38<>0,從此工作表的A2貼上你的成績總表!AA38,"")
F90: =IF(D90<>"","選","") | G90: =IFERROR(IF(VLOOKUP(D90,工作表2!$B$1:$H$800,3,0 )=0,"",VLOOKUP(D90,工作表2!$B$1:$H$800,3,0 )),"") | H90: =IFERROR(IF(VLOOKUP(D90,工作表2!$B$1:$H$800,4,0 )=0,"",VLOOKUP(D90,工作表2!$B$1:$H$800,4,0 )),"") | I90: =IFERROR(IF(VLOOKUP(D90,工作表2!$B$1:$H$800,5,0 )=0,"",VLOOKUP(D90,工作表2!$B$1:$H$800,5,0 )),"") | J90: =IFERROR(IF(VLOOKUP(D90,工作表2!$B$1:$H$800,6,0 )=0,"",VLOOKUP(D90,工作表2!$B$1:$H$800,6,0 )),"") | K90: =IFERROR(IF(VLOOKUP(D90,工作表2!$B$1:$H$800,7,0 )=0,"",VLOOKUP(D90,工作表2!$B$1:$H$800,7,0 )),"") | M90: =IF(從此工作表的A2貼上你的成績總表!AA39<>0,從此工作表的A2貼上你的成績總表!AA39,"")
F91: =IF(D91<>"","選","") | G91: =IFERROR(IF(VLOOKUP(D91,工作表2!$B$1:$H$800,3,0 )=0,"",VLOOKUP(D91,工作表2!$B$1:$H$800,3,0 )),"") | H91: =IFERROR(IF(VLOOKUP(D91,工作表2!$B$1:$H$800,4,0 )=0,"",VLOOKUP(D91,工作表2!$B$1:$H$800,4,0 )),"") | I91: =IFERROR(IF(VLOOKUP(D91,工作表2!$B$1:$H$800,5,0 )=0,"",VLOOKUP(D91,工作表2!$B$1:$H$800,5,0 )),"") | J91: =IFERROR(IF(VLOOKUP(D91,工作表2!$B$1:$H$800,6,0 )=0,"",VLOOKUP(D91,工作表2!$B$1:$H$800,6,0 )),"") | K91: =IFERROR(IF(VLOOKUP(D91,工作表2!$B$1:$H$800,7,0 )=0,"",VLOOKUP(D91,工作表2!$B$1:$H$800,7,0 )),"") | M91: =IF(從此工作表的A2貼上你的成績總表!AA40<>0,從此工作表的A2貼上你的成績總表!AA40,"")
F92: =IF(D92<>"","選","") | G92: =IFERROR(IF(VLOOKUP(D92,工作表2!$B$1:$H$800,3,0 )=0,"",VLOOKUP(D92,工作表2!$B$1:$H$800,3,0 )),"") | H92: =IFERROR(IF(VLOOKUP(D92,工作表2!$B$1:$H$800,4,0 )=0,"",VLOOKUP(D92,工作表2!$B$1:$H$800,4,0 )),"") | I92: =IFERROR(IF(VLOOKUP(D92,工作表2!$B$1:$H$800,5,0 )=0,"",VLOOKUP(D92,工作表2!$B$1:$H$800,5,0 )),"") | J92: =IFERROR(IF(VLOOKUP(D92,工作表2!$B$1:$H$800,6,0 )=0,"",VLOOKUP(D92,工作表2!$B$1:$H$800,6,0 )),"") | K92: =IFERROR(IF(VLOOKUP(D92,工作表2!$B$1:$H$800,7,0 )=0,"",VLOOKUP(D92,工作表2!$B$1:$H$800,7,0 )),"") | M92: =IF(從此工作表的A2貼上你的成績總表!AA41<>0,從此工作表的A2貼上你的成績總表!AA41,"")
F93: =IF(D93<>"","選","") | G93: =IFERROR(IF(VLOOKUP(D93,工作表2!$B$1:$H$800,3,0 )=0,"",VLOOKUP(D93,工作表2!$B$1:$H$800,3,0 )),"") | H93: =IFERROR(IF(VLOOKUP(D93,工作表2!$B$1:$H$800,4,0 )=0,"",VLOOKUP(D93,工作表2!$B$1:$H$800,4,0 )),"") | I93: =IFERROR(IF(VLOOKUP(D93,工作表2!$B$1:$H$800,5,0 )=0,"",VLOOKUP(D93,工作表2!$B$1:$H$800,5,0 )),"") | J93: =IFERROR(IF(VLOOKUP(D93,工作表2!$B$1:$H$800,6,0 )=0,"",VLOOKUP(D93,工作表2!$B$1:$H$800,6,0 )),"") | K93: =IFERROR(IF(VLOOKUP(D93,工作表2!$B$1:$H$800,7,0 )=0,"",VLOOKUP(D93,工作表2!$B$1:$H$800,7,0 )),"") | M93: =IF(從此工作表的A2貼上你的成績總表!AA42<>0,從此工作表的A2貼上你的成績總表!AA42,"")
F94: =IF(D94<>"","選","") | G94: =IFERROR(IF(VLOOKUP(D94,工作表2!$B$1:$H$800,3,0 )=0,"",VLOOKUP(D94,工作表2!$B$1:$H$800,3,0 )),"") | H94: =IFERROR(IF(VLOOKUP(D94,工作表2!$B$1:$H$800,4,0 )=0,"",VLOOKUP(D94,工作表2!$B$1:$H$800,4,0 )),"") | I94: =IFERROR(IF(VLOOKUP(D94,工作表2!$B$1:$H$800,5,0 )=0,"",VLOOKUP(D94,工作表2!$B$1:$H$800,5,0 )),"") | J94: =IFERROR(IF(VLOOKUP(D94,工作表2!$B$1:$H$800,6,0 )=0,"",VLOOKUP(D94,工作表2!$B$1:$H$800,6,0 )),"") | K94: =IFERROR(IF(VLOOKUP(D94,工作表2!$B$1:$H$800,7,0 )=0,"",VLOOKUP(D94,工作表2!$B$1:$H$800,7,0 )),"") | M94: =IF(從此工作表的A2貼上你的成績總表!AA43<>0,從此工作表的A2貼上你的成績總表!AA43,"")
F95: =IF(D95<>"","選","") | G95: =IFERROR(IF(VLOOKUP(D95,工作表2!$B$1:$H$800,3,0 )=0,"",VLOOKUP(D95,工作表2!$B$1:$H$800,3,0 )),"") | H95: =IFERROR(IF(VLOOKUP(D95,工作表2!$B$1:$H$800,4,0 )=0,"",VLOOKUP(D95,工作表2!$B$1:$H$800,4,0 )),"") | I95: =IFERROR(IF(VLOOKUP(D95,工作表2!$B$1:$H$800,5,0 )=0,"",VLOOKUP(D95,工作表2!$B$1:$H$800,5,0 )),"") | J95: =IFERROR(IF(VLOOKUP(D95,工作表2!$B$1:$H$800,6,0 )=0,"",VLOOKUP(D95,工作表2!$B$1:$H$800,6,0 )),"") | K95: =IFERROR(IF(VLOOKUP(D95,工作表2!$B$1:$H$800,7,0 )=0,"",VLOOKUP(D95,工作表2!$B$1:$H$800,7,0 )),"") | M95: =IF(從此工作表的A2貼上你的成績總表!AA44<>0,從此工作表的A2貼上你的成績總表!AA44,"")
F96: =IF(D96<>"","選","") | G96: =IFERROR(IF(VLOOKUP(D96,工作表2!$B$1:$H$800,3,0 )=0,"",VLOOKUP(D96,工作表2!$B$1:$H$800,3,0 )),"") | H96: =IFERROR(IF(VLOOKUP(D96,工作表2!$B$1:$H$800,4,0 )=0,"",VLOOKUP(D96,工作表2!$B$1:$H$800,4,0 )),"") | I96: =IFERROR(IF(VLOOKUP(D96,工作表2!$B$1:$H$800,5,0 )=0,"",VLOOKUP(D96,工作表2!$B$1:$H$800,5,0 )),"") | J96: =IFERROR(IF(VLOOKUP(D96,工作表2!$B$1:$H$800,6,0 )=0,"",VLOOKUP(D96,工作表2!$B$1:$H$800,6,0 )),"") | K96: =IFERROR(IF(VLOOKUP(D96,工作表2!$B$1:$H$800,7,0 )=0,"",VLOOKUP(D96,工作表2!$B$1:$H$800,7,0 )),"") | M96: =IF(從此工作表的A2貼上你的成績總表!AA45<>0,從此工作表的A2貼上你的成績總表!AA45,"")
F97: =IF(D97<>"","選","") | G97: =IFERROR(IF(VLOOKUP(D97,工作表2!$B$1:$H$800,3,0 )=0,"",VLOOKUP(D97,工作表2!$B$1:$H$800,3,0 )),"") | H97: =IFERROR(IF(VLOOKUP(D97,工作表2!$B$1:$H$800,4,0 )=0,"",VLOOKUP(D97,工作表2!$B$1:$H$800,4,0 )),"") | I97: =IFERROR(IF(VLOOKUP(D97,工作表2!$B$1:$H$800,5,0 )=0,"",VLOOKUP(D97,工作表2!$B$1:$H$800,5,0 )),"") | J97: =IFERROR(IF(VLOOKUP(D97,工作表2!$B$1:$H$800,6,0 )=0,"",VLOOKUP(D97,工作表2!$B$1:$H$800,6,0 )),"") | K97: =IFERROR(IF(VLOOKUP(D97,工作表2!$B$1:$H$800,7,0 )=0,"",VLOOKUP(D97,工作表2!$B$1:$H$800,7,0 )),"") | M97: =IF(從此工作表的A2貼上你的成績總表!AA46<>0,從此工作表的A2貼上你的成績總表!AA46,"")
F98: =IF(D98<>"","選","") | G98: =IFERROR(IF(VLOOKUP(D98,工作表2!$B$1:$H$800,3,0 )=0,"",VLOOKUP(D98,工作表2!$B$1:$H$800,3,0 )),"") | H98: =IFERROR(IF(VLOOKUP(D98,工作表2!$B$1:$H$800,4,0 )=0,"",VLOOKUP(D98,工作表2!$B$1:$H$800,4,0 )),"") | I98: =IFERROR(IF(VLOOKUP(D98,工作表2!$B$1:$H$800,5,0 )=0,"",VLOOKUP(D98,工作表2!$B$1:$H$800,5,0 )),"") | J98: =IFERROR(IF(VLOOKUP(D98,工作表2!$B$1:$H$800,6,0 )=0,"",VLOOKUP(D98,工作表2!$B$1:$H$800,6,0 )),"") | K98: =IFERROR(IF(VLOOKUP(D98,工作表2!$B$1:$H$800,7,0 )=0,"",VLOOKUP(D98,工作表2!$B$1:$H$800,7,0 )),"") | M98: =IF(從此工作表的A2貼上你的成績總表!AA47<>0,從此工作表的A2貼上你的成績總表!AA47,"")
F99: =IF(D99<>"","選","") | G99: =IFERROR(IF(VLOOKUP(D99,工作表2!$B$1:$H$800,3,0 )=0,"",VLOOKUP(D99,工作表2!$B$1:$H$800,3,0 )),"") | H99: =IFERROR(IF(VLOOKUP(D99,工作表2!$B$1:$H$800,4,0 )=0,"",VLOOKUP(D99,工作表2!$B$1:$H$800,4,0 )),"") | I99: =IFERROR(IF(VLOOKUP(D99,工作表2!$B$1:$H$800,5,0 )=0,"",VLOOKUP(D99,工作表2!$B$1:$H$800,5,0 )),"") | J99: =IFERROR(IF(VLOOKUP(D99,工作表2!$B$1:$H$800,6,0 )=0,"",VLOOKUP(D99,工作表2!$B$1:$H$800,6,0 )),"") | K99: =IFERROR(IF(VLOOKUP(D99,工作表2!$B$1:$H$800,7,0 )=0,"",VLOOKUP(D99,工作表2!$B$1:$H$800,7,0 )),"") | M99: =IF(從此工作表的A2貼上你的成績總表!AA48<>0,從此工作表的A2貼上你的成績總表!AA48,"")
F100: 選 | G100: =IFERROR(IF(VLOOKUP(D100,工作表2!$B$1:$H$199,3,0 )=0,"",VLOOKUP(D100,工作表2!$B$1:$H$199,3,0 )),"") | H100: =IFERROR(IF(VLOOKUP(D100,工作表2!$B$1:$H$199,4,0 )=0,"",VLOOKUP(D100,工作表2!$B$1:$H$199,4,0 )),"") | I100: =IFERROR(IF(VLOOKUP(D100,工作表2!$B$1:$H$199,5,0 )=0,"",VLOOKUP(D100,工作表2!$B$1:$H$199,5,0 )),"") | J100: =IFERROR(IF(VLOOKUP(D100,工作表2!$B$1:$H$199,6,0 )=0,"",VLOOKUP(D100,工作表2!$B$1:$H$199,6,0 )),"") | K100: =IFERROR(IF(VLOOKUP(D100,工作表2!$B$1:$H$199,7,0 )=0,"",VLOOKUP(D100,工作表2!$B$1:$H$199,7,0 )),"") | M100: =IF(從此工作表的A2貼上你的成績總表!AA35<>"",從此工作表的A2貼上你的成績總表!AA35,"")
...

Sheet 工作表2
B1: 課程名稱 | C1: 必選 | D1: 數學 | E1: 基礎科學 | F1: 理論 | G1: 設計 | H1: 通識課程
B2: 5G尖端技術系統應用與電子電路設計 | C2: 選 | F2: 2 | G2: 1
B3: Python程式語言與機器學習 | C3: 選 | F3: 1.5 | G3: 1.5
B4: RFID無線射頻技術理論與實習 | C4: 選 | F4: 1.5 | G4: 1.5
B5: 一年日文 | C5: 選 | H5: 3
B6: 二年日文 | C6: 選 | H6: 6
B7: 三年日文 | C7: 選 | H7: 6
B8: 一年法文 | C8: 選 | H8: 6
B9: 一年德文 | C9: 選 | H9: 6
B10: 二年德文 | C10: 選 | H10: 6
B11: 大一英文 | C11: 必 | H11: 3
B12: 大一體育 | C12: 必 | H12: 0
B13: 大二英文 | C13: 必 | H13: 2
B14: 大二體育 | C14: 必 | H14: 0
B15: 大數據機器學習導論 | C15: 選 | H15: 3
B16: 大學引導 | C16: 選 | H16: 1
... B18: 工程統整專題(二) | C18: 選 | H18: 3
B19: 工程數學（Ⅰ） | C19: 必 | D19: 3
B20: 工程數學（Ⅱ） | C20: 必 | D20: 3
B21: 工程數學軟體實習（Ⅰ） | C21: 必 | D21: 1
B22: 工程數學軟體實習（Ⅱ） | C22: 必 | D22: 1
B23: 工業工程學概論 | C23: 選 | E23: 3
B24: 中文 | C24: 必 | H24: 2
B25: 公民 | C25: 必 | H25: 2
B26: 天線理論 | C26: 選 | F26: 2 | G26: 1
B27: 太陽能電池及系統專題實作 | C27: 選 | F27: 1.5 | G27: 1.5
B28: 半導體元件物理 | C28: 必 | E28: 2 | F28: 1
B29: 半導體物理與製程導論 | C29: 選 | E29: 1 | F29: 2
B30: 可視光通訊與智慧照明 | C30: 選 | F30: 1 | G30: 2
B31: 生活與法律 | C31: 選 | H31: 2
B32: 生醫工程導論 | C32: 選 | F32: 3
B33: 生醫電子 | C33: 選 | F33: 3
B34: 企業採購契約法實務 | C34: 選 | H34: 3
B35: 先進車用電子系統與電路設計 | C35: 選 | F35: 3
B36: 先進製程專題 | C36: 選
B37: 光電工程導論 | C37: 選 | E37: 1 | F37: 2
B38: 光電半導體檢測及分析 | C38: 選 | F38: 1.5 | G38: 1.5
B39: 多元學習：Arduino 數位卡丁蟲 | C39: 選 | H39: 1
B40: 安全衛生概論 | C40: 選 | H40: 2
B41: 低功率多核心晶片設計 | C41: 選 | F41: 2 | G41: 1
B42: 低功率系統設計 | C42: 選 | F42: 2 | G42: 1
B43: 作業系統 | C43: 選 | F43: 2 | G43: 1
B44: 材料科學導論 | C44: 選 | E44: 1.5 | F44: 1.5
B45: 系統設計實務與職場實習 (Ⅱ) | C45: 選 | F45: 0.5 | G45: 2.5
B46: 每日美語 | C46: 選 | H46: 3
B47: 系統軟體實習（Ⅰ） | C47: 必 | F47: 0.5 | G47: 0.5
B48: 系統軟體實習（Ⅱ） | C48: 必 | F48: 0.5 | G48: 0.5
B49: 系統晶片設計 | C49: 選 | F49: 1.5 | G49: 1.5
B50: 初級應用數學(上) | C50: 選 | D50: 2
B51: 初級應用數學(下) | C51: 選 | D51: 2
B52: 固態物理導論 | C52: 選 | E52: 3
B53: 奈米生醫工程 | C53: 選 | F53: 3
B54: 奈米生醫感測器 | C54: 選 | F54: 1.5 | G54: 1.5
B55: 奈米生醫感測器實作 | C55: 選 | F55: 0.3 | G55: 0.7
B56: 奈米光電元件 | C56: 選 | F56: 1.5 | G56: 1.5
B57: 奈米材料與製造技術 | C57: 選 | F57: 3
B58: 奈米材料製造與量測技術 | C58: 選 | F58: 2 | G58: 1
B59: 奈米科技導論 | C59: 選 | F59: 3
B60: 奈米能源技術 | C60: 選 | F60: 2 | G60: 1
B61: 奈米電子材料與元件 | C61: 選 | F61: 3
B62: 奈米與光電科技導論 | C62: 選 | F62: 3
B63: 奈米積體電路製程整合 | C63: 選 | F63: 1 | G63: 2
B64: 物聯網數據採集系統實務 | C64: 選 | F64: 1 | G64: 2
B65: 近代世界的形成 | C65: 選 | H65: 2
B66: 近代物理導論 | C66: 必 | E66: 3
B67: 金融講堂 | C67: 選 | H67: 3
B68: 前瞻類比積體電路設計 | C68: 選 | F68: 2 | G68: 1
B69: 科技英文 | C69: 選 | F69: 1 | H69: 2
B70: 美日美語 | C70: 選 | H70: 3
B71: 英語動畫電影欣賞與討論 | C71: 選 | H71: 3
B72: 計算機組織 | C72: 選 | F72: 2 | G72: 1
B73: 軍訓 | C73: 必 | H73: 0
B74: 射頻通訊積體電路 | C74: 選 | F74: 1.5 | G74: 1.5
B75: 笑話聽讀講輕鬆學英文 | C75: 選 | H75: 3
B76: 訊號與系統 | C76: 必 | D76: 1.25 | F76: 1.5 | G76: 0.25
B77: 財金講堂 | C77: 選 | H77: 2
B78: 商標法與企業競爭 | C78: 選 | H78: 2
B79: 國際服務與領導學習 | C79: 選 | H79: 1
B80: 國際關係 | C80: 選 | H80: 2
B81: 基礎科技英文 | C81: 選 | E81: 1 | G81: 1 | H81: 1
B82: 專題研究：IC設計與無線通訊專題 | C82: 必 | F82: 1.5 | G82: 0.5
B83: 專題研究：奈米電子材料與能源技術專題 | C83: 必 | F83: 1.5 | G83: 0.5
B84: 專題討論(一) | C84: 選 | F84: 0.6 | H84: 0.4
B85: 專題討論(二) | C85: 選 | F85: 0.6 | H85: 0.4
B86: 專題實作：IC設計與無線通訊專題 | C86: 必 | F86: 0.5 | G86: 1.5
B87: 專題實作：奈米電子材料與能源技術專題 | C87: 必 | F87: 0.5 | G87: 1.5
B88: 從動漫學日文 | C88: 選 | H88: 3
B89: 從現代百老匯看社會 | C89: 選 | H89: 3
B90: 從歌曲笑話強化聽力、閱讀與文法 | C90: 選 | H90: 3
B91: 御宅文創專案實作基礎 | C91: 選 | H91: 3
B92: 控制工程導論 | C92: 選 | F92: 2 | G92: 1
B93: 教與學實務實習 | C93: 選 | H93: 1 | J93: =SUM(D93:H93) -> 1
B94: 混合訊號積體電路 | C94: 選 | F94: 1.5 | G94: 1.5
B95: 軟體工程 | C95: 選 | F95: 1.5 | G95: 1.5 | J95: =SUM(D95:H95) -> 3
B96: 通訊原理 | C96: 選 | D96: 1.5 | F96: 1.25 | G96: 0.25 | J96: =SUM(D96:H96) -> 3
B97: 都市及區域政策 | C97: 選 | H97: 3 | J97: =SUM(D97:H97) -> 3
B98: 嵌入式系統 | C98: 選 | F98: 1.5 | G98: 1.5 | J98: =SUM(D98:H98) -> 3
B99: 普通化學 | C99: 選 | E99: 3 | J99: =SUM(D99:H99) -> 3
B100: 普通化學實驗 | C100: 選 | E100: 1 | J100: =SUM(D100:H100) -> 1
B101: 普通物理 (Ⅰ) | C101: 必 | E101: 3 | J101: =SUM(D101:H101) -> 3
...

Sheet 從此工作表的A2貼上你的成績總表
A1: 學年度 | B1: 學期 | C1: 選課代號 | D1: 課程名稱 | E1: 學分 | F1: 成績 | L1: 必選 | M1: 數學 | N1: 基礎科學 | O1: 理論 | P1: 設計 | Q1: 通識課程 | V1: 課程 | W1: 學分 | X1: 等第 | Y1: 重複
G2: =IF(LEFT(D2,3)="全民國","軍訓",LEFT(D2,3)) | H2: =IF(ISNA(VLOOKUP(F2,$S$2:$T$14,2,0)),"",VLOOKUP(F2,$S$2:$T$14,2,0)) | I2: =IF(ISBLANK(F2),"",IF(H2<60,"","V")) | J2: =IF(F2="停修","",IF(F2>=60,E2,"")) | K2: =IF(H2>59,IF(LEFT(D2,4)="大一英文","大一英文",(IF(LEFT(D2,2)="中文","中文",(IF(LEFT(D2,4)="全民國防","軍訓",(IF(LEFT(D2,4)="大一體育","大一體育",(IF(LEFT(D2,4)="大二體育","大二體育",(IF(LEFT(D2,4)="大二英文","大二英文",D2))))))))))),"") -> 0 | L2: =IFERROR(IF(VLOOKUP(K2,工作表2!$B$2:$H$800,2,0 )=0,"",VLOOKUP(K2,工作表2!$B$2:$H$800,2,0 )),"") | M2: =IFERROR(IF(VLOOKUP(K2,工作表2!$B$2:$H$800,3,0 )=0,"",VLOOKUP(K2,工作表2!$B$2:$H$800,3,0 )),"") | N2: =IFERROR(IF(VLOOKUP(K2,工作表2!$B$2:$H$800,4,0 )=0,"",VLOOKUP(K2,工作表2!$B$2:$H$800,4,0 )),"") | O2: =IFERROR(IF(VLOOKUP(K2,工作表2!$B$2:$H$800,5,0 )=0,"",VLOOKUP(K2,工作表2!$B$2:$H$800,5,0 )),"") | P2: =IFERROR(IF(VLOOKUP(K2,工作表2!$B$2:$H$800,6,0 )=0,"",VLOOKUP(K2,工作表2!$B$2:$H$800,6,0 )),"") | Q2: =IFERROR(IF(VLOOKUP(K2,工作表2!$B$2:$H$800,7,0 )=0,"",VLOOKUP(K2,工作表2!$B$2:$H$800,7,0 )),"") | S2: A+ | T2: 95 | V2: =D2 -> 0 | W2: =E2 -> 0 | X2: =F2 -> 0 | Y2: =IF(COUNTIF($V$2:$V$258,V2)=1,0,1) -> 1 | AA2: {=_xlfn._xlws.FILTER(表格1[],表格1[重複]=0)} -> #VALUE! | AF2: 必選 | AG2: 有修嗎？
G3: =IF(LEFT(D3,3)="全民國","軍訓",LEFT(D3,3)) | H3: =IF(ISNA(VLOOKUP(F3,$S$2:$T$14,2,0)),"",VLOOKUP(F3,$S$2:$T$14,2,0)) | I3: =IF(ISBLANK(F3),"",IF(H3<60,"","V")) | J3: =IF(F3="停修","",IF(F3>=60,E3,"")) | K3: =IF(H3>59,IF(LEFT(D3,4)="大一英文","大一英文",(IF(LEFT(D3,2)="中文","中文",(IF(LEFT(D3,4)="全民國防","軍訓",(IF(LEFT(D3,4)="大一體育","大一體育",(IF(LEFT(D3,4)="大二體育","大二體育",(IF(LEFT(D3,4)="大二英文","大二英文",D3))))))))))),"") -> 0 | L3: =IFERROR(IF(VLOOKUP(K3,工作表2!$B$2:$H$800,2,0 )=0,"",VLOOKUP(K3,工作表2!$B$2:$H$800,2,0 )),"") | M3: =IFERROR(IF(VLOOKUP(K3,工作表2!$B$2:$H$800,3,0 )=0,"",VLOOKUP(K3,工作表2!$B$2:$H$800,3,0 )),"") | N3: =IFERROR(IF(VLOOKUP(K3,工作表2!$B$2:$H$800,4,0 )=0,"",VLOOKUP(K3,工作表2!$B$2:$H$800,4,0 )),"") | O3: =IFERROR(IF(VLOOKUP(K3,工作表2!$B$2:$H$800,5,0 )=0,"",VLOOKUP(K3,工作表2!$B$2:$H$800,5,0 )),"") | P3: =IFERROR(IF(VLOOKUP(K3,工作表2!$B$2:$H$800,6,0 )=0,"",VLOOKUP(K3,工作表2!$B$2:$H$800,6,0 )),"") | Q3: =IFERROR(IF(VLOOKUP(K3,工作表2!$B$2:$H$800,7,0 )=0,"",VLOOKUP(K3,工作表2!$B$2:$H$800,7,0 )),"") | S3: A | T3: 87 | V3: =D3 -> 0 | W3: =E3 -> 0 | X3: =F3 -> 0 | Y3: =IF(COUNTIF($V$2:$V$258,V3)=1,0,1) -> 1 | AF3: 生醫工程導論 | AG3: =IFERROR(_xlfn.XLOOKUP(AF3,$D$2:$D$180,$E$2:$E$180),0) -> 0
G4: =IF(LEFT(D4,3)="全民國","軍訓",LEFT(D4,3)) | H4: =IF(ISNA(VLOOKUP(F4,$S$2:$T$14,2,0)),"",VLOOKUP(F4,$S$2:$T$14,2,0)) | I4: =IF(ISBLANK(F4),"",IF(H4<60,"","V")) | J4: =IF(F4="停修","",IF(F4>=60,E4,"")) | K4: =IF(H4>59,IF(LEFT(D4,4)="大一英文","大一英文",(IF(LEFT(D4,2)="中文","中文",(IF(LEFT(D4,4)="全民國防","軍訓",(IF(LEFT(D4,4)="大一體育","大一體育",(IF(LEFT(D4,4)="大二體育","大二體育",(IF(LEFT(D4,4)="大二英文","大二英文",D4))))))))))),"") -> 0 | L4: =IFERROR(IF(VLOOKUP(K4,工作表2!$B$2:$H$800,2,0 )=0,"",VLOOKUP(K4,工作表2!$B$2:$H$800,2,0 )),"") | M4: =IFERROR(IF(VLOOKUP(K4,工作表2!$B$2:$H$800,3,0 )=0,"",VLOOKUP(K4,工作表2!$B$2:$H$800,3,0 )),"") | N4: =IFERROR(IF(VLOOKUP(K4,工作表2!$B$2:$H$800,4,0 )=0,"",VLOOKUP(K4,工作表2!$B$2:$H$800,4,0 )),"") | O4: =IFERROR(IF(VLOOKUP(K4,工作表2!$B$2:$H$800,5,0 )=0,"",VLOOKUP(K4,工作表2!$B$2:$H$800,5,0 )),"") | P4: =IFERROR(IF(VLOOKUP(K4,工作表2!$B$2:$H$800,6,0 )=0,"",VLOOKUP(K4,工作表2!$B$2:$H$800,6,0 )),"") | Q4: =IFERROR(IF(VLOOKUP(K4,工作表2!$B$2:$H$800,7,0 )=0,"",VLOOKUP(K4,工作表2!$B$2:$H$800,7,0 )),"") | S4: A- | T4: 82 | V4: =D4 -> 0 | W4: =E4 -> 0 | X4: =F4 -> 0 | Y4: =IF(COUNTIF($V$2:$V$258,V4)=1,0,1) -> 1 | AF4: 半導體元件物理 | AG4: =IFERROR(_xlfn.XLOOKUP(AF4,$D$2:$D$180,$E$2:$E$180),0) -> 0
G5: =IF(LEFT(D5,3)="全民國","軍訓",LEFT(D5,3)) | H5: =IF(ISNA(VLOOKUP(F5,$S$2:$T$14,2,0)),"",VLOOKUP(F5,$S$2:$T$14,2,0)) | I5: =IF(ISBLANK(F5),"",IF(H5<60,"","V")) | J5: =IF(F5="停修","",IF(F5>=60,E5,"")) | K5: =IF(H5>59,IF(LEFT(D5,4)="大一英文","大一英文",(IF(LEFT(D5,2)="中文","中文",(IF(LEFT(D5,4)="全民國防","軍訓",(IF(LEFT(D5,4)="大一體育","大一體育",(IF(LEFT(D5,4)="大二體育","大二體育",(IF(LEFT(D5,4)="大二英文","大二英文",D5))))))))))),"") -> 0 | L5: =IFERROR(IF(VLOOKUP(K5,工作表2!$B$2:$H$800,2,0 )=0,"",VLOOKUP(K5,工作表2!$B$2:$H$800,2,0 )),"") | M5: =IFERROR(IF(VLOOKUP(K5,工作表2!$B$2:$H$800,3,0 )=0,"",VLOOKUP(K5,工作表2!$B$2:$H$800,3,0 )),"") | N5: =IFERROR(IF(VLOOKUP(K5,工作表2!$B$2:$H$800,4,0 )=0,"",VLOOKUP(K5,工作表2!$B$2:$H$800,4,0 )),"") | O5: =IFERROR(IF(VLOOKUP(K5,工作表2!$B$2:$H$800,5,0 )=0,"",VLOOKUP(K5,工作表2!$B$2:$H$800,5,0 )),"") | P5: =IFERROR(IF(VLOOKUP(K5,工作表2!$B$2:$H$800,6,0 )=0,"",VLOOKUP(K5,工作表2!$B$2:$H$800,6,0 )),"") | Q5: =IFERROR(IF(VLOOKUP(K5,工作表2!$B$2:$H$800,7,0 )=0,"",VLOOKUP(K5,工作表2!$B$2:$H$800,7,0 )),"") | S5: B+ | T5: 78 | V5: =D5 -> 0 | W5: =E5 -> 0 | X5: =F5 -> 0 | Y5: =IF(COUNTIF($V$2:$V$258,V5)=1,0,1) -> 1 | AF5: 積體電路製程整合 | AG5: =IFERROR(_xlfn.XLOOKUP(AF5,$D$2:$D$180,$E$2:$E$180),0) -> 0
G6: =IF(LEFT(D6,3)="全民國","軍訓",LEFT(D6,3)) | H6: =IF(ISNA(VLOOKUP(F6,$S$2:$T$14,2,0)),"",VLOOKUP(F6,$S$2:$T$14,2,0)) | I6: =IF(ISBLANK(F6),"",IF(H6<60,"","V")) | J6: =IF(F6="停修","",IF(F6>=60,E6,"")) | K6: =IF(H6>59,IF(LEFT(D6,4)="大一英文","大一英文",(IF(LEFT(D6,2)="中文","中文",(IF(LEFT(D6,4)="全民國防","軍訓",(IF(LEFT(D6,4)="大一體育","大一體育",(IF(LEFT(D6,4)="大二體育","大二體育",(IF(LEFT(D6,4)="大二英文","大二英文",D6))))))))))),"") -> 0 | L6: =IFERROR(IF(VLOOKUP(K6,工作表2!$B$2:$H$800,2,0 )=0,"",VLOOKUP(K6,工作表2!$B$2:$H$800,2,0 )),"") | M6: =IFERROR(IF(VLOOKUP(K6,工作表2!$B$2:$H$800,3,0 )=0,"",VLOOKUP(K6,工作表2!$B$2:$H$800,3,0 )),"") | N6: =IFERROR(IF(VLOOKUP(K6,工作表2!$B$2:$H$800,4,0 )=0,"",VLOOKUP(K6,工作表2!$B$2:$H$800,4,0 )),"") | O6: =IFERROR(IF(VLOOKUP(K6,工作表2!$B$2:$H$800,5,0 )=0,"",VLOOKUP(K6,工作表2!$B$2:$H$800,5,0 )),"") | P6: =IFERROR(IF(VLOOKUP(K6,工作表2!$B$2:$H$800,6,0 )=0,"",VLOOKUP(K6,工作表2!$B$2:$H$800,6,0 )),"") | Q6: =IFERROR(IF(VLOOKUP(K6,工作表2!$B$2:$H$800,7,0 )=0,"",VLOOKUP(K6,工作表2!$B$2:$H$800,7,0 )),"") | S6: B | T6: 75 | V6: =D6 -> 0 | W6: =E6 -> 0 | X6: =F6 -> 0 | Y6: =IF(COUNTIF($V$2:$V$258,V6)=1,0,1) -> 1 | AF6: 積體電路製程整合實驗 | AG6: =IFERROR(_xlfn.XLOOKUP(AF6,$D$2:$D$180,$E$2:$E$180),0) -> 0
G7: =IF(LEFT(D7,3)="全民國","軍訓",LEFT(D7,3)) | H7: =IF(ISNA(VLOOKUP(F7,$S$2:$T$14,2,0)),"",VLOOKUP(F7,$S$2:$T$14,2,0)) | I7: =IF(ISBLANK(F7),"",IF(H7<60,"","V")) | J7: =IF(F7="停修","",IF(F7>=60,E7,"")) | K7: =IF(H7>59,IF(LEFT(D7,4)="大一英文","大一英文",(IF(LEFT(D7,2)="中文","中文",(IF(LEFT(D7,4)="全民國防","軍訓",(IF(LEFT(D7,4)="大一體育","大一體育",(IF(LEFT(D7,4)="大二體育","大二體育",(IF(LEFT(D7,4)="大二英文","大二英文",D7))))))))))),"") -> 0 | L7: =IFERROR(IF(VLOOKUP(K7,工作表2!$B$2:$H$800,2,0 )=0,"",VLOOKUP(K7,工作表2!$B$2:$H$800,2,0 )),"") | M7: =IFERROR(IF(VLOOKUP(K7,工作表2!$B$2:$H$800,3,0 )=0,"",VLOOKUP(K7,工作表2!$B$2:$H$800,3,0 )),"") | N7: =IFERROR(IF(VLOOKUP(K7,工作表2!$B$2:$H$800,4,0 )=0,"",VLOOKUP(K7,工作表2!$B$2:$H$800,4,0 )),"") | O7: =IFERROR(IF(VLOOKUP(K7,工作表2!$B$2:$H$800,5,0 )=0,"",VLOOKUP(K7,工作表2!$B$2:$H$800,5,0 )),"") | P7: =IFERROR(IF(VLOOKUP(K7,工作表2!$B$2:$H$800,6,0 )=0,"",VLOOKUP(K7,工作表2!$B$2:$H$800,6,0 )),"") | Q7: =IFERROR(IF(VLOOKUP(K7,工作表2!$B$2:$H$800,7,0 )=0,"",VLOOKUP(K7,工作表2!$B$2:$H$800,7,0 )),"") | S7: B- | T7: 71 | V7: =D7 -> 0 | W7: =E7 -> 0 | X7: =F7 -> 0 | Y7: =IF(COUNTIF($V$2:$V$258,V7)=1,0,1) -> 1 | AF7: 半導體材料與元件實驗 | AG7: =IFERROR(_xlfn.XLOOKUP(AF7,$D$2:$D$180,$E$2:$E$180),0) -> 0
G8: =IF(LEFT(D8,3)="全民國","軍訓",LEFT(D8,3)) | H8: =IF(ISNA(VLOOKUP(F8,$S$2:$T$14,2,0)),"",VLOOKUP(F8,$S$2:$T$14,2,0)) | I8: =IF(ISBLANK(F8),"",IF(H8<60,"","V")) | J8: =IF(F8="停修","",IF(F8>=60,E8,"")) | K8: =IF(H8>59,IF(LEFT(D8,4)="大一英文","大一英文",(IF(LEFT(D8,2)="中文","中文",(IF(LEFT(D8,4)="全民國防","軍訓",(IF(LEFT(D8,4)="大一體育","大一體育",(IF(LEFT(D8,4)="大二體育","大二體育",(IF(LEFT(D8,4)="大二英文","大二英文",D8))))))))))),"") -> 0 | L8: =IFERROR(IF(VLOOKUP(K8,工作表2!$B$2:$H$800,2,0 )=0,"",VLOOKUP(K8,工作表2!$B$2:$H$800,2,0 )),"") | M8: =IFERROR(IF(VLOOKUP(K8,工作表2!$B$2:$H$800,3,0 )=0,"",VLOOKUP(K8,工作表2!$B$2:$H$800,3,0 )),"") | N8: =IFERROR(IF(VLOOKUP(K8,工作表2!$B$2:$H$800,4,0 )=0,"",VLOOKUP(K8,工作表2!$B$2:$H$800,4,0 )),"") | O8: =IFERROR(IF(VLOOKUP(K8,工作表2!$B$2:$H$800,5,0 )=0,"",VLOOKUP(K8,工作表2!$B$2:$H$800,5,0 )),"") | P8: =IFERROR(IF(VLOOKUP(K8,工作表2!$B$2:$H$800,6,0 )=0,"",VLOOKUP(K8,工作表2!$B$2:$H$800,6,0 )),"") | Q8: =IFERROR(IF(VLOOKUP(K8,工作表2!$B$2:$H$800,7,0 )=0,"",VLOOKUP(K8,工作表2!$B$2:$H$800,7,0 )),"") | S8: C+ | T8: 68 | V8: =D8 -> 0 | W8: =E8 -> 0 | X8: =F8 -> 0 | Y8: =IF(COUNTIF($V$2:$V$258,V8)=1,0,1) -> 1 | AF8: 電腦網路概論 | AG8: =IFERROR(_xlfn.XLOOKUP(AF8,$D$2:$D$180,$E$2:$E$180),0) -> 0
G9: =IF(LEFT(D9,3)="全民國","軍訓",LEFT(D9,3)) | H9: =IF(ISNA(VLOOKUP(F9,$S$2:$T$14,2,0)),"",VLOOKUP(F9,$S$2:$T$14,2,0)) | I9: =IF(ISBLANK(F9),"",IF(H9<60,"","V")) | J9: =IF(F9="停修","",IF(F9>=60,E9,"")) | K9: =IF(H9>59,IF(LEFT(D9,4)="大一英文","大一英文",(IF(LEFT(D9,2)="中文","中文",(IF(LEFT(D9,4)="全民國防","軍訓",(IF(LEFT(D9,4)="大一體育","大一體育",(IF(LEFT(D9,4)="大二體育","大二體育",(IF(LEFT(D9,4)="大二英文","大二英文",D9))))))))))),"") -> 0 | L9: =IFERROR(IF(VLOOKUP(K9,工作表2!$B$2:$H$800,2,0 )=0,"",VLOOKUP(K9,工作表2!$B$2:$H$800,2,0 )),"") | M9: =IFERROR(IF(VLOOKUP(K9,工作表2!$B$2:$H$800,3,0 )=0,"",VLOOKUP(K9,工作表2!$B$2:$H$800,3,0 )),"") | N9: =IFERROR(IF(VLOOKUP(K9,工作表2!$B$2:$H$800,4,0 )=0,"",VLOOKUP(K9,工作表2!$B$2:$H$800,4,0 )),"") | O9: =IFERROR(IF(VLOOKUP(K9,工作表2!$B$2:$H$800,5,0 )=0,"",VLOOKUP(K9,工作表2!$B$2:$H$800,5,0 )),"") | P9: =IFERROR(IF(VLOOKUP(K9,工作表2!$B$2:$H$800,6,0 )=0,"",VLOOKUP(K9,工作表2!$B$2:$H$800,6,0 )),"") | Q9: =IFERROR(IF(VLOOKUP(K9,工作表2!$B$2:$H$800,7,0 )=0,"",VLOOKUP(K9,工作表2!$B$2:$H$800,7,0 )),"") | S9: C | T9: 65 | V9: =D9 -> 0 | W9: =E9 -> 0 | X9: =F9 -> 0 | Y9: =IF(COUNTIF($V$2:$V$258,V9)=1,0,1) -> 1 | AF9: 通訊原理 | AG9: =IFERROR(_xlfn.XLOOKUP(AF9,$D$2:$D$180,$E$2:$E$180),0) -> 0
G10: =IF(LEFT(D10,3)="全民國","軍訓",LEFT(D10,3)) | H10: =IF(ISNA(VLOOKUP(F10,$S$2:$T$14,2,0)),"",VLOOKUP(F10,$S$2:$T$14,2,0)) | I10: =IF(ISBLANK(F10),"",IF(H10<60,"","V")) | J10: =IF(F10="停修","",IF(F10>=60,E10,"")) | K10: =IF(H10>59,IF(LEFT(D10,4)="大一英文","大一英文",(IF(LEFT(D10,2)="中文","中文",(IF(LEFT(D10,4)="全民國防","軍訓",(IF(LEFT(D10,4)="大一體育","大一體育",(IF(LEFT(D10,4)="大二體育","大二體育",(IF(LEFT(D10,4)="大二英文","大二英文",D10))))))))))),"") -> 0 | L10: =IFERROR(IF(VLOOKUP(K10,工作表2!$B$2:$H$800,2,0 )=0,"",VLOOKUP(K10,工作表2!$B$2:$H$800,2,0 )),"") | M10: =IFERROR(IF(VLOOKUP(K10,工作表2!$B$2:$H$800,3,0 )=0,"",VLOOKUP(K10,工作表2!$B$2:$H$800,3,0 )),"") | N10: =IFERROR(IF(VLOOKUP(K10,工作表2!$B$2:$H$800,4,0 )=0,"",VLOOKUP(K10,工作表2!$B$2:$H$800,4,0 )),"") | O10: =IFERROR(IF(VLOOKUP(K10,工作表2!$B$2:$H$800,5,0 )=0,"",VLOOKUP(K10,工作表2!$B$2:$H$800,5,0 )),"") | P10: =IFERROR(IF(VLOOKUP(K10,工作表2!$B$2:$H$800,6,0 )=0,"",VLOOKUP(K10,工作表2!$B$2:$H$800,6,0 )),"") | Q10: =IFERROR(IF(VLOOKUP(K10,工作表2!$B$2:$H$800,7,0 )=0,"",VLOOKUP(K10,工作表2!$B$2:$H$800,7,0 )),"") | S10: C- | T10: 61 | V10: =D10 -> 0 | W10: =E10 -> 0 | X10: =F10 -> 0 | Y10: =IF(COUNTIF($V$2:$V$258,V10)=1,0,1) -> 1 | AF10: 機率與統計 | AG10: =IFERROR(_xlfn.XLOOKUP(AF10,$D$2:$D$180,$E$2:$E$180),0) -> 0
G11: =IF(LEFT(D11,3)="全民國","軍訓",LEFT(D11,3)) | H11: =IF(ISNA(VLOOKUP(F11,$S$2:$T$14,2,0)),"",VLOOKUP(F11,$S$2:$T$14,2,0)) | I11: =IF(ISBLANK(F11),"",IF(H11<60,"","V")) | J11: =IF(F11="停修","",IF(F11>=60,E11,"")) | K11: =IF(H11>59,IF(LEFT(D11,4)="大一英文","大一英文",(IF(LEFT(D11,2)="中文","中文",(IF(LEFT(D11,4)="全民國防","軍訓",(IF(LEFT(D11,4)="大一體育","大一體育",(IF(LEFT(D11,4)="大二體育","大二體育",(IF(LEFT(D11,4)="大二英文","大二英文",D11))))))))))),"") -> 0 | L11: =IFERROR(IF(VLOOKUP(K11,工作表2!$B$2:$H$800,2,0 )=0,"",VLOOKUP(K11,工作表2!$B$2:$H$800,2,0 )),"") | M11: =IFERROR(IF(VLOOKUP(K11,工作表2!$B$2:$H$800,3,0 )=0,"",VLOOKUP(K11,工作表2!$B$2:$H$800,3,0 )),"") | N11: =IFERROR(IF(VLOOKUP(K11,工作表2!$B$2:$H$800,4,0 )=0,"",VLOOKUP(K11,工作表2!$B$2:$H$800,4,0 )),"") | O11: =IFERROR(IF(VLOOKUP(K11,工作表2!$B$2:$H$800,5,0 )=0,"",VLOOKUP(K11,工作表2!$B$2:$H$800,5,0 )),"") | P11: =IFERROR(IF(VLOOKUP(K11,工作表2!$B$2:$H$800,6,0 )=0,"",VLOOKUP(K11,工作表2!$B$2:$H$800,6,0 )),"") | Q11: =IFERROR(IF(VLOOKUP(K11,工作表2!$B$2:$H$800,7,0 )=0,"",VLOOKUP(K11,工作表2!$B$2:$H$800,7,0 )),"") | S11: 抵免 | T11: 99 | V11: =D11 -> 0 | W11: =E11 -> 0 | X11: =F11 -> 0 | Y11: =IF(COUNTIF($V$2:$V$258,V11)=1,0,1) -> 1 | AF11: 數位訊號處理導論 | AG11: =IFERROR(_xlfn.XLOOKUP(AF11,$D$2:$D$180,$E$2:$E$180),0) -> 0
G12: =IF(LEFT(D12,3)="全民國","軍訓",LEFT(D12,3)) | H12: =IF(ISNA(VLOOKUP(F12,$S$2:$T$14,2,0)),"",VLOOKUP(F12,$S$2:$T$14,2,0)) | I12: =IF(ISBLANK(F12),"",IF(H12<60,"","V")) | J12: =IF(F12="停修","",IF(F12>=60,E12,"")) | K12: =IF(H12>59,IF(LEFT(D12,4)="大一英文","大一英文",(IF(LEFT(D12,2)="中文","中文",(IF(LEFT(D12,4)="全民國防","軍訓",(IF(LEFT(D12,4)="大一體育","大一體育",(IF(LEFT(D12,4)="大二體育","大二體育",(IF(LEFT(D12,4)="大二英文","大二英文",D12))))))))))),"") -> 0 | L12: =IFERROR(IF(VLOOKUP(K12,工作表2!$B$2:$H$800,2,0 )=0,"",VLOOKUP(K12,工作表2!$B$2:$H$800,2,0 )),"") | M12: =IFERROR(IF(VLOOKUP(K12,工作表2!$B$2:$H$800,3,0 )=0,"",VLOOKUP(K12,工作表2!$B$2:$H$800,3,0 )),"") | N12: =IFERROR(IF(VLOOKUP(K12,工作表2!$B$2:$H$800,4,0 )=0,"",VLOOKUP(K12,工作表2!$B$2:$H$800,4,0 )),"") | O12: =IFERROR(IF(VLOOKUP(K12,工作表2!$B$2:$H$800,5,0 )=0,"",VLOOKUP(K12,工作表2!$B$2:$H$800,5,0 )),"") | P12: =IFERROR(IF(VLOOKUP(K12,工作表2!$B$2:$H$800,6,0 )=0,"",VLOOKUP(K12,工作表2!$B$2:$H$800,6,0 )),"") | Q12: =IFERROR(IF(VLOOKUP(K12,工作表2!$B$2:$H$800,7,0 )=0,"",VLOOKUP(K12,工作表2!$B$2:$H$800,7,0 )),"") | S12: D | T12: 55 | V12: =D12 -> 0 | W12: =E12 -> 0 | X12: =F12 -> 0 | Y12: =IF(COUNTIF($V$2:$V$258,V12)=1,0,1) -> 1 | AF12: 基礎通訊實驗 | AG12: =IFERROR(_xlfn.XLOOKUP(AF12,$D$2:$D$180,$E$2:$E$180),0) -> 0
G13: =IF(LEFT(D13,3)="全民國","軍訓",LEFT(D13,3)) | H13: =IF(ISNA(VLOOKUP(F13,$S$2:$T$14,2,0)),"",VLOOKUP(F13,$S$2:$T$14,2,0)) | I13: =IF(ISBLANK(F13),"",IF(H13<60,"","V")) | J13: =IF(F13="停修","",IF(F13>=60,E13,"")) | K13: =IF(H13>59,IF(LEFT(D13,4)="大一英文","大一英文",(IF(LEFT(D13,2)="中文","中文",(IF(LEFT(D13,4)="全民國防","軍訓",(IF(LEFT(D13,4)="大一體育","大一體育",(IF(LEFT(D13,4)="大二體育","大二體育",(IF(LEFT(D13,4)="大二英文","大二英文",D13))))))))))),"") -> 0 | L13: =IFERROR(IF(VLOOKUP(K13,工作表2!$B$2:$H$800,2,0 )=0,"",VLOOKUP(K13,工作表2!$B$2:$H$800,2,0 )),"") | M13: =IFERROR(IF(VLOOKUP(K13,工作表2!$B$2:$H$800,3,0 )=0,"",VLOOKUP(K13,工作表2!$B$2:$H$800,3,0 )),"") | N13: =IFERROR(IF(VLOOKUP(K13,工作表2!$B$2:$H$800,4,0 )=0,"",VLOOKUP(K13,工作表2!$B$2:$H$800,4,0 )),"") | O13: =IFERROR(IF(VLOOKUP(K13,工作表2!$B$2:$H$800,5,0 )=0,"",VLOOKUP(K13,工作表2!$B$2:$H$800,5,0 )),"") | P13: =IFERROR(IF(VLOOKUP(K13,工作表2!$B$2:$H$800,6,0 )=0,"",VLOOKUP(K13,工作表2!$B$2:$H$800,6,0 )),"") | Q13: =IFERROR(IF(VLOOKUP(K13,工作表2!$B$2:$H$800,7,0 )=0,"",VLOOKUP(K13,工作表2!$B$2:$H$800,7,0 )),"") | S13: E | T13: 49 | V13: =D13 -> 0 | W13: =E13 -> 0 | X13: =F13 -> 0 | Y13: =IF(COUNTIF($V$2:$V$258,V13)=1,0,1) -> 1 | AF13: 射頻電路實驗 | AG13: =IFERROR(_xlfn.XLOOKUP(AF13,$D$2:$D$180,$E$2:$E$180),0) -> 0
G14: =IF(LEFT(D14,3)="全民國","軍訓",LEFT(D14,3)) | H14: =IF(ISNA(VLOOKUP(F14,$S$2:$T$14,2,0)),"",VLOOKUP(F14,$S$2:$T$14,2,0)) | I14: =IF(ISBLANK(F14),"",IF(H14<60,"","V")) | J14: =IF(F14="停修","",IF(F14>=60,E14,"")) | K14: =IF(H14>59,IF(LEFT(D14,4)="大一英文","大一英文",(IF(LEFT(D14,2)="中文","中文",(IF(LEFT(D14,4)="全民國防","軍訓",(IF(LEFT(D14,4)="大一體育","大一體育",(IF(LEFT(D14,4)="大二體育","大二體育",(IF(LEFT(D14,4)="大二英文","大二英文",D14))))))))))),"") -> 0 | L14: =IFERROR(IF(VLOOKUP(K14,工作表2!$B$2:$H$800,2,0 )=0,"",VLOOKUP(K14,工作表2!$B$2:$H$800,2,0 )),"") | M14: =IFERROR(IF(VLOOKUP(K14,工作表2!$B$2:$H$800,3,0 )=0,"",VLOOKUP(K14,工作表2!$B$2:$H$800,3,0 )),"") | N14: =IFERROR(IF(VLOOKUP(K14,工作表2!$B$2:$H$800,4,0 )=0,"",VLOOKUP(K14,工作表2!$B$2:$H$800,4,0 )),"") | O14: =IFERROR(IF(VLOOKUP(K14,工作表2!$B$2:$H$800,5,0 )=0,"",VLOOKUP(K14,工作表2!$B$2:$H$800,5,0 )),"") | P14: =IFERROR(IF(VLOOKUP(K14,工作表2!$B$2:$H$800,6,0 )=0,"",VLOOKUP(K14,工作表2!$B$2:$H$800,6,0 )),"") | Q14: =IFERROR(IF(VLOOKUP(K14,工作表2!$B$2:$H$800,7,0 )=0,"",VLOOKUP(K14,工作表2!$B$2:$H$800,7,0 )),"") | S14: X | T14: 0 | V14: =D14 -> 0 | W14: =E14 -> 0 | X14: =F14 -> 0 | Y14: =IF(COUNTIF($V$2:$V$258,V14)=1,0,1) -> 1 | AF14: 數位系統雛型設計 | AG14: =IFERROR(_xlfn.XLOOKUP(AF14,$D$2:$D$180,$E$2:$E$180),0) -> 0
G15: =IF(LEFT(D15,3)="全民國","軍訓",LEFT(D15,3)) | H15: =IF(ISNA(VLOOKUP(F15,$S$2:$T$14,2,0)),"",VLOOKUP(F15,$S$2:$T$14,2,0)) | I15: =IF(ISBLANK(F15),"",IF(H15<60,"","V")) | J15: =IF(F15="停修","",IF(F15>=60,E15,"")) | K15: =IF(H15>59,IF(LEFT(D15,4)="大一英文","大一英文",(IF(LEFT(D15,2)="中文","中文",(IF(LEFT(D15,4)="全民國防","軍訓",(IF(LEFT(D15,4)="大一體育","大一體育",(IF(LEFT(D15,4)="大二體育","大二體育",(IF(LEFT(D15,4)="大二英文","大二英文",D15))))))))))),"") -> 0 | L15: =IFERROR(IF(VLOOKUP(K15,工作表2!$B$2:$H$800,2,0 )=0,"",VLOOKUP(K15,工作表2!$B$2:$H$800,2,0 )),"") | M15: =IFERROR(IF(VLOOKUP(K15,工作表2!$B$2:$H$800,3,0 )=0,"",VLOOKUP(K15,工作表2!$B$2:$H$800,3,0 )),"") | N15: =IFERROR(IF(VLOOKUP(K15,工作表2!$B$2:$H$800,4,0 )=0,"",VLOOKUP(K15,工作表2!$B$2:$H$800,4,0 )),"") | O15: =IFERROR(IF(VLOOKUP(K15,工作表2!$B$2:$H$800,5,0 )=0,"",VLOOKUP(K15,工作表2!$B$2:$H$800,5,0 )),"") | P15: =IFERROR(IF(VLOOKUP(K15,工作表2!$B$2:$H$800,6,0 )=0,"",VLOOKUP(K15,工作表2!$B$2:$H$800,6,0 )),"") | Q15: =IFERROR(IF(VLOOKUP(K15,工作表2!$B$2:$H$800,7,0 )=0,"",VLOOKUP(K15,工作表2!$B$2:$H$800,7,0 )),"") | V15: =D15 -> 0 | W15: =E15 -> 0 | X15: =F15 -> 0 | Y15: =IF(COUNTIF($V$2:$V$258,V15)=1,0,1) -> 1 | AF15: 超大型積體電路設計導論 | AG15: =IFERROR(_xlfn.XLOOKUP(AF15,$D$2:$D$180,$E$2:$E$180),0) -> 0
G16: =IF(LEFT(D16,3)="全民國","軍訓",LEFT(D16,3)) | H16: =IF(ISNA(VLOOKUP(F16,$S$2:$T$14,2,0)),"",VLOOKUP(F16,$S$2:$T$14,2,0)) | I16: =IF(ISBLANK(F16),"",IF(H16<60,"","V")) | J16: =IF(F16="停修","",IF(F16>=60,E16,"")) | K16: =IF(H16>59,IF(LEFT(D16,4)="大一英文","大一英文",(IF(LEFT(D16,2)="中文","中文",(IF(LEFT(D16,4)="全民國防","軍訓",(IF(LEFT(D16,4)="大一體育","大一體育",(IF(LEFT(D16,4)="大二體育","大二體育",(IF(LEFT(D16,4)="大二英文","大二英文",D16))))))))))),"") -> 0 | L16: =IFERROR(IF(VLOOKUP(K16,工作表2!$B$2:$H$800,2,0 )=0,"",VLOOKUP(K16,工作表2!$B$2:$H$800,2,0 )),"") | M16: =IFERROR(IF(VLOOKUP(K16,工作表2!$B$2:$H$800,3,0 )=0,"",VLOOKUP(K16,工作表2!$B$2:$H$800,3,0 )),"") | N16: =IFERROR(IF(VLOOKUP(K16,工作表2!$B$2:$H$800,4,0 )=0,"",VLOOKUP(K16,工作表2!$B$2:$H$800,4,0 )),"") | O16: =IFERROR(IF(VLOOKUP(K16,工作表2!$B$2:$H$800,5,0 )=0,"",VLOOKUP(K16,工作表2!$B$2:$H$800,5,0 )),"") | P16: =IFERROR(IF(VLOOKUP(K16,工作表2!$B$2:$H$800,6,0 )=0,"",VLOOKUP(K16,工作表2!$B$2:$H$800,6,0 )),"") | Q16: =IFERROR(IF(VLOOKUP(K16,工作表2!$B$2:$H$800,7,0 )=0,"",VLOOKUP(K16,工作表2!$B$2:$H$800,7,0 )),"") | V16: =D16 -> 0 | W16: =E16 -> 0 | X16: =F16 -> 0 | Y16: =IF(COUNTIF($V$2:$V$258,V16)=1,0,1) -> 1 | AF16: 類比積體電路設計導論 | AG16: =IFERROR(_xlfn.XLOOKUP(AF16,$D$2:$D$180,$E$2:$E$180),0) -> 0
G17: =IF(LEFT(D17,3)="全民國","軍訓",LEFT(D17,3)) | H17: =IF(ISNA(VLOOKUP(F17,$S$2:$T$14,2,0)),"",VLOOKUP(F17,$S$2:$T$14,2,0)) | I17: =IF(ISBLANK(F17),"",IF(H17<60,"","V")) | J17: =IF(F17="停修","",IF(F17>=60,E17,"")) | K17: =IF(H17>59,IF(LEFT(D17,4)="大一英文","大一英文",(IF(LEFT(D17,2)="中文","中文",(IF(LEFT(D17,4)="全民國防","軍訓",(IF(LEFT(D17,4)="大一體育","大一體育",(IF(LEFT(D17,4)="大二體育","大二體育",(IF(LEFT(D17,4)="大二英文","大二英文",D17))))))))))),"") -> 0 | L17: =IFERROR(IF(VLOOKUP(K17,工作表2!$B$2:$H$800,2,0 )=0,"",VLOOKUP(K17,工作表2!$B$2:$H$800,2,0 )),"") | M17: =IFERROR(IF(VLOOKUP(K17,工作表2!$B$2:$H$800,3,0 )=0,"",VLOOKUP(K17,工作表2!$B$2:$H$800,3,0 )),"") | N17: =IFERROR(IF(VLOOKUP(K17,工作表2!$B$2:$H$800,4,0 )=0,"",VLOOKUP(K17,工作表2!$B$2:$H$800,4,0 )),"") | O17: =IFERROR(IF(VLOOKUP(K17,工作表2!$B$2:$H$800,5,0 )=0,"",VLOOKUP(K17,工作表2!$B$2:$H$800,5,0 )),"") | P17: =IFERROR(IF(VLOOKUP(K17,工作表2!$B$2:$H$800,6,0 )=0,"",VLOOKUP(K17,工作表2!$B$2:$H$800,6,0 )),"") | Q17: =IFERROR(IF(VLOOKUP(K17,工作表2!$B$2:$H$800,7,0 )=0,"",VLOOKUP(K17,工作表2!$B$2:$H$800,7,0 )),"") | V17: =D17 -> 0 | W17: =E17 -> 0 | X17: =F17 -> 0 | Y17: =IF(COUNTIF($V$2:$V$258,V17)=1,0,1) -> 1 | AF17: 數位系統雛型設計實驗 | AG17: =IFERROR(_xlfn.XLOOKUP(AF17,$D$2:$D$180,$E$2:$E$180),0) -> 0
G18: =IF(LEFT(D18,3)="全民國","軍訓",LEFT(D18,3)) | H18: =IF(ISNA(VLOOKUP(F18,$S$2:$T$14,2,0)),"",VLOOKUP(F18,$S$2:$T$14,2,0)) | I18: =IF(ISBLANK(F18),"",IF(H18<60,"","V")) | J18: =IF(F18="停修","",IF(F18>=60,E18,"")) | K18: =IF(H18>59,IF(LEFT(D18,4)="大一英文","大一英文",(IF(LEFT(D18,2)="中文","中文",(IF(LEFT(D18,4)="全民國防","軍訓",(IF(LEFT(D18,4)="大一體育","大一體育",(IF(LEFT(D18,4)="大二體育","大二體育",(IF(LEFT(D18,4)="大二英文","大二英文",D18))))))))))),"") -> 0 | L18: =IFERROR(IF(VLOOKUP(K18,工作表2!$B$2:$H$800,2,0 )=0,"",VLOOKUP(K18,工作表2!$B$2:$H$800,2,0 )),"") | M18: =IFERROR(IF(VLOOKUP(K18,工作表2!$B$2:$H$800,3,0 )=0,"",VLOOKUP(K18,工作表2!$B$2:$H$800,3,0 )),"") | N18: =IFERROR(IF(VLOOKUP(K18,工作表2!$B$2:$H$800,4,0 )=0,"",VLOOKUP(K18,工作表2!$B$2:$H$800,4,0 )),"") | O18: =IFERROR(IF(VLOOKUP(K18,工作表2!$B$2:$H$800,5,0 )=0,"",VLOOKUP(K18,工作表2!$B$2:$H$800,5,0 )),"") | P18: =IFERROR(IF(VLOOKUP(K18,工作表2!$B$2:$H$800,6,0 )=0,"",VLOOKUP(K18,工作表2!$B$2:$H$800,6,0 )),"") | Q18: =IFERROR(IF(VLOOKUP(K18,工作表2!$B$2:$H$800,7,0 )=0,"",VLOOKUP(K18,工作表2!$B$2:$H$800,7,0 )),"") | V18: =D18 -> 0 | W18: =E18 -> 0 | X18: =F18 -> 0 | Y18: =IF(COUNTIF($V$2:$V$258,V18)=1,0,1) -> 1 | AF18: 積體電路實驗 | AG18: =IFERROR(_xlfn.XLOOKUP(AF18,$D$2:$D$180,$E$2:$E$180),0) -> 0
G19: =IF(LEFT(D19,3)="全民國","軍訓",LEFT(D19,3)) | H19: =IF(ISNA(VLOOKUP(F19,$S$2:$T$14,2,0)),"",VLOOKUP(F19,$S$2:$T$14,2,0)) | I19: =IF(ISBLANK(F19),"",IF(H19<60,"","V")) | J19: =IF(F19="停修","",IF(F19>=60,E19,"")) | K19: =IF(H19>59,IF(LEFT(D19,4)="大一英文","大一英文",(IF(LEFT(D19,2)="中文","中文",(IF(LEFT(D19,4)="全民國防","軍訓",(IF(LEFT(D19,4)="大一體育","大一體育",(IF(LEFT(D19,4)="大二體育","大二體育",(IF(LEFT(D19,4)="大二英文","大二英文",D19))))))))))),"") -> 0 | L19: =IFERROR(IF(VLOOKUP(K19,工作表2!$B$2:$H$800,2,0 )=0,"",VLOOKUP(K19,工作表2!$B$2:$H$800,2,0 )),"") | M19: =IFERROR(IF(VLOOKUP(K19,工作表2!$B$2:$H$800,3,0 )=0,"",VLOOKUP(K19,工作表2!$B$2:$H$800,3,0 )),"") | N19: =IFERROR(IF(VLOOKUP(K19,工作表2!$B$2:$H$800,4,0 )=0,"",VLOOKUP(K19,工作表2!$B$2:$H$800,4,0 )),"") | O19: =IFERROR(IF(VLOOKUP(K19,工作表2!$B$2:$H$800,5,0 )=0,"",VLOOKUP(K19,工作表2!$B$2:$H$800,5,0 )),"") | P19: =IFERROR(IF(VLOOKUP(K19,工作表2!$B$2:$H$800,6,0 )=0,"",VLOOKUP(K19,工作表2!$B$2:$H$800,6,0 )),"") | Q19: =IFERROR(IF(VLOOKUP(K19,工作表2!$B$2:$H$800,7,0 )=0,"",VLOOKUP(K19,工作表2!$B$2:$H$800,7,0 )),"") | V19: =D19 -> 0 | W19: =E19 -> 0 | X19: =F19 -> 0 | Y19: =IF(COUNTIF($V$2:$V$258,V19)=1,0,1) -> 1 | AF19: 感測器原理 | AG19: =IFERROR(_xlfn.XLOOKUP(AF19,$D$2:$D$180,$E$2:$E$180),0) -> 0
G20: =IF(LEFT(D20,3)="全民國","軍訓",LEFT(D20,3)) | H20: =IF(ISNA(VLOOKUP(F20,$S$2:$T$14,2,0)),"",VLOOKUP(F20,$S$2:$T$14,2,0)) | I20: =IF(ISBLANK(F20),"",IF(H20<60,"","V")) | J20: =IF(F20="停修","",IF(F20>=60,E20,"")) | K20: =IF(H20>59,IF(LEFT(D20,4)="大一英文","大一英文",(IF(LEFT(D20,2)="中文","中文",(IF(LEFT(D20,4)="全民國防","軍訓",(IF(LEFT(D20,4)="大一體育","大一體育",(IF(LEFT(D20,4)="大二體育","大二體育",(IF(LEFT(D20,4)="大二英文","大二英文",D20))))))))))),"") -> 0 | L20: =IFERROR(IF(VLOOKUP(K20,工作表2!$B$2:$H$800,2,0 )=0,"",VLOOKUP(K20,工作表2!$B$2:$H$800,2,0 )),"") | M20: =IFERROR(IF(VLOOKUP(K20,工作表2!$B$2:$H$800,3,0 )=0,"",VLOOKUP(K20,工作表2!$B$2:$H$800,3,0 )),"") | N20: =IFERROR(IF(VLOOKUP(K20,工作表2!$B$2:$H$800,4,0 )=0,"",VLOOKUP(K20,工作表2!$B$2:$H$800,4,0 )),"") | O20: =IFERROR(IF(VLOOKUP(K20,工作表2!$B$2:$H$800,5,0 )=0,"",VLOOKUP(K20,工作表2!$B$2:$H$800,5,0 )),"") | P20: =IFERROR(IF(VLOOKUP(K20,工作表2!$B$2:$H$800,6,0 )=0,"",VLOOKUP(K20,工作表2!$B$2:$H$800,6,0 )),"") | Q20: =IFERROR(IF(VLOOKUP(K20,工作表2!$B$2:$H$800,7,0 )=0,"",VLOOKUP(K20,工作表2!$B$2:$H$800,7,0 )),"") | V20: =D20 -> 0 | W20: =E20 -> 0 | X20: =F20 -> 0 | Y20: =IF(COUNTIF($V$2:$V$258,V20)=1,0,1) -> 1 | AF20: Python程式設計 | AG20: =IFERROR(_xlfn.XLOOKUP(AF20,$D$2:$D$180,$E$2:$E$180),0) -> 0
G21: =IF(LEFT(D21,3)="全民國","軍訓",LEFT(D21,3)) | H21: =IF(ISNA(VLOOKUP(F21,$S$2:$T$14,2,0)),"",VLOOKUP(F21,$S$2:$T$14,2,0)) | I21: =IF(ISBLANK(F21),"",IF(H21<60,"","V")) | J21: =IF(F21="停修","",IF(F21>=60,E21,"")) | K21: =IF(H21>59,IF(LEFT(D21,4)="大一英文","大一英文",(IF(LEFT(D21,2)="中文","中文",(IF(LEFT(D21,4)="全民國防","軍訓",(IF(LEFT(D21,4)="大一體育","大一體育",(IF(LEFT(D21,4)="大二體育","大二體育",(IF(LEFT(D21,4)="大二英文","大二英文",D21))))))))))),"") -> 0 | L21: =IFERROR(IF(VLOOKUP(K21,工作表2!$B$2:$H$800,2,0 )=0,"",VLOOKUP(K21,工作表2!$B$2:$H$800,2,0 )),"") | M21: =IFERROR(IF(VLOOKUP(K21,工作表2!$B$2:$H$800,3,0 )=0,"",VLOOKUP(K21,工作表2!$B$2:$H$800,3,0 )),"") | N21: =IFERROR(IF(VLOOKUP(K21,工作表2!$B$2:$H$800,4,0 )=0,"",VLOOKUP(K21,工作表2!$B$2:$H$800,4,0 )),"") | O21: =IFERROR(IF(VLOOKUP(K21,工作表2!$B$2:$H$800,5,0 )=0,"",VLOOKUP(K21,工作表2!$B$2:$H$800,5,0 )),"") | P21: =IFERROR(IF(VLOOKUP(K21,工作表2!$B$2:$H$800,6,0 )=0,"",VLOOKUP(K21,工作表2!$B$2:$H$800,6,0 )),"") | Q21: =IFERROR(IF(VLOOKUP(K21,工作表2!$B$2:$H$800,7,0 )=0,"",VLOOKUP(K21,工作表2!$B$2:$H$800,7,0 )),"") | V21: =D21 -> 0 | W21: =E21 -> 0 | X21: =F21 -> 0 | Y21: =IF(COUNTIF($V$2:$V$258,V21)=1,0,1) -> 1 | AF21: 電腦網路概論 | AG21: =IFERROR(_xlfn.XLOOKUP(AF21,$D$2:$D$180,$E$2:$E$180),0) -> 0
G22: =IF(LEFT(D22,3)="全民國","軍訓",LEFT(D22,3)) | H22: =IF(ISNA(VLOOKUP(F22,$S$2:$T$14,2,0)),"",VLOOKUP(F22,$S$2:$T$14,2,0)) | I22: =IF(ISBLANK(F22),"",IF(H22<60,"","V")) | J22: =IF(F22="停修","",IF(F22>=60,E22,"")) | K22: =IF(H22>59,IF(LEFT(D22,4)="大一英文","大一英文",(IF(LEFT(D22,2)="中文","中文",(IF(LEFT(D22,4)="全民國防","軍訓",(IF(LEFT(D22,4)="大一體育","大一體育",(IF(LEFT(D22,4)="大二體育","大二體育",(IF(LEFT(D22,4)="大二英文","大二英文",D22))))))))))),"") -> 0 | L22: =IFERROR(IF(VLOOKUP(K22,工作表2!$B$2:$H$800,2,0 )=0,"",VLOOKUP(K22,工作表2!$B$2:$H$800,2,0 )),"") | M22: =IFERROR(IF(VLOOKUP(K22,工作表2!$B$2:$H$800,3,0 )=0,"",VLOOKUP(K22,工作表2!$B$2:$H$800,3,0 )),"") | N22: =IFERROR(IF(VLOOKUP(K22,工作表2!$B$2:$H$800,4,0 )=0,"",VLOOKUP(K22,工作表2!$B$2:$H$800,4,0 )),"") | O22: =IFERROR(IF(VLOOKUP(K22,工作表2!$B$2:$H$800,5,0 )=0,"",VLOOKUP(K22,工作表2!$B$2:$H$800,5,0 )),"") | P22: =IFERROR(IF(VLOOKUP(K22,工作表2!$B$2:$H$800,6,0 )=0,"",VLOOKUP(K22,工作表2!$B$2:$H$800,6,0 )),"") | Q22: =IFERROR(IF(VLOOKUP(K22,工作表2!$B$2:$H$800,7,0 )=0,"",VLOOKUP(K22,工作表2!$B$2:$H$800,7,0 )),"") | V22: =D22 -> 0 | W22: =E22 -> 0 | X22: =F22 -> 0 | Y22: =IF(COUNTIF($V$2:$V$258,V22)=1,0,1) -> 1 | AF22: 機器學習 | AG22: =IFERROR(_xlfn.XLOOKUP(AF22,$D$2:$D$180,$E$2:$E$180),0) -> 0
G23: =IF(LEFT(D23,3)="全民國","軍訓",LEFT(D23,3)) | H23: =IF(ISNA(VLOOKUP(F23,$S$2:$T$14,2,0)),"",VLOOKUP(F23,$S$2:$T$14,2,0)) | I23: =IF(ISBLANK(F23),"",IF(H23<60,"","V")) | J23: =IF(F23="停修","",IF(F23>=60,E23,"")) | K23: =IF(H23>59,IF(LEFT(D23,4)="大一英文","大一英文",(IF(LEFT(D23,2)="中文","中文",(IF(LEFT(D23,4)="全民國防","軍訓",(IF(LEFT(D23,4)="大一體育","大一體育",(IF(LEFT(D23,4)="大二體育","大二體育",(IF(LEFT(D23,4)="大二英文","大二英文",D23))))))))))),"") -> 0 | L23: =IFERROR(IF(VLOOKUP(K23,工作表2!$B$2:$H$800,2,0 )=0,"",VLOOKUP(K23,工作表2!$B$2:$H$800,2,0 )),"") | M23: =IFERROR(IF(VLOOKUP(K23,工作表2!$B$2:$H$800,3,0 )=0,"",VLOOKUP(K23,工作表2!$B$2:$H$800,3,0 )),"") | N23: =IFERROR(IF(VLOOKUP(K23,工作表2!$B$2:$H$800,4,0 )=0,"",VLOOKUP(K23,工作表2!$B$2:$H$800,4,0 )),"") | O23: =IFERROR(IF(VLOOKUP(K23,工作表2!$B$2:$H$800,5,0 )=0,"",VLOOKUP(K23,工作表2!$B$2:$H$800,5,0 )),"") | P23: =IFERROR(IF(VLOOKUP(K23,工作表2!$B$2:$H$800,6,0 )=0,"",VLOOKUP(K23,工作表2!$B$2:$H$800,6,0 )),"") | Q23: =IFERROR(IF(VLOOKUP(K23,工作表2!$B$2:$H$800,7,0 )=0,"",VLOOKUP(K23,工作表2!$B$2:$H$800,7,0 )),"") | V23: =D23 -> 0 | W23: =E23 -> 0 | X23: =F23 -> 0 | Y23: =IF(COUNTIF($V$2:$V$258,V23)=1,0,1) -> 1 | AF23: 網路數據應用實驗 | AG23: =IFERROR(_xlfn.XLOOKUP(AF23,$D$2:$D$180,$E$2:$E$180),0) -> 0
G24: =IF(LEFT(D24,3)="全民國","軍訓",LEFT(D24,3)) | H24: =IF(ISNA(VLOOKUP(F24,$S$2:$T$14,2,0)),"",VLOOKUP(F24,$S$2:$T$14,2,0)) | I24: =IF(ISBLANK(F24),"",IF(H24<60,"","V")) | J24: =IF(F24="停修","",IF(F24>=60,E24,"")) | K24: =IF(H24>59,IF(LEFT(D24,4)="大一英文","大一英文",(IF(LEFT(D24,2)="中文","中文",(IF(LEFT(D24,4)="全民國防","軍訓",(IF(LEFT(D24,4)="大一體育","大一體育",(IF(LEFT(D24,4)="大二體育","大二體育",(IF(LEFT(D24,4)="大二英文","大二英文",D24))))))))))),"") -> 0 | L24: =IFERROR(IF(VLOOKUP(K24,工作表2!$B$2:$H$800,2,0 )=0,"",VLOOKUP(K24,工作表2!$B$2:$H$800,2,0 )),"") | M24: =IFERROR(IF(VLOOKUP(K24,工作表2!$B$2:$H$800,3,0 )=0,"",VLOOKUP(K24,工作表2!$B$2:$H$800,3,0 )),"") | N24: =IFERROR(IF(VLOOKUP(K24,工作表2!$B$2:$H$800,4,0 )=0,"",VLOOKUP(K24,工作表2!$B$2:$H$800,4,0 )),"") | O24: =IFERROR(IF(VLOOKUP(K24,工作表2!$B$2:$H$800,5,0 )=0,"",VLOOKUP(K24,工作表2!$B$2:$H$800,5,0 )),"") | P24: =IFERROR(IF(VLOOKUP(K24,工作表2!$B$2:$H$800,6,0 )=0,"",VLOOKUP(K24,工作表2!$B$2:$H$800,6,0 )),"") | Q24: =IFERROR(IF(VLOOKUP(K24,工作表2!$B$2:$H$800,7,0 )=0,"",VLOOKUP(K24,工作表2!$B$2:$H$800,7,0 )),"") | V24: =D24 -> 0 | W24: =E24 -> 0 | X24: =F24 -> 0 | Y24: =IF(COUNTIF($V$2:$V$258,V24)=1,0,1) -> 1 | AF24: 智慧電子應用設計實驗 | AG24: =IFERROR(_xlfn.XLOOKUP(AF24,$D$2:$D$180,$E$2:$E$180),0) -> 0
G25: =IF(LEFT(D25,3)="全民國","軍訓",LEFT(D25,3)) | H25: =IF(ISNA(VLOOKUP(F25,$S$2:$T$14,2,0)),"",VLOOKUP(F25,$S$2:$T$14,2,0)) | I25: =IF(ISBLANK(F25),"",IF(H25<60,"","V")) | J25: =IF(F25="停修","",IF(F25>=60,E25,"")) | K25: =IF(H25>59,IF(LEFT(D25,4)="大一英文","大一英文",(IF(LEFT(D25,2)="中文","中文",(IF(LEFT(D25,4)="全民國防","軍訓",(IF(LEFT(D25,4)="大一體育","大一體育",(IF(LEFT(D25,4)="大二體育","大二體育",(IF(LEFT(D25,4)="大二英文","大二英文",D25))))))))))),"") -> 0 | L25: =IFERROR(IF(VLOOKUP(K25,工作表2!$B$2:$H$800,2,0 )=0,"",VLOOKUP(K25,工作表2!$B$2:$H$800,2,0 )),"") | M25: =IFERROR(IF(VLOOKUP(K25,工作表2!$B$2:$H$800,3,0 )=0,"",VLOOKUP(K25,工作表2!$B$2:$H$800,3,0 )),"") | N25: =IFERROR(IF(VLOOKUP(K25,工作表2!$B$2:$H$800,4,0 )=0,"",VLOOKUP(K25,工作表2!$B$2:$H$800,4,0 )),"") | O25: =IFERROR(IF(VLOOKUP(K25,工作表2!$B$2:$H$800,5,0 )=0,"",VLOOKUP(K25,工作表2!$B$2:$H$800,5,0 )),"") | P25: =IFERROR(IF(VLOOKUP(K25,工作表2!$B$2:$H$800,6,0 )=0,"",VLOOKUP(K25,工作表2!$B$2:$H$800,6,0 )),"") | Q25: =IFERROR(IF(VLOOKUP(K25,工作表2!$B$2:$H$800,7,0 )=0,"",VLOOKUP(K25,工作表2!$B$2:$H$800,7,0 )),"") | V25: =D25 -> 0 | W25: =E25 -> 0 | X25: =F25 -> 0 | Y25: =IF(COUNTIF($V$2:$V$258,V25)=1,0,1) -> 1
G26: =IF(LEFT(D26,3)="全民國","軍訓",LEFT(D26,3)) | H26: =IF(ISNA(VLOOKUP(F26,$S$2:$T$14,2,0)),"",VLOOKUP(F26,$S$2:$T$14,2,0)) | I26: =IF(ISBLANK(F26),"",IF(H26<60,"","V")) | J26: =IF(F26="停修","",IF(F26>=60,E26,"")) | K26: =IF(H26>59,IF(LEFT(D26,4)="大一英文","大一英文",(IF(LEFT(D26,2)="中文","中文",(IF(LEFT(D26,4)="全民國防","軍訓",(IF(LEFT(D26,4)="大一體育","大一體育",(IF(LEFT(D26,4)="大二體育","大二體育",(IF(LEFT(D26,4)="大二英文","大二英文",D26))))))))))),"") -> 0 | L26: =IFERROR(IF(VLOOKUP(K26,工作表2!$B$2:$H$800,2,0 )=0,"",VLOOKUP(K26,工作表2!$B$2:$H$800,2,0 )),"") | M26: =IFERROR(IF(VLOOKUP(K26,工作表2!$B$2:$H$800,3,0 )=0,"",VLOOKUP(K26,工作表2!$B$2:$H$800,3,0 )),"") | N26: =IFERROR(IF(VLOOKUP(K26,工作表2!$B$2:$H$800,4,0 )=0,"",VLOOKUP(K26,工作表2!$B$2:$H$800,4,0 )),"") | O26: =IFERROR(IF(VLOOKUP(K26,工作表2!$B$2:$H$800,5,0 )=0,"",VLOOKUP(K26,工作表2!$B$2:$H$800,5,0 )),"") | P26: =IFERROR(IF(VLOOKUP(K26,工作表2!$B$2:$H$800,6,0 )=0,"",VLOOKUP(K26,工作表2!$B$2:$H$800,6,0 )),"") | Q26: =IFERROR(IF(VLOOKUP(K26,工作表2!$B$2:$H$800,7,0 )=0,"",VLOOKUP(K26,工作表2!$B$2:$H$800,7,0 )),"") | V26: =D26 -> 0 | W26: =E26 -> 0 | X26: =F26 -> 0 | Y26: =IF(COUNTIF($V$2:$V$258,V26)=1,0,1) -> 1
G27: =IF(LEFT(D27,3)="全民國","軍訓",LEFT(D27,3)) | H27: =IF(ISNA(VLOOKUP(F27,$S$2:$T$14,2,0)),"",VLOOKUP(F27,$S$2:$T$14,2,0)) | I27: =IF(ISBLANK(F27),"",IF(H27<60,"","V")) | J27: =IF(F27="停修","",IF(F27>=60,E27,"")) | K27: =IF(H27>59,IF(LEFT(D27,4)="大一英文","大一英文",(IF(LEFT(D27,2)="中文","中文",(IF(LEFT(D27,4)="全民國防","軍訓",(IF(LEFT(D27,4)="大一體育","大一體育",(IF(LEFT(D27,4)="大二體育","大二體育",(IF(LEFT(D27,4)="大二英文","大二英文",D27))))))))))),"") -> 0 | L27: =IFERROR(IF(VLOOKUP(K27,工作表2!$B$2:$H$800,2,0 )=0,"",VLOOKUP(K27,工作表2!$B$2:$H$800,2,0 )),"") | M27: =IFERROR(IF(VLOOKUP(K27,工作表2!$B$2:$H$800,3,0 )=0,"",VLOOKUP(K27,工作表2!$B$2:$H$800,3,0 )),"") | N27: =IFERROR(IF(VLOOKUP(K27,工作表2!$B$2:$H$800,4,0 )=0,"",VLOOKUP(K27,工作表2!$B$2:$H$800,4,0 )),"") | O27: =IFERROR(IF(VLOOKUP(K27,工作表2!$B$2:$H$800,5,0 )=0,"",VLOOKUP(K27,工作表2!$B$2:$H$800,5,0 )),"") | P27: =IFERROR(IF(VLOOKUP(K27,工作表2!$B$2:$H$800,6,0 )=0,"",VLOOKUP(K27,工作表2!$B$2:$H$800,6,0 )),"") | Q27: =IFERROR(IF(VLOOKUP(K27,工作表2!$B$2:$H$800,7,0 )=0,"",VLOOKUP(K27,工作表2!$B$2:$H$800,7,0 )),"") | V27: =D27 -> 0 | W27: =E27 -> 0 | X27: =F27 -> 0 | Y27: =IF(COUNTIF($V$2:$V$258,V27)=1,0,1) -> 1
G28: =IF(LEFT(D28,3)="全民國","軍訓",LEFT(D28,3)) | H28: =IF(ISNA(VLOOKUP(F28,$S$2:$T$14,2,0)),"",VLOOKUP(F28,$S$2:$T$14,2,0)) | I28: =IF(ISBLANK(F28),"",IF(H28<60,"","V")) | J28: =IF(F28="停修","",IF(F28>=60,E28,"")) | K28: =IF(H28>59,IF(LEFT(D28,4)="大一英文","大一英文",(IF(LEFT(D28,2)="中文","中文",(IF(LEFT(D28,4)="全民國防","軍訓",(IF(LEFT(D28,4)="大一體育","大一體育",(IF(LEFT(D28,4)="大二體育","大二體育",(IF(LEFT(D28,4)="大二英文","大二英文",D28))))))))))),"") -> 0 | L28: =IFERROR(IF(VLOOKUP(K28,工作表2!$B$2:$H$800,2,0 )=0,"",VLOOKUP(K28,工作表2!$B$2:$H$800,2,0 )),"") | M28: =IFERROR(IF(VLOOKUP(K28,工作表2!$B$2:$H$800,3,0 )=0,"",VLOOKUP(K28,工作表2!$B$2:$H$800,3,0 )),"") | N28: =IFERROR(IF(VLOOKUP(K28,工作表2!$B$2:$H$800,4,0 )=0,"",VLOOKUP(K28,工作表2!$B$2:$H$800,4,0 )),"") | O28: =IFERROR(IF(VLOOKUP(K28,工作表2!$B$2:$H$800,5,0 )=0,"",VLOOKUP(K28,工作表2!$B$2:$H$800,5,0 )),"") | P28: =IFERROR(IF(VLOOKUP(K28,工作表2!$B$2:$H$800,6,0 )=0,"",VLOOKUP(K28,工作表2!$B$2:$H$800,6,0 )),"") | Q28: =IFERROR(IF(VLOOKUP(K28,工作表2!$B$2:$H$800,7,0 )=0,"",VLOOKUP(K28,工作表2!$B$2:$H$800,7,0 )),"") | V28: =D28 -> 0 | W28: =E28 -> 0 | X28: =F28 -> 0 | Y28: =IF(COUNTIF($V$2:$V$258,V28)=1,0,1) -> 1
G29: =IF(LEFT(D29,3)="全民國","軍訓",LEFT(D29,3)) | H29: =IF(ISNA(VLOOKUP(F29,$S$2:$T$14,2,0)),"",VLOOKUP(F29,$S$2:$T$14,2,0)) | I29: =IF(ISBLANK(F29),"",IF(H29<60,"","V")) | J29: =IF(F29="停修","",IF(F29>=60,E29,"")) | K29: =IF(H29>59,IF(LEFT(D29,4)="大一英文","大一英文",(IF(LEFT(D29,2)="中文","中文",(IF(LEFT(D29,4)="全民國防","軍訓",(IF(LEFT(D29,4)="大一體育","大一體育",(IF(LEFT(D29,4)="大二體育","大二體育",(IF(LEFT(D29,4)="大二英文","大二英文",D29))))))))))),"") -> 0 | L29: =IFERROR(IF(VLOOKUP(K29,工作表2!$B$2:$H$800,2,0 )=0,"",VLOOKUP(K29,工作表2!$B$2:$H$800,2,0 )),"") | M29: =IFERROR(IF(VLOOKUP(K29,工作表2!$B$2:$H$800,3,0 )=0,"",VLOOKUP(K29,工作表2!$B$2:$H$800,3,0 )),"") | N29: =IFERROR(IF(VLOOKUP(K29,工作表2!$B$2:$H$800,4,0 )=0,"",VLOOKUP(K29,工作表2!$B$2:$H$800,4,0 )),"") | O29: =IFERROR(IF(VLOOKUP(K29,工作表2!$B$2:$H$800,5,0 )=0,"",VLOOKUP(K29,工作表2!$B$2:$H$800,5,0 )),"") | P29: =IFERROR(IF(VLOOKUP(K29,工作表2!$B$2:$H$800,6,0 )=0,"",VLOOKUP(K29,工作表2!$B$2:$H$800,6,0 )),"") | Q29: =IFERROR(IF(VLOOKUP(K29,工作表2!$B$2:$H$800,7,0 )=0,"",VLOOKUP(K29,工作表2!$B$2:$H$800,7,0 )),"") | V29: =D29 -> 0 | W29: =E29 -> 0 | X29: =F29 -> 0 | Y29: =IF(COUNTIF($V$2:$V$258,V29)=1,0,1) -> 1
G30: =IF(LEFT(D30,3)="全民國","軍訓",LEFT(D30,3)) | H30: =IF(ISNA(VLOOKUP(F30,$S$2:$T$14,2,0)),"",VLOOKUP(F30,$S$2:$T$14,2,0)) | I30: =IF(ISBLANK(F30),"",IF(H30<60,"","V")) | J30: =IF(F30="停修","",IF(F30>=60,E30,"")) | K30: =IF(H30>59,IF(LEFT(D30,4)="大一英文","大一英文",(IF(LEFT(D30,2)="中文","中文",(IF(LEFT(D30,4)="全民國防","軍訓",(IF(LEFT(D30,4)="大一體育","大一體育",(IF(LEFT(D30,4)="大二體育","大二體育",(IF(LEFT(D30,4)="大二英文","大二英文",D30))))))))))),"") -> 0 | L30: =IFERROR(IF(VLOOKUP(K30,工作表2!$B$2:$H$800,2,0 )=0,"",VLOOKUP(K30,工作表2!$B$2:$H$800,2,0 )),"") | M30: =IFERROR(IF(VLOOKUP(K30,工作表2!$B$2:$H$800,3,0 )=0,"",VLOOKUP(K30,工作表2!$B$2:$H$800,3,0 )),"") | N30: =IFERROR(IF(VLOOKUP(K30,工作表2!$B$2:$H$800,4,0 )=0,"",VLOOKUP(K30,工作表2!$B$2:$H$800,4,0 )),"") | O30: =IFERROR(IF(VLOOKUP(K30,工作表2!$B$2:$H$800,5,0 )=0,"",VLOOKUP(K30,工作表2!$B$2:$H$800,5,0 )),"") | P30: =IFERROR(IF(VLOOKUP(K30,工作表2!$B$2:$H$800,6,0 )=0,"",VLOOKUP(K30,工作表2!$B$2:$H$800,6,0 )),"") | Q30: =IFERROR(IF(VLOOKUP(K30,工作表2!$B$2:$H$800,7,0 )=0,"",VLOOKUP(K30,工作表2!$B$2:$H$800,7,0 )),"") | V30: =D30 -> 0 | W30: =E30 -> 0 | X30: =F30 -> 0 | Y30: =IF(COUNTIF($V$2:$V$258,V30)=1,0,1) -> 1
G31: =IF(LEFT(D31,3)="全民國","軍訓",LEFT(D31,3)) | H31: =IF(ISNA(VLOOKUP(F31,$S$2:$T$14,2,0)),"",VLOOKUP(F31,$S$2:$T$14,2,0)) | I31: =IF(ISBLANK(F31),"",IF(H31<60,"","V")) | J31: =IF(F31="停修","",IF(F31>=60,E31,"")) | K31: =IF(H31>59,IF(LEFT(D31,4)="大一英文","大一英文",(IF(LEFT(D31,2)="中文","中文",(IF(LEFT(D31,4)="全民國防","軍訓",(IF(LEFT(D31,4)="大一體育","大一體育",(IF(LEFT(D31,4)="大二體育","大二體育",(IF(LEFT(D31,4)="大二英文","大二英文",D31))))))))))),"") -> 0 | L31: =IFERROR(IF(VLOOKUP(K31,工作表2!$B$2:$H$800,2,0 )=0,"",VLOOKUP(K31,工作表2!$B$2:$H$800,2,0 )),"") | M31: =IFERROR(IF(VLOOKUP(K31,工作表2!$B$2:$H$800,3,0 )=0,"",VLOOKUP(K31,工作表2!$B$2:$H$800,3,0 )),"") | N31: =IFERROR(IF(VLOOKUP(K31,工作表2!$B$2:$H$800,4,0 )=0,"",VLOOKUP(K31,工作表2!$B$2:$H$800,4,0 )),"") | O31: =IFERROR(IF(VLOOKUP(K31,工作表2!$B$2:$H$800,5,0 )=0,"",VLOOKUP(K31,工作表2!$B$2:$H$800,5,0 )),"") | P31: =IFERROR(IF(VLOOKUP(K31,工作表2!$B$2:$H$800,6,0 )=0,"",VLOOKUP(K31,工作表2!$B$2:$H$800,6,0 )),"") | Q31: =IFERROR(IF(VLOOKUP(K31,工作表2!$B$2:$H$800,7,0 )=0,"",VLOOKUP(K31,工作表2!$B$2:$H$800,7,0 )),"") | V31: =D31 -> 0 | W31: =E31 -> 0 | X31: =F31 -> 0 | Y31: =IF(COUNTIF($V$2:$V$258,V31)=1,0,1) -> 1
G32: =IF(LEFT(D32,3)="全民國","軍訓",LEFT(D32,3)) | H32: =IF(ISNA(VLOOKUP(F32,$S$2:$T$14,2,0)),"",VLOOKUP(F32,$S$2:$T$14,2,0)) | I32: =IF(ISBLANK(F32),"",IF(H32<60,"","V")) | J32: =IF(F32="停修","",IF(F32>=60,E32,"")) | K32: =IF(H32>59,IF(LEFT(D32,4)="大一英文","大一英文",(IF(LEFT(D32,2)="中文","中文",(IF(LEFT(D32,4)="全民國防","軍訓",(IF(LEFT(D32,4)="大一體育","大一體育",(IF(LEFT(D32,4)="大二體育","大二體育",(IF(LEFT(D32,4)="大二英文","大二英文",D32))))))))))),"") -> 0 | L32: =IFERROR(IF(VLOOKUP(K32,工作表2!$B$2:$H$800,2,0 )=0,"",VLOOKUP(K32,工作表2!$B$2:$H$800,2,0 )),"") | M32: =IFERROR(IF(VLOOKUP(K32,工作表2!$B$2:$H$800,3,0 )=0,"",VLOOKUP(K32,工作表2!$B$2:$H$800,3,0 )),"") | N32: =IFERROR(IF(VLOOKUP(K32,工作表2!$B$2:$H$800,4,0 )=0,"",VLOOKUP(K32,工作表2!$B$2:$H$800,4,0 )),"") | O32: =IFERROR(IF(VLOOKUP(K32,工作表2!$B$2:$H$800,5,0 )=0,"",VLOOKUP(K32,工作表2!$B$2:$H$800,5,0 )),"") | P32: =IFERROR(IF(VLOOKUP(K32,工作表2!$B$2:$H$800,6,0 )=0,"",VLOOKUP(K32,工作表2!$B$2:$H$800,6,0 )),"") | Q32: =IFERROR(IF(VLOOKUP(K32,工作表2!$B$2:$H$800,7,0 )=0,"",VLOOKUP(K32,工作表2!$B$2:$H$800,7,0 )),"") | V32: =D32 -> 0 | W32: =E32 -> 0 | X32: =F32 -> 0 | Y32: =IF(COUNTIF($V$2:$V$258,V32)=1,0,1) -> 1
G33: =IF(LEFT(D33,3)="全民國","軍訓",LEFT(D33,3)) | H33: =IF(ISNA(VLOOKUP(F33,$S$2:$T$14,2,0)),"",VLOOKUP(F33,$S$2:$T$14,2,0)) | I33: =IF(ISBLANK(F33),"",IF(H33<60,"","V")) | J33: =IF(F33="停修","",IF(F33>=60,E33,"")) | K33: =IF(H33>59,IF(LEFT(D33,4)="大一英文","大一英文",(IF(LEFT(D33,2)="中文","中文",(IF(LEFT(D33,4)="全民國防","軍訓",(IF(LEFT(D33,4)="大一體育","大一體育",(IF(LEFT(D33,4)="大二體育","大二體育",(IF(LEFT(D33,4)="大二英文","大二英文",D33))))))))))),"") -> 0 | L33: =IFERROR(IF(VLOOKUP(K33,工作表2!$B$2:$H$800,2,0 )=0,"",VLOOKUP(K33,工作表2!$B$2:$H$800,2,0 )),"") | M33: =IFERROR(IF(VLOOKUP(K33,工作表2!$B$2:$H$800,3,0 )=0,"",VLOOKUP(K33,工作表2!$B$2:$H$800,3,0 )),"") | N33: =IFERROR(IF(VLOOKUP(K33,工作表2!$B$2:$H$800,4,0 )=0,"",VLOOKUP(K33,工作表2!$B$2:$H$800,4,0 )),"") | O33: =IFERROR(IF(VLOOKUP(K33,工作表2!$B$2:$H$800,5,0 )=0,"",VLOOKUP(K33,工作表2!$B$2:$H$800,5,0 )),"") | P33: =IFERROR(IF(VLOOKUP(K33,工作表2!$B$2:$H$800,6,0 )=0,"",VLOOKUP(K33,工作表2!$B$2:$H$800,6,0 )),"") | Q33: =IFERROR(IF(VLOOKUP(K33,工作表2!$B$2:$H$800,7,0 )=0,"",VLOOKUP(K33,工作表2!$B$2:$H$800,7,0 )),"") | V33: =D33 -> 0 | W33: =E33 -> 0 | X33: =F33 -> 0 | Y33: =IF(COUNTIF($V$2:$V$258,V33)=1,0,1) -> 1
G34: =IF(LEFT(D34,3)="全民國","軍訓",LEFT(D34,3)) | H34: =IF(ISNA(VLOOKUP(F34,$S$2:$T$14,2,0)),"",VLOOKUP(F34,$S$2:$T$14,2,0)) | I34: =IF(ISBLANK(F34),"",IF(H34<60,"","V")) | J34: =IF(F34="停修","",IF(F34>=60,E34,"")) | K34: =IF(H34>59,IF(LEFT(D34,4)="大一英文","大一英文",(IF(LEFT(D34,2)="中文","中文",(IF(LEFT(D34,4)="全民國防","軍訓",(IF(LEFT(D34,4)="大一體育","大一體育",(IF(LEFT(D34,4)="大二體育","大二體育",(IF(LEFT(D34,4)="大二英文","大二英文",D34))))))))))),"") -> 0 | L34: =IFERROR(IF(VLOOKUP(K34,工作表2!$B$2:$H$800,2,0 )=0,"",VLOOKUP(K34,工作表2!$B$2:$H$800,2,0 )),"") | M34: =IFERROR(IF(VLOOKUP(K34,工作表2!$B$2:$H$800,3,0 )=0,"",VLOOKUP(K34,工作表2!$B$2:$H$800,3,0 )),"") | N34: =IFERROR(IF(VLOOKUP(K34,工作表2!$B$2:$H$800,4,0 )=0,"",VLOOKUP(K34,工作表2!$B$2:$H$800,4,0 )),"") | O34: =IFERROR(IF(VLOOKUP(K34,工作表2!$B$2:$H$800,5,0 )=0,"",VLOOKUP(K34,工作表2!$B$2:$H$800,5,0 )),"") | P34: =IFERROR(IF(VLOOKUP(K34,工作表2!$B$2:$H$800,6,0 )=0,"",VLOOKUP(K34,工作表2!$B$2:$H$800,6,0 )),"") | Q34: =IFERROR(IF(VLOOKUP(K34,工作表2!$B$2:$H$800,7,0 )=0,"",VLOOKUP(K34,工作表2!$B$2:$H$800,7,0 )),"") | V34: =D34 -> 0 | W34: =E34 -> 0 | X34: =F34 -> 0 | Y34: =IF(COUNTIF($V$2:$V$258,V34)=1,0,1) -> 1
G35: =IF(LEFT(D35,3)="全民國","軍訓",LEFT(D35,3)) | H35: =IF(ISNA(VLOOKUP(F35,$S$2:$T$14,2,0)),"",VLOOKUP(F35,$S$2:$T$14,2,0)) | I35: =IF(ISBLANK(F35),"",IF(H35<60,"","V")) | J35: =IF(F35="停修","",IF(F35>=60,E35,"")) | K35: =IF(H35>59,IF(LEFT(D35,4)="大一英文","大一英文",(IF(LEFT(D35,2)="中文","中文",(IF(LEFT(D35,4)="全民國防","軍訓",(IF(LEFT(D35,4)="大一體育","大一體育",(IF(LEFT(D35,4)="大二體育","大二體育",(IF(LEFT(D35,4)="大二英文","大二英文",D35))))))))))),"") -> 0 | L35: =IFERROR(IF(VLOOKUP(K35,工作表2!$B$2:$H$800,2,0 )=0,"",VLOOKUP(K35,工作表2!$B$2:$H$800,2,0 )),"") | M35: =IFERROR(IF(VLOOKUP(K35,工作表2!$B$2:$H$800,3,0 )=0,"",VLOOKUP(K35,工作表2!$B$2:$H$800,3,0 )),"") | N35: =IFERROR(IF(VLOOKUP(K35,工作表2!$B$2:$H$800,4,0 )=0,"",VLOOKUP(K35,工作表2!$B$2:$H$800,4,0 )),"") | O35: =IFERROR(IF(VLOOKUP(K35,工作表2!$B$2:$H$800,5,0 )=0,"",VLOOKUP(K35,工作表2!$B$2:$H$800,5,0 )),"") | P35: =IFERROR(IF(VLOOKUP(K35,工作表2!$B$2:$H$800,6,0 )=0,"",VLOOKUP(K35,工作表2!$B$2:$H$800,6,0 )),"") | Q35: =IFERROR(IF(VLOOKUP(K35,工作表2!$B$2:$H$800,7,0 )=0,"",VLOOKUP(K35,工作表2!$B$2:$H$800,7,0 )),"") | V35: =D35 -> 0 | W35: =E35 -> 0 | X35: =F35 -> 0 | Y35: =IF(COUNTIF($V$2:$V$258,V35)=1,0,1) -> 1
G36: =IF(LEFT(D36,3)="全民國","軍訓",LEFT(D36,3)) | H36: =IF(ISNA(VLOOKUP(F36,$S$2:$T$14,2,0)),"",VLOOKUP(F36,$S$2:$T$14,2,0)) | I36: =IF(ISBLANK(F36),"",IF(H36<60,"","V")) | J36: =IF(F36="停修","",IF(F36>=60,E36,"")) | K36: =IF(H36>59,IF(LEFT(D36,4)="大一英文","大一英文",(IF(LEFT(D36,2)="中文","中文",(IF(LEFT(D36,4)="全民國防","軍訓",(IF(LEFT(D36,4)="大一體育","大一體育",(IF(LEFT(D36,4)="大二體育","大二體育",(IF(LEFT(D36,4)="大二英文","大二英文",D36))))))))))),"") -> 0 | L36: =IFERROR(IF(VLOOKUP(K36,工作表2!$B$2:$H$800,2,0 )=0,"",VLOOKUP(K36,工作表2!$B$2:$H$800,2,0 )),"") | M36: =IFERROR(IF(VLOOKUP(K36,工作表2!$B$2:$H$800,3,0 )=0,"",VLOOKUP(K36,工作表2!$B$2:$H$800,3,0 )),"") | N36: =IFERROR(IF(VLOOKUP(K36,工作表2!$B$2:$H$800,4,0 )=0,"",VLOOKUP(K36,工作表2!$B$2:$H$800,4,0 )),"") | O36: =IFERROR(IF(VLOOKUP(K36,工作表2!$B$2:$H$800,5,0 )=0,"",VLOOKUP(K36,工作表2!$B$2:$H$800,5,0 )),"") | P36: =IFERROR(IF(VLOOKUP(K36,工作表2!$B$2:$H$800,6,0 )=0,"",VLOOKUP(K36,工作表2!$B$2:$H$800,6,0 )),"") | Q36: =IFERROR(IF(VLOOKUP(K36,工作表2!$B$2:$H$800,7,0 )=0,"",VLOOKUP(K36,工作表2!$B$2:$H$800,7,0 )),"") | V36: =D36 -> 0 | W36: =E36 -> 0 | X36: =F36 -> 0 | Y36: =IF(COUNTIF($V$2:$V$258,V36)=1,0,1) -> 1
... G160: =IF(LEFT(D160,3)="全民國","軍訓",LEFT(D160,3)) | H160: =IF(ISNA(VLOOKUP(F160,$S$2:$T$14,2,0)),"",VLOOKUP(F160,$S$2:$T$14,2,0)) | I160: =IF(ISBLANK(F160),"",IF(H160<60,"","V")) | J160: =IF(F160="停修","",IF(F160>=60,E160,"")) | K160: =IF(H160>59,IF(LEFT(D160,4)="大一英文","大一英文",(IF(LEFT(D160,2)="中文","中文",(IF(LEFT(D160,4)="全民國防","軍訓",(IF(LEFT(D160,4)="大一體育","大一體育",(IF(LEFT(D160,4)="大二體育","大二體育",(IF(LEFT(D160,4)="大二英文","大二英文",D160))))))))))),"") -> 0 | L160: =IFERROR(IF(VLOOKUP(K160,工作表2!$B$2:$H$800,2,0 )=0,"",VLOOKUP(K160,工作表2!$B$2:$H$800,2,0 )),"") | M160: =IFERROR(IF(VLOOKUP(K160,工作表2!$B$2:$H$800,3,0 )=0,"",VLOOKUP(K160,工作表2!$B$2:$H$800,3,0 )),"") | N160: =IFERROR(IF(VLOOKUP(K160,工作表2!$B$2:$H$800,4,0 )=0,"",VLOOKUP(K160,工作表2!$B$2:$H$800,4,0 )),"") | O160: =IFERROR(IF(VLOOKUP(K160,工作表2!$B$2:$H$800,5,0 )=0,"",VLOOKUP(K160,工作表2!$B$2:$H$800,5,0 )),"") | P160: =IFERROR(IF(VLOOKUP(K160,工作表2!$B$2:$H$800,6,0 )=0,"",VLOOKUP(K160,工作表2!$B$2:$H$800,6,0 )),"") | Q160: =IFERROR(IF(VLOOKUP(K160,工作表2!$B$2:$H$800,7,0 )=0,"",VLOOKUP(K160,工作表2!$B$2:$H$800,7,0 )),"") | V160: =D160 -> 0 | W160: =E160 -> 0 | X160: =F160 -> 0 | Y160: =IF(COUNTIF($V$2:$V$258,V160)=1,0,1) -> 1
G161: =IF(LEFT(D161,3)="全民國","軍訓",LEFT(D161,3)) | H161: =IF(ISNA(VLOOKUP(F161,$S$2:$T$14,2,0)),"",VLOOKUP(F161,$S$2:$T$14,2,0)) | I161: =IF(ISBLANK(F161),"",IF(H161<60,"","V")) | J161: =IF(F161="停修","",IF(F161>=60,E161,"")) | K161: =IF(H161>59,IF(LEFT(D161,4)="大一英文","大一英文",(IF(LEFT(D161,2)="中文","中文",(IF(LEFT(D161,4)="全民國防","軍訓",(IF(LEFT(D161,4)="大一體育","大一體育",(IF(LEFT(D161,4)="大二體育","大二體育",(IF(LEFT(D161,4)="大二英文","大二英文",D161))))))))))),"") -> 0 | L161: =IFERROR(IF(VLOOKUP(K161,工作表2!$B$2:$H$800,2,0 )=0,"",VLOOKUP(K161,工作表2!$B$2:$H$800,2,0 )),"") | M161: =IFERROR(IF(VLOOKUP(K161,工作表2!$B$2:$H$800,3,0 )=0,"",VLOOKUP(K161,工作表2!$B$2:$H$800,3,0 )),"") | N161: =IFERROR(IF(VLOOKUP(K161,工作表2!$B$2:$H$800,4,0 )=0,"",VLOOKUP(K161,工作表2!$B$2:$H$800,4,0 )),"") | O161: =IFERROR(IF(VLOOKUP(K161,工作表2!$B$2:$H$800,5,0 )=0,"",VLOOKUP(K161,工作表2!$B$2:$H$800,5,0 )),"") | P161: =IFERROR(IF(VLOOKUP(K161,工作表2!$B$2:$H$800,6,0 )=0,"",VLOOKUP(K161,工作表2!$B$2:$H$800,6,0 )),"") | Q161: =IFERROR(IF(VLOOKUP(K161,工作表2!$B$2:$H$800,7,0 )=0,"",VLOOKUP(K161,工作表2!$B$2:$H$800,7,0 )),"")
G162: =IF(LEFT(D162,3)="全民國","軍訓",LEFT(D162,3)) | H162: =IF(ISNA(VLOOKUP(F162,$S$2:$T$14,2,0)),"",VLOOKUP(F162,$S$2:$T$14,2,0)) | I162: =IF(ISBLANK(F162),"",IF(H162<60,"","V")) | J162: =IF(F162="停修","",IF(F162>=60,E162,"")) | K162: =IF(H162>59,IF(LEFT(D162,4)="大一英文","大一英文",(IF(LEFT(D162,2)="中文","中文",(IF(LEFT(D162,4)="全民國防","軍訓",(IF(LEFT(D162,4)="大一體育","大一體育",(IF(LEFT(D162,4)="大二體育","大二體育",(IF(LEFT(D162,4)="大二英文","大二英文",D162))))))))))),"") -> 0 | L162: =IFERROR(IF(VLOOKUP(K162,工作表2!$B$2:$H$800,2,0 )=0,"",VLOOKUP(K162,工作表2!$B$2:$H$800,2,0 )),"") | M162: =IFERROR(IF(VLOOKUP(K162,工作表2!$B$2:$H$800,3,0 )=0,"",VLOOKUP(K162,工作表2!$B$2:$H$800,3,0 )),"") | N162: =IFERROR(IF(VLOOKUP(K162,工作表2!$B$2:$H$800,4,0 )=0,"",VLOOKUP(K162,工作表2!$B$2:$H$800,4,0 )),"") | O162: =IFERROR(IF(VLOOKUP(K162,工作表2!$B$2:$H$800,5,0 )=0,"",VLOOKUP(K162,工作表2!$B$2:$H$800,5,0 )),"") | P162: =IFERROR(IF(VLOOKUP(K162,工作表2!$B$2:$H$800,6,0 )=0,"",VLOOKUP(K162,工作表2!$B$2:$H$800,6,0 )),"") | Q162: =IFERROR(IF(VLOOKUP(K162,工作表2!$B$2:$H$800,7,0 )=0,"",VLOOKUP(K162,工作表2!$B$2:$H$800,7,0 )),"")
G163: =IF(LEFT(D163,3)="全民國","軍訓",LEFT(D163,3)) | H163: =IF(ISNA(VLOOKUP(F163,$S$2:$T$14,2,0)),"",VLOOKUP(F163,$S$2:$T$14,2,0)) | I163: =IF(ISBLANK(F163),"",IF(H163<60,"","V")) | J163: =IF(F163="停修","",IF(F163>=60,E163,"")) | K163: =IF(H163>59,IF(LEFT(D163,4)="大一英文","大一英文",(IF(LEFT(D163,2)="中文","中文",(IF(LEFT(D163,4)="全民國防","軍訓",(IF(LEFT(D163,4)="大一體育","大一體育",(IF(LEFT(D163,4)="大二體育","大二體育",(IF(LEFT(D163,4)="大二英文","大二英文",D163))))))))))),"") -> 0 | L163: =IFERROR(IF(VLOOKUP(K163,工作表2!$B$2:$H$800,2,0 )=0,"",VLOOKUP(K163,工作表2!$B$2:$H$800,2,0 )),"") | M163: =IFERROR(IF(VLOOKUP(K163,工作表2!$B$2:$H$800,3,0 )=0,"",VLOOKUP(K163,工作表2!$B$2:$H$800,3,0 )),"") | N163: =IFERROR(IF(VLOOKUP(K163,工作表2!$B$2:$H$800,4,0 )=0,"",VLOOKUP(K163,工作表2!$B$2:$H$800,4,0 )),"") | O163: =IFERROR(IF(VLOOKUP(K163,工作表2!$B$2:$H$800,5,0 )=0,"",VLOOKUP(K163,工作表2!$B$2:$H$800,5,0 )),"") | P163: =IFERROR(IF(VLOOKUP(K163,工作表2!$B$2:$H$800,6,0 )=0,"",VLOOKUP(K163,工作表2!$B$2:$H$800,6,0 )),"") | Q163: =IFERROR(IF(VLOOKUP(K163,工作表2!$B$2:$H$800,7,0 )=0,"",VLOOKUP(K163,工作表2!$B$2:$H$800,7,0 )),"")
G164: =IF(LEFT(D164,3)="全民國","軍訓",LEFT(D164,3)) | H164: =IF(ISNA(VLOOKUP(F164,$S$2:$T$14,2,0)),"",VLOOKUP(F164,$S$2:$T$14,2,0)) | I164: =IF(ISBLANK(F164),"",IF(H164<60,"","V")) | J164: =IF(F164="停修","",IF(F164>=60,E164,"")) | K164: =IF(H164>59,IF(LEFT(D164,4)="大一英文","大一英文",(IF(LEFT(D164,2)="中文","中文",(IF(LEFT(D164,4)="全民國防","軍訓",(IF(LEFT(D164,4)="大一體育","大一體育",(IF(LEFT(D164,4)="大二體育","大二體育",(IF(LEFT(D164,4)="大二英文","大二英文",D164))))))))))),"") -> 0 | L164: =IFERROR(IF(VLOOKUP(K164,工作表2!$B$2:$H$800,2,0 )=0,"",VLOOKUP(K164,工作表2!$B$2:$H$800,2,0 )),"") | M164: =IFERROR(IF(VLOOKUP(K164,工作表2!$B$2:$H$800,3,0 )=0,"",VLOOKUP(K164,工作表2!$B$2:$H$800,3,0 )),"") | N164: =IFERROR(IF(VLOOKUP(K164,工作表2!$B$2:$H$800,4,0 )=0,"",VLOOKUP(K164,工作表2!$B$2:$H$800,4,0 )),"") | O164: =IFERROR(IF(VLOOKUP(K164,工作表2!$B$2:$H$800,5,0 )=0,"",VLOOKUP(K164,工作表2!$B$2:$H$800,5,0 )),"") | P164: =IFERROR(IF(VLOOKUP(K164,工作表2!$B$2:$H$800,6,0 )=0,"",VLOOKUP(K164,工作表2!$B$2:$H$800,6,0 )),"") | Q164: =IFERROR(IF(VLOOKUP(K164,工作表2!$B$2:$H$800,7,0 )=0,"",VLOOKUP(K164,工作表2!$B$2:$H$800,7,0 )),"")
G165: =IF(LEFT(D165,3)="全民國","軍訓",LEFT(D165,3)) | H165: =IF(ISNA(VLOOKUP(F165,$S$2:$T$14,2,0)),"",VLOOKUP(F165,$S$2:$T$14,2,0)) | I165: =IF(ISBLANK(F165),"",IF(H165<60,"","V")) | J165: =IF(F165="停修","",IF(F165>=60,E165,"")) | K165: =IF(H165>59,IF(LEFT(D165,4)="大一英文","大一英文",(IF(LEFT(D165,2)="中文","中文",(IF(LEFT(D165,4)="全民國防","軍訓",(IF(LEFT(D165,4)="大一體育","大一體育",(IF(LEFT(D165,4)="大二體育","大二體育",(IF(LEFT(D165,4)="大二英文","大二英文",D165))))))))))),"") -> 0 | L165: =IFERROR(IF(VLOOKUP(K165,工作表2!$B$2:$H$800,2,0 )=0,"",VLOOKUP(K165,工作表2!$B$2:$H$800,2,0 )),"") | M165: =IFERROR(IF(VLOOKUP(K165,工作表2!$B$2:$H$800,3,0 )=0,"",VLOOKUP(K165,工作表2!$B$2:$H$800,3,0 )),"") | N165: =IFERROR(IF(VLOOKUP(K165,工作表2!$B$2:$H$800,4,0 )=0,"",VLOOKUP(K165,工作表2!$B$2:$H$800,4,0 )),"") | O165: =IFERROR(IF(VLOOKUP(K165,工作表2!$B$2:$H$800,5,0 )=0,"",VLOOKUP(K165,工作表2!$B$2:$H$800,5,0 )),"") | P165: =IFERROR(IF(VLOOKUP(K165,工作表2!$B$2:$H$800,6,0 )=0,"",VLOOKUP(K165,工作表2!$B$2:$H$800,6,0 )),"") | Q165: =IFERROR(IF(VLOOKUP(K165,工作表2!$B$2:$H$800,7,0 )=0,"",VLOOKUP(K165,工作表2!$B$2:$H$800,7,0 )),"")
G166: =IF(LEFT(D166,3)="全民國","軍訓",LEFT(D166,3)) | H166: =IF(ISNA(VLOOKUP(F166,$S$2:$T$14,2,0)),"",VLOOKUP(F166,$S$2:$T$14,2,0)) | I166: =IF(ISBLANK(F166),"",IF(H166<60,"","V")) | J166: =IF(F166="停修","",IF(F166>=60,E166,"")) | K166: =IF(H166>59,IF(LEFT(D166,4)="大一英文","大一英文",(IF(LEFT(D166,2)="中文","中文",(IF(LEFT(D166,4)="全民國防","軍訓",(IF(LEFT(D166,4)="大一體育","大一體育",(IF(LEFT(D166,4)="大二體育","大二體育",(IF(LEFT(D166,4)="大二英文","大二英文",D166))))))))))),"") -> 0 | L166: =IFERROR(IF(VLOOKUP(K166,工作表2!$B$2:$H$800,2,0 )=0,"",VLOOKUP(K166,工作表2!$B$2:$H$800,2,0 )),"") | M166: =IFERROR(IF(VLOOKUP(K166,工作表2!$B$2:$H$800,3,0 )=0,"",VLOOKUP(K166,工作表2!$B$2:$H$800,3,0 )),"") | N166: =IFERROR(IF(VLOOKUP(K166,工作表2!$B$2:$H$800,4,0 )=0,"",VLOOKUP(K166,工作表2!$B$2:$H$800,4,0 )),"") | O166: =IFERROR(IF(VLOOKUP(K166,工作表2!$B$2:$H$800,5,0 )=0,"",VLOOKUP(K166,工作表2!$B$2:$H$800,5,0 )),"") | P166: =IFERROR(IF(VLOOKUP(K166,工作表2!$B$2:$H$800,6,0 )=0,"",VLOOKUP(K166,工作表2!$B$2:$H$800,6,0 )),"") | Q166: =IFERROR(IF(VLOOKUP(K166,工作表2!$B$2:$H$800,7,0 )=0,"",VLOOKUP(K166,工作表2!$B$2:$H$800,7,0 )),"")
G167: =IF(LEFT(D167,3)="全民國","軍訓",LEFT(D167,3)) | H167: =IF(ISNA(VLOOKUP(F167,$S$2:$T$14,2,0)),"",VLOOKUP(F167,$S$2:$T$14,2,0)) | I167: =IF(ISBLANK(F167),"",IF(H167<60,"","V")) | J167: =IF(F167="停修","",IF(F167>=60,E167,"")) | K167: =IF(H167>59,IF(LEFT(D167,4)="大一英文","大一英文",(IF(LEFT(D167,2)="中文","中文",(IF(LEFT(D167,4)="全民國防","軍訓",(IF(LEFT(D167,4)="大一體育","大一體育",(IF(LEFT(D167,4)="大二體育","大二體育",(IF(LEFT(D167,4)="大二英文","大二英文",D167))))))))))),"") -> 0 | L167: =IFERROR(IF(VLOOKUP(K167,工作表2!$B$2:$H$800,2,0 )=0,"",VLOOKUP(K167,工作表2!$B$2:$H$800,2,0 )),"") | M167: =IFERROR(IF(VLOOKUP(K167,工作表2!$B$2:$H$800,3,0 )=0,"",VLOOKUP(K167,工作表2!$B$2:$H$800,3,0 )),"") | N167: =IFERROR(IF(VLOOKUP(K167,工作表2!$B$2:$H$800,4,0 )=0,"",VLOOKUP(K167,工作表2!$B$2:$H$800,4,0 )),"") | O167: =IFERROR(IF(VLOOKUP(K167,工作表2!$B$2:$H$800,5,0 )=0,"",VLOOKUP(K167,工作表2!$B$2:$H$800,5,0 )),"") | P167: =IFERROR(IF(VLOOKUP(K167,工作表2!$B$2:$H$800,6,0 )=0,"",VLOOKUP(K167,工作表2!$B$2:$H$800,6,0 )),"") | Q167: =IFERROR(IF(VLOOKUP(K167,工作表2!$B$2:$H$800,7,0 )=0,"",VLOOKUP(K167,工作表2!$B$2:$H$800,7,0 )),"")
G168: =IF(LEFT(D168,3)="全民國","軍訓",LEFT(D168,3)) | H168: =IF(ISNA(VLOOKUP(F168,$S$2:$T$14,2,0)),"",VLOOKUP(F168,$S$2:$T$14,2,0)) | I168: =IF(ISBLANK(F168),"",IF(H168<60,"","V")) | J168: =IF(F168="停修","",IF(F168>=60,E168,"")) | K168: =IF(H168>59,IF(LEFT(D168,4)="大一英文","大一英文",(IF(LEFT(D168,2)="中文","中文",(IF(LEFT(D168,4)="全民國防","軍訓",(IF(LEFT(D168,4)="大一體育","大一體育",(IF(LEFT(D168,4)="大二體育","大二體育",(IF(LEFT(D168,4)="大二英文","大二英文",D168))))))))))),"") -> 0 | L168: =IFERROR(IF(VLOOKUP(K168,工作表2!$B$2:$H$800,2,0 )=0,"",VLOOKUP(K168,工作表2!$B$2:$H$800,2,0 )),"") | M168: =IFERROR(IF(VLOOKUP(K168,工作表2!$B$2:$H$800,3,0 )=0,"",VLOOKUP(K168,工作表2!$B$2:$H$800,3,0 )),"") | N168: =IFERROR(IF(VLOOKUP(K168,工作表2!$B$2:$H$800,4,0 )=0,"",VLOOKUP(K168,工作表2!$B$2:$H$800,4,0 )),"") | O168: =IFERROR(IF(VLOOKUP(K168,工作表2!$B$2:$H$800,5,0 )=0,"",VLOOKUP(K168,工作表2!$B$2:$H$800,5,0 )),"") | P168: =IFERROR(IF(VLOOKUP(K168,工作表2!$B$2:$H$800,6,0 )=0,"",VLOOKUP(K168,工作表2!$B$2:$H$800,6,0 )),"") | Q168: =IFERROR(IF(VLOOKUP(K168,工作表2!$B$2:$H$800,7,0 )=0,"",VLOOKUP(K168,工作表2!$B$2:$H$800,7,0 )),"")
G169: =IF(LEFT(D169,3)="全民國","軍訓",LEFT(D169,3)) | H169: =IF(ISNA(VLOOKUP(F169,$S$2:$T$14,2,0)),"",VLOOKUP(F169,$S$2:$T$14,2,0)) | I169: =IF(ISBLANK(F169),"",IF(H169<60,"","V")) | J169: =IF(F169="停修","",IF(F169>=60,E169,"")) | K169: =IF(H169>59,IF(LEFT(D169,4)="大一英文","大一英文",(IF(LEFT(D169,2)="中文","中文",(IF(LEFT(D169,4)="全民國防","軍訓",(IF(LEFT(D169,4)="大一體育","大一體育",(IF(LEFT(D169,4)="大二體育","大二體育",(IF(LEFT(D169,4)="大二英文","大二英文",D169))))))))))),"") -> 0 | L169: =IFERROR(IF(VLOOKUP(K169,工作表2!$B$2:$H$800,2,0 )=0,"",VLOOKUP(K169,工作表2!$B$2:$H$800,2,0 )),"") | M169: =IFERROR(IF(VLOOKUP(K169,工作表2!$B$2:$H$800,3,0 )=0,"",VLOOKUP(K169,工作表2!$B$2:$H$800,3,0 )),"") | N169: =IFERROR(IF(VLOOKUP(K169,工作表2!$B$2:$H$800,4,0 )=0,"",VLOOKUP(K169,工作表2!$B$2:$H$800,4,0 )),"") | O169: =IFERROR(IF(VLOOKUP(K169,工作表2!$B$2:$H$800,5,0 )=0,"",VLOOKUP(K169,工作表2!$B$2:$H$800,5,0 )),"") | P169: =IFERROR(IF(VLOOKUP(K169,工作表2!$B$2:$H$800,6,0 )=0,"",VLOOKUP(K169,工作表2!$B$2:$H$800,6,0 )),"") | Q169: =IFERROR(IF(VLOOKUP(K169,工作表2!$B$2:$H$800,7,0 )=0,"",VLOOKUP(K169,工作表2!$B$2:$H$800,7,0 )),"")
G170: =IF(LEFT(D170,3)="全民國","軍訓",LEFT(D170,3)) | H170: =IF(ISNA(VLOOKUP(F170,$S$2:$T$14,2,0)),"",VLOOKUP(F170,$S$2:$T$14,2,0)) | I170: =IF(ISBLANK(F170),"",IF(H170<60,"","V")) | J170: =IF(F170="停修","",IF(F170>=60,E170,"")) | K170: =IF(H170>59,IF(LEFT(D170,4)="大一英文","大一英文",(IF(LEFT(D170,2)="中文","中文",(IF(LEFT(D170,4)="全民國防","軍訓",(IF(LEFT(D170,4)="大一體育","大一體育",(IF(LEFT(D170,4)="大二體育","大二體育",(IF(LEFT(D170,4)="大二英文","大二英文",D170))))))))))),"") -> 0 | L170: =IFERROR(IF(VLOOKUP(K170,工作表2!$B$2:$H$800,2,0 )=0,"",VLOOKUP(K170,工作表2!$B$2:$H$800,2,0 )),"") | M170: =IFERROR(IF(VLOOKUP(K170,工作表2!$B$2:$H$800,3,0 )=0,"",VLOOKUP(K170,工作表2!$B$2:$H$800,3,0 )),"") | N170: =IFERROR(IF(VLOOKUP(K170,工作表2!$B$2:$H$800,4,0 )=0,"",VLOOKUP(K170,工作表2!$B$2:$H$800,4,0 )),"") | O170: =IFERROR(IF(VLOOKUP(K170,工作表2!$B$2:$H$800,5,0 )=0,"",VLOOKUP(K170,工作表2!$B$2:$H$800,5,0 )),"") | P170: =IFERROR(IF(VLOOKUP(K170,工作表2!$B$2:$H$800,6,0 )=0,"",VLOOKUP(K170,工作表2!$B$2:$H$800,6,0 )),"") | Q170: =IFERROR(IF(VLOOKUP(K170,工作表2!$B$2:$H$800,7,0 )=0,"",VLOOKUP(K170,工作表2!$B$2:$H$800,7,0 )),"")
G171: =IF(LEFT(D171,3)="全民國","軍訓",LEFT(D171,3)) | H171: =IF(ISNA(VLOOKUP(F171,$S$2:$T$14,2,0)),"",VLOOKUP(F171,$S$2:$T$14,2,0)) | I171: =IF(ISBLANK(F171),"",IF(H171<60,"","V")) | J171: =IF(F171="停修","",IF(F171>=60,E171,"")) | K171: =IF(H171>59,IF(LEFT(D171,4)="大一英文","大一英文",(IF(LEFT(D171,2)="中文","中文",(IF(LEFT(D171,4)="全民國防","軍訓",(IF(LEFT(D171,4)="大一體育","大一體育",(IF(LEFT(D171,4)="大二體育","大二體育",(IF(LEFT(D171,4)="大二英文","大二英文",D171))))))))))),"") -> 0 | L171: =IFERROR(IF(VLOOKUP(K171,工作表2!$B$2:$H$800,2,0 )=0,"",VLOOKUP(K171,工作表2!$B$2:$H$800,2,0 )),"") | M171: =IFERROR(IF(VLOOKUP(K171,工作表2!$B$2:$H$800,3,0 )=0,"",VLOOKUP(K171,工作表2!$B$2:$H$800,3,0 )),"") | N171: =IFERROR(IF(VLOOKUP(K171,工作表2!$B$2:$H$800,4,0 )=0,"",VLOOKUP(K171,工作表2!$B$2:$H$800,4,0 )),"") | O171: =IFERROR(IF(VLOOKUP(K171,工作表2!$B$2:$H$800,5,0 )=0,"",VLOOKUP(K171,工作表2!$B$2:$H$800,5,0 )),"") | P171: =IFERROR(IF(VLOOKUP(K171,工作表2!$B$2:$H$800,6,0 )=0,"",VLOOKUP(K171,工作表2!$B$2:$H$800,6,0 )),"") | Q171: =IFERROR(IF(VLOOKUP(K171,工作表2!$B$2:$H$800,7,0 )=0,"",VLOOKUP(K171,工作表2!$B$2:$H$800,7,0 )),"")
G172: =IF(LEFT(D172,3)="全民國","軍訓",LEFT(D172,3)) | H172: =IF(ISNA(VLOOKUP(F172,$S$2:$T$14,2,0)),"",VLOOKUP(F172,$S$2:$T$14,2,0)) | I172: =IF(ISBLANK(F172),"",IF(H172<60,"","V")) | J172: =IF(F172="停修","",IF(F172>=60,E172,"")) | K172: =IF(H172>59,IF(LEFT(D172,4)="大一英文","大一英文",(IF(LEFT(D172,2)="中文","中文",(IF(LEFT(D172,4)="全民國防","軍訓",(IF(LEFT(D172,4)="大一體育","大一體育",(IF(LEFT(D172,4)="大二體育","大二體育",(IF(LEFT(D172,4)="大二英文","大二英文",D172))))))))))),"") -> 0 | L172: =IFERROR(IF(VLOOKUP(K172,工作表2!$B$2:$H$800,2,0 )=0,"",VLOOKUP(K172,工作表2!$B$2:$H$800,2,0 )),"") | M172: =IFERROR(IF(VLOOKUP(K172,工作表2!$B$2:$H$800,3,0 )=0,"",VLOOKUP(K172,工作表2!$B$2:$H$800,3,0 )),"") | N172: =IFERROR(IF(VLOOKUP(K172,工作表2!$B$2:$H$800,4,0 )=0,"",VLOOKUP(K172,工作表2!$B$2:$H$800,4,0 )),"") | O172: =IFERROR(IF(VLOOKUP(K172,工作表2!$B$2:$H$800,5,0 )=0,"",VLOOKUP(K172,工作表2!$B$2:$H$800,5,0 )),"") | P172: =IFERROR(IF(VLOOKUP(K172,工作表2!$B$2:$H$800,6,0 )=0,"",VLOOKUP(K172,工作表2!$B$2:$H$800,6,0 )),"") | Q172: =IFERROR(IF(VLOOKUP(K172,工作表2!$B$2:$H$800,7,0 )=0,"",VLOOKUP(K172,工作表2!$B$2:$H$800,7,0 )),"")
... G178: =IF(LEFT(D178,3)="全民國","軍訓",LEFT(D178,3)) | H178: =IF(ISNA(VLOOKUP(F178,$S$2:$T$14,2,0)),"",VLOOKUP(F178,$S$2:$T$14,2,0)) | I178: =IF(ISBLANK(F178),"",IF(H178<60,"","V")) | J178: =IF(F178="停修","",IF(F178>=60,E178,"")) | K178: =IF(H178>59,IF(LEFT(D178,4)="大一英文","大一英文",(IF(LEFT(D178,2)="中文","中文",(IF(LEFT(D178,4)="全民國防","軍訓",(IF(LEFT(D178,4)="大一體育","大一體育",(IF(LEFT(D178,4)="大二體育","大二體育",(IF(LEFT(D178,4)="大二英文","大二英文",D178))))))))))),"") -> 0 | L178: =IFERROR(IF(VLOOKUP(K178,工作表2!$B$2:$H$800,2,0 )=0,"",VLOOKUP(K178,工作表2!$B$2:$H$800,2,0 )),"") | M178: =IFERROR(IF(VLOOKUP(K178,工作表2!$B$2:$H$800,3,0 )=0,"",VLOOKUP(K178,工作表2!$B$2:$H$800,3,0 )),"") | N178: =IFERROR(IF(VLOOKUP(K178,工作表2!$B$2:$H$800,4,0 )=0,"",VLOOKUP(K178,工作表2!$B$2:$H$800,4,0 )),"") | O178: =IFERROR(IF(VLOOKUP(K178,工作表2!$B$2:$H$800,5,0 )=0,"",VLOOKUP(K178,工作表2!$B$2:$H$800,5,0 )),"") | P178: =IFERROR(IF(VLOOKUP(K178,工作表2!$B$2:$H$800,6,0 )=0,"",VLOOKUP(K178,工作表2!$B$2:$H$800,6,0 )),"") | Q178: =IFERROR(IF(VLOOKUP(K178,工作表2!$B$2:$H$800,7,0 )=0,"",VLOOKUP(K178,工作表2!$B$2:$H$800,7,0 )),"")
G179: =IF(LEFT(D179,3)="全民國","軍訓",LEFT(D179,3)) | H179: =IF(ISNA(VLOOKUP(F179,$S$2:$T$14,2,0)),"",VLOOKUP(F179,$S$2:$T$14,2,0)) | I179: =IF(ISBLANK(F179),"",IF(H179<60,"","V")) | J179: =IF(F179="停修","",IF(F179>=60,E179,"")) | K179: =IF(H179>59,IF(LEFT(D179,4)="大一英文","大一英文",(IF(LEFT(D179,2)="中文","中文",(IF(LEFT(D179,4)="全民國防","軍訓",(IF(LEFT(D179,4)="大一體育","大一體育",(IF(LEFT(D179,4)="大二體育","大二體育",(IF(LEFT(D179,4)="大二英文","大二英文",D179))))))))))),"") -> 0 | L179: =IFERROR(IF(VLOOKUP(K179,工作表2!$B$2:$H$800,2,0 )=0,"",VLOOKUP(K179,工作表2!$B$2:$H$800,2,0 )),"") | M179: =IFERROR(IF(VLOOKUP(K179,工作表2!$B$2:$H$800,3,0 )=0,"",VLOOKUP(K179,工作表2!$B$2:$H$800,3,0 )),"") | N179: =IFERROR(IF(VLOOKUP(K179,工作表2!$B$2:$H$800,4,0 )=0,"",VLOOKUP(K179,工作表2!$B$2:$H$800,4,0 )),"") | O179: =IFERROR(IF(VLOOKUP(K179,工作表2!$B$2:$H$800,5,0 )=0,"",VLOOKUP(K179,工作表2!$B$2:$H$800,5,0 )),"") | P179: =IFERROR(IF(VLOOKUP(K179,工作表2!$B$2:$H$800,6,0 )=0,"",VLOOKUP(K179,工作表2!$B$2:$H$800,6,0 )),"") | Q179: =IFERROR(IF(VLOOKUP(K179,工作表2!$B$2:$H$800,7,0 )=0,"",VLOOKUP(K179,工作表2!$B$2:$H$800,7,0 )),"") | Y179: =IF(V179<>"",1,"")
G180: =IF(LEFT(D180,3)="全民國","軍訓",LEFT(D180,3)) | H180: =IF(ISNA(VLOOKUP(F180,$S$2:$T$14,2,0)),"",VLOOKUP(F180,$S$2:$T$14,2,0)) | I180: =IF(ISBLANK(F180),"",IF(H180<60,"","V")) | J180: =IF(F180="停修","",IF(F180>=60,E180,"")) | K180: =IF(H180>59,IF(LEFT(D180,4)="大一英文","大一英文",(IF(LEFT(D180,2)="中文","中文",(IF(LEFT(D180,4)="全民國防","軍訓",(IF(LEFT(D180,4)="大一體育","大一體育",(IF(LEFT(D180,4)="大二體育","大二體育",(IF(LEFT(D180,4)="大二英文","大二英文",D180))))))))))),"") -> 0 | L180: =IFERROR(IF(VLOOKUP(K180,工作表2!$B$2:$H$800,2,0 )=0,"",VLOOKUP(K180,工作表2!$B$2:$H$800,2,0 )),"") | M180: =IFERROR(IF(VLOOKUP(K180,工作表2!$B$2:$H$800,3,0 )=0,"",VLOOKUP(K180,工作表2!$B$2:$H$800,3,0 )),"") | N180: =IFERROR(IF(VLOOKUP(K180,工作表2!$B$2:$H$800,4,0 )=0,"",VLOOKUP(K180,工作表2!$B$2:$H$800,4,0 )),"") | O180: =IFERROR(IF(VLOOKUP(K180,工作表2!$B$2:$H$800,5,0 )=0,"",VLOOKUP(K180,工作表2!$B$2:$H$800,5,0 )),"") | P180: =IFERROR(IF(VLOOKUP(K180,工作表2!$B$2:$H$800,6,0 )=0,"",VLOOKUP(K180,工作表2!$B$2:$H$800,6,0 )),"") | Q180: =IFERROR(IF(VLOOKUP(K180,工作表2!$B$2:$H$800,7,0 )=0,"",VLOOKUP(K180,工作表2!$B$2:$H$800,7,0 )),"") | Y180: =IF(V180<>"",1,"")
G181: =IF(LEFT(D181,3)="全民國","軍訓",LEFT(D181,3)) | H181: =IF(ISNA(VLOOKUP(F181,$S$2:$T$14,2,0)),"",VLOOKUP(F181,$S$2:$T$14,2,0)) | I181: =IF(ISBLANK(F181),"",IF(H181<60,"","V")) | J181: =IF(F181="停修","",IF(F181>=60,E181,"")) | K181: =IF(H181>59,IF(LEFT(D181,4)="大一英文","大一英文",(IF(LEFT(D181,2)="中文","中文",(IF(LEFT(D181,4)="全民國防","軍訓",(IF(LEFT(D181,4)="大一體育","大一體育",(IF(LEFT(D181,4)="大二體育","大二體育",(IF(LEFT(D181,4)="大二英文","大二英文",D181))))))))))),"") -> 0 | L181: =IFERROR(IF(VLOOKUP(K181,工作表2!$B$2:$H$800,2,0 )=0,"",VLOOKUP(K181,工作表2!$B$2:$H$800,2,0 )),"") | M181: =IFERROR(IF(VLOOKUP(K181,工作表2!$B$2:$H$800,3,0 )=0,"",VLOOKUP(K181,工作表2!$B$2:$H$800,3,0 )),"") | N181: =IFERROR(IF(VLOOKUP(K181,工作表2!$B$2:$H$800,4,0 )=0,"",VLOOKUP(K181,工作表2!$B$2:$H$800,4,0 )),"") | O181: =IFERROR(IF(VLOOKUP(K181,工作表2!$B$2:$H$800,5,0 )=0,"",VLOOKUP(K181,工作表2!$B$2:$H$800,5,0 )),"") | P181: =IFERROR(IF(VLOOKUP(K181,工作表2!$B$2:$H$800,6,0 )=0,"",VLOOKUP(K181,工作表2!$B$2:$H$800,6,0 )),"") | Q181: =IFERROR(IF(VLOOKUP(K181,工作表2!$B$2:$H$800,7,0 )=0,"",VLOOKUP(K181,工作表2!$B$2:$H$800,7,0 )),"") | Y181: =IF(V181<>"",1,"")
G182: =IF(LEFT(D182,3)="全民國","軍訓",LEFT(D182,3)) | H182: =IF(ISNA(VLOOKUP(F182,$S$2:$T$14,2,0)),"",VLOOKUP(F182,$S$2:$T$14,2,0)) | I182: =IF(ISBLANK(F182),"",IF(H182<60,"","V")) | J182: =IF(F182="停修","",IF(F182>=60,E182,"")) | K182: =IF(H182>59,IF(LEFT(D182,4)="大一英文","大一英文",(IF(LEFT(D182,2)="中文","中文",(IF(LEFT(D182,4)="全民國防","軍訓",(IF(LEFT(D182,4)="大一體育","大一體育",(IF(LEFT(D182,4)="大二體育","大二體育",(IF(LEFT(D182,4)="大二英文","大二英文",D182))))))))))),"") -> 0 | L182: =IFERROR(IF(VLOOKUP(K182,工作表2!$B$2:$H$800,2,0 )=0,"",VLOOKUP(K182,工作表2!$B$2:$H$800,2,0 )),"") | M182: =IFERROR(IF(VLOOKUP(K182,工作表2!$B$2:$H$800,3,0 )=0,"",VLOOKUP(K182,工作表2!$B$2:$H$800,3,0 )),"") | N182: =IFERROR(IF(VLOOKUP(K182,工作表2!$B$2:$H$800,4,0 )=0,"",VLOOKUP(K182,工作表2!$B$2:$H$800,4,0 )),"") | O182: =IFERROR(IF(VLOOKUP(K182,工作表2!$B$2:$H$800,5,0 )=0,"",VLOOKUP(K182,工作表2!$B$2:$H$800,5,0 )),"") | P182: =IFERROR(IF(VLOOKUP(K182,工作表2!$B$2:$H$800,6,0 )=0,"",VLOOKUP(K182,工作表2!$B$2:$H$800,6,0 )),"") | Q182: =IFERROR(IF(VLOOKUP(K182,工作表2!$B$2:$H$800,7,0 )=0,"",VLOOKUP(K182,工作表2!$B$2:$H$800,7,0 )),"") | Y182: =IF(V182<>"",1,"")
G183: =IF(LEFT(D183,3)="全民國","軍訓",LEFT(D183,3)) | H183: =IF(ISNA(VLOOKUP(F183,$S$2:$T$14,2,0)),"",VLOOKUP(F183,$S$2:$T$14,2,0)) | I183: =IF(ISBLANK(F183),"",IF(H183<60,"","V")) | J183: =IF(F183="停修","",IF(F183>=60,E183,"")) | K183: =IF(H183>59,IF(LEFT(D183,4)="大一英文","大一英文",(IF(LEFT(D183,2)="中文","中文",(IF(LEFT(D183,4)="全民國防","軍訓",(IF(LEFT(D183,4)="大一體育","大一體育",(IF(LEFT(D183,4)="大二體育","大二體育",(IF(LEFT(D183,4)="大二英文","大二英文",D183))))))))))),"") -> 0 | L183: =IFERROR(IF(VLOOKUP(K183,工作表2!$B$2:$H$800,2,0 )=0,"",VLOOKUP(K183,工作表2!$B$2:$H$800,2,0 )),"") | M183: =IFERROR(IF(VLOOKUP(K183,工作表2!$B$2:$H$800,3,0 )=0,"",VLOOKUP(K183,工作表2!$B$2:$H$800,3,0 )),"") | N183: =IFERROR(IF(VLOOKUP(K183,工作表2!$B$2:$H$800,4,0 )=0,"",VLOOKUP(K183,工作表2!$B$2:$H$800,4,0 )),"") | O183: =IFERROR(IF(VLOOKUP(K183,工作表2!$B$2:$H$800,5,0 )=0,"",VLOOKUP(K183,工作表2!$B$2:$H$800,5,0 )),"") | P183: =IFERROR(IF(VLOOKUP(K183,工作表2!$B$2:$H$800,6,0 )=0,"",VLOOKUP(K183,工作表2!$B$2:$H$800,6,0 )),"") | Q183: =IFERROR(IF(VLOOKUP(K183,工作表2!$B$2:$H$800,7,0 )=0,"",VLOOKUP(K183,工作表2!$B$2:$H$800,7,0 )),"") | Y183: =IF(V183<>"",1,"")
G184: =IF(LEFT(D184,3)="全民國","軍訓",LEFT(D184,3)) | H184: =IF(ISNA(VLOOKUP(F184,$S$2:$T$14,2,0)),"",VLOOKUP(F184,$S$2:$T$14,2,0)) | I184: =IF(ISBLANK(F184),"",IF(H184<60,"","V")) | J184: =IF(F184="停修","",IF(F184>=60,E184,"")) | K184: =IF(H184>59,IF(LEFT(D184,4)="大一英文","大一英文",(IF(LEFT(D184,2)="中文","中文",(IF(LEFT(D184,4)="全民國防","軍訓",(IF(LEFT(D184,4)="大一體育","大一體育",(IF(LEFT(D184,4)="大二體育","大二體育",(IF(LEFT(D184,4)="大二英文","大二英文",D184))))))))))),"") -> 0 | L184: =IFERROR(IF(VLOOKUP(K184,工作表2!$B$2:$H$800,2,0 )=0,"",VLOOKUP(K184,工作表2!$B$2:$H$800,2,0 )),"") | M184: =IFERROR(IF(VLOOKUP(K184,工作表2!$B$2:$H$800,3,0 )=0,"",VLOOKUP(K184,工作表2!$B$2:$H$800,3,0 )),"") | N184: =IFERROR(IF(VLOOKUP(K184,工作表2!$B$2:$H$800,4,0 )=0,"",VLOOKUP(K184,工作表2!$B$2:$H$800,4,0 )),"") | O184: =IFERROR(IF(VLOOKUP(K184,工作表2!$B$2:$H$800,5,0 )=0,"",VLOOKUP(K184,工作表2!$B$2:$H$800,5,0 )),"") | P184: =IFERROR(IF(VLOOKUP(K184,工作表2!$B$2:$H$800,6,0 )=0,"",VLOOKUP(K184,工作表2!$B$2:$H$800,6,0 )),"") | Q184: =IFERROR(IF(VLOOKUP(K184,工作表2!$B$2:$H$800,7,0 )=0,"",VLOOKUP(K184,工作表2!$B$2:$H$800,7,0 )),"") | Y184: =IF(V184<>"",1,"")
G185: =IF(LEFT(D185,3)="全民國","軍訓",LEFT(D185,3)) | H185: =IF(ISNA(VLOOKUP(F185,$S$2:$T$14,2,0)),"",VLOOKUP(F185,$S$2:$T$14,2,0)) | I185: =IF(ISBLANK(F185),"",IF(H185<60,"","V")) | J185: =IF(F185="停修","",IF(F185>=60,E185,"")) | K185: =IF(H185>59,IF(LEFT(D185,4)="大一英文","大一英文",(IF(LEFT(D185,2)="中文","中文",(IF(LEFT(D185,4)="全民國防","軍訓",(IF(LEFT(D185,4)="大一體育","大一體育",(IF(LEFT(D185,4)="大二體育","大二體育",(IF(LEFT(D185,4)="大二英文","大二英文",D185))))))))))),"") -> 0 | L185: =IFERROR(IF(VLOOKUP(K185,工作表2!$B$2:$H$800,2,0 )=0,"",VLOOKUP(K185,工作表2!$B$2:$H$800,2,0 )),"") | M185: =IFERROR(IF(VLOOKUP(K185,工作表2!$B$2:$H$800,3,0 )=0,"",VLOOKUP(K185,工作表2!$B$2:$H$800,3,0 )),"") | N185: =IFERROR(IF(VLOOKUP(K185,工作表2!$B$2:$H$800,4,0 )=0,"",VLOOKUP(K185,工作表2!$B$2:$H$800,4,0 )),"") | O185: =IFERROR(IF(VLOOKUP(K185,工作表2!$B$2:$H$800,5,0 )=0,"",VLOOKUP(K185,工作表2!$B$2:$H$800,5,0 )),"") | P185: =IFERROR(IF(VLOOKUP(K185,工作表2!$B$2:$H$800,6,0 )=0,"",VLOOKUP(K185,工作表2!$B$2:$H$800,6,0 )),"") | Q185: =IFERROR(IF(VLOOKUP(K185,工作表2!$B$2:$H$800,7,0 )=0,"",VLOOKUP(K185,工作表2!$B$2:$H$800,7,0 )),"") | Y185: =IF(V185<>"",1,"")
G186: =IF(LEFT(D186,3)="全民國","軍訓",LEFT(D186,3)) | H186: =IF(ISNA(VLOOKUP(F186,$S$2:$T$14,2,0)),"",VLOOKUP(F186,$S$2:$T$14,2,0)) | I186: =IF(ISBLANK(F186),"",IF(H186<60,"","V")) | J186: =IF(F186="停修","",IF(F186>=60,E186,"")) | K186: =IF(H186>59,IF(LEFT(D186,4)="大一英文","大一英文",(IF(LEFT(D186,2)="中文","中文",(IF(LEFT(D186,4)="全民國防","軍訓",(IF(LEFT(D186,4)="大一體育","大一體育",(IF(LEFT(D186,4)="大二體育","大二體育",(IF(LEFT(D186,4)="大二英文","大二英文",D186))))))))))),"") -> 0 | L186: =IFERROR(IF(VLOOKUP(K186,工作表2!$B$2:$H$800,2,0 )=0,"",VLOOKUP(K186,工作表2!$B$2:$H$800,2,0 )),"") | M186: =IFERROR(IF(VLOOKUP(K186,工作表2!$B$2:$H$800,3,0 )=0,"",VLOOKUP(K186,工作表2!$B$2:$H$800,3,0 )),"") | N186: =IFERROR(IF(VLOOKUP(K186,工作表2!$B$2:$H$800,4,0 )=0,"",VLOOKUP(K186,工作表2!$B$2:$H$800,4,0 )),"") | O186: =IFERROR(IF(VLOOKUP(K186,工作表2!$B$2:$H$800,5,0 )=0,"",VLOOKUP(K186,工作表2!$B$2:$H$800,5,0 )),"") | P186: =IFERROR(IF(VLOOKUP(K186,工作表2!$B$2:$H$800,6,0 )=0,"",VLOOKUP(K186,工作表2!$B$2:$H$800,6,0 )),"") | Q186: =IFERROR(IF(VLOOKUP(K186,工作表2!$B$2:$H$800,7,0 )=0,"",VLOOKUP(K186,工作表2!$B$2:$H$800,7,0 )),"")
G187: =IF(LEFT(D187,3)="全民國","軍訓",LEFT(D187,3)) | H187: =IF(ISNA(VLOOKUP(F187,$S$2:$T$14,2,0)),"",VLOOKUP(F187,$S$2:$T$14,2,0)) | I187: =IF(ISBLANK(F187),"",IF(H187<60,"","V")) | J187: =IF(F187="停修","",IF(F187>=60,E187,"")) | K187: =IF(H187>59,IF(LEFT(D187,4)="大一英文","大一英文",(IF(LEFT(D187,2)="中文","中文",(IF(LEFT(D187,4)="全民國防","軍訓",(IF(LEFT(D187,4)="大一體育","大一體育",(IF(LEFT(D187,4)="大二體育","大二體育",(IF(LEFT(D187,4)="大二英文","大二英文",D187))))))))))),"") -> 0 | L187: =IFERROR(IF(VLOOKUP(K187,工作表2!$B$2:$H$800,2,0 )=0,"",VLOOKUP(K187,工作表2!$B$2:$H$800,2,0 )),"") | M187: =IFERROR(IF(VLOOKUP(K187,工作表2!$B$2:$H$800,3,0 )=0,"",VLOOKUP(K187,工作表2!$B$2:$H$800,3,0 )),"") | N187: =IFERROR(IF(VLOOKUP(K187,工作表2!$B$2:$H$800,4,0 )=0,"",VLOOKUP(K187,工作表2!$B$2:$H$800,4,0 )),"") | O187: =IFERROR(IF(VLOOKUP(K187,工作表2!$B$2:$H$800,5,0 )=0,"",VLOOKUP(K187,工作表2!$B$2:$H$800,5,0 )),"") | P187: =IFERROR(IF(VLOOKUP(K187,工作表2!$B$2:$H$800,6,0 )=0,"",VLOOKUP(K187,工作表2!$B$2:$H$800,6,0 )),"") | Q187: =IFERROR(IF(VLOOKUP(K187,工作表2!$B$2:$H$800,7,0 )=0,"",VLOOKUP(K187,工作表2!$B$2:$H$800,7,0 )),"")
G188: =IF(LEFT(D188,3)="全民國","軍訓",LEFT(D188,3)) | H188: =IF(ISNA(VLOOKUP(F188,$S$2:$T$14,2,0)),"",VLOOKUP(F188,$S$2:$T$14,2,0)) | I188: =IF(ISBLANK(F188),"",IF(H188<60,"","V")) | J188: =IF(F188="停修","",IF(F188>=60,E188,"")) | K188: =IF(H188>59,IF(LEFT(D188,4)="大一英文","大一英文",(IF(LEFT(D188,2)="中文","中文",(IF(LEFT(D188,4)="全民國防","軍訓",(IF(LEFT(D188,4)="大一體育","大一體育",(IF(LEFT(D188,4)="大二體育","大二體育",(IF(LEFT(D188,4)="大二英文","大二英文",D188))))))))))),"") -> 0 | L188: =IFERROR(IF(VLOOKUP(K188,工作表2!$B$2:$H$800,2,0 )=0,"",VLOOKUP(K188,工作表2!$B$2:$H$800,2,0 )),"") | M188: =IFERROR(IF(VLOOKUP(K188,工作表2!$B$2:$H$800,3,0 )=0,"",VLOOKUP(K188,工作表2!$B$2:$H$800,3,0 )),"") | N188: =IFERROR(IF(VLOOKUP(K188,工作表2!$B$2:$H$800,4,0 )=0,"",VLOOKUP(K188,工作表2!$B$2:$H$800,4,0 )),"") | O188: =IFERROR(IF(VLOOKUP(K188,工作表2!$B$2:$H$800,5,0 )=0,"",VLOOKUP(K188,工作表2!$B$2:$H$800,5,0 )),"") | P188: =IFERROR(IF(VLOOKUP(K188,工作表2!$B$2:$H$800,6,0 )=0,"",VLOOKUP(K188,工作表2!$B$2:$H$800,6,0 )),"") | Q188: =IFERROR(IF(VLOOKUP(K188,工作表2!$B$2:$H$800,7,0 )=0,"",VLOOKUP(K188,工作表2!$B$2:$H$800,7,0 )),"")
G189: =IF(LEFT(D189,3)="全民國","軍訓",LEFT(D189,3)) | H189: =IF(ISNA(VLOOKUP(F189,$S$2:$T$14,2,0)),"",VLOOKUP(F189,$S$2:$T$14,2,0)) | I189: =IF(ISBLANK(F189),"",IF(H189<60,"","V")) | J189: =IF(F189="停修","",IF(F189>=60,E189,"")) | K189: =IF(H189>59,IF(LEFT(D189,4)="大一英文","大一英文",(IF(LEFT(D189,2)="中文","中文",(IF(LEFT(D189,4)="全民國防","軍訓",(IF(LEFT(D189,4)="大一體育","大一體育",(IF(LEFT(D189,4)="大二體育","大二體育",(IF(LEFT(D189,4)="大二英文","大二英文",D189))))))))))),"") -> 0 | L189: =IFERROR(IF(VLOOKUP(K189,工作表2!$B$2:$H$800,2,0 )=0,"",VLOOKUP(K189,工作表2!$B$2:$H$800,2,0 )),"") | M189: =IFERROR(IF(VLOOKUP(K189,工作表2!$B$2:$H$800,3,0 )=0,"",VLOOKUP(K189,工作表2!$B$2:$H$800,3,0 )),"") | N189: =IFERROR(IF(VLOOKUP(K189,工作表2!$B$2:$H$800,4,0 )=0,"",VLOOKUP(K189,工作表2!$B$2:$H$800,4,0 )),"") | O189: =IFERROR(IF(VLOOKUP(K189,工作表2!$B$2:$H$800,5,0 )=0,"",VLOOKUP(K189,工作表2!$B$2:$H$800,5,0 )),"") | P189: =IFERROR(IF(VLOOKUP(K189,工作表2!$B$2:$H$800,6,0 )=0,"",VLOOKUP(K189,工作表2!$B$2:$H$800,6,0 )),"") | Q189: =IFERROR(IF(VLOOKUP(K189,工作表2!$B$2:$H$800,7,0 )=0,"",VLOOKUP(K189,工作表2!$B$2:$H$800,7,0 )),"")
G190: =IF(LEFT(D190,3)="全民國","軍訓",LEFT(D190,3)) | H190: =IF(ISNA(VLOOKUP(F190,$S$2:$T$14,2,0)),"",VLOOKUP(F190,$S$2:$T$14,2,0)) | I190: =IF(ISBLANK(F190),"",IF(H190<60,"","V")) | J190: =IF(F190="停修","",IF(F190>=60,E190,"")) | K190: =IF(H190>59,IF(LEFT(D190,4)="大一英文","大一英文",(IF(LEFT(D190,2)="中文","中文",(IF(LEFT(D190,4)="全民國防","軍訓",(IF(LEFT(D190,4)="大一體育","大一體育",(IF(LEFT(D190,4)="大二體育","大二體育",(IF(LEFT(D190,4)="大二英文","大二英文",D190))))))))))),"") -> 0 | L190: =IFERROR(IF(VLOOKUP(K190,工作表2!$B$2:$H$800,2,0 )=0,"",VLOOKUP(K190,工作表2!$B$2:$H$800,2,0 )),"") | M190: =IFERROR(IF(VLOOKUP(K190,工作表2!$B$2:$H$800,3,0 )=0,"",VLOOKUP(K190,工作表2!$B$2:$H$800,3,0 )),"") | N190: =IFERROR(IF(VLOOKUP(K190,工作表2!$B$2:$H$800,4,0 )=0,"",VLOOKUP(K190,工作表2!$B$2:$H$800,4,0 )),"") | O190: =IFERROR(IF(VLOOKUP(K190,工作表2!$B$2:$H$800,5,0 )=0,"",VLOOKUP(K190,工作表2!$B$2:$H$800,5,0 )),"") | P190: =IFERROR(IF(VLOOKUP(K190,工作表2!$B$2:$H$800,6,0 )=0,"",VLOOKUP(K190,工作表2!$B$2:$H$800,6,0 )),"") | Q190: =IFERROR(IF(VLOOKUP(K190,工作表2!$B$2:$H$800,7,0 )=0,"",VLOOKUP(K190,工作表2!$B$2:$H$800,7,0 )),"")
G191: =IF(LEFT(D191,3)="全民國","軍訓",LEFT(D191,3)) | H191: =IF(ISNA(VLOOKUP(F191,$S$2:$T$14,2,0)),"",VLOOKUP(F191,$S$2:$T$14,2,0)) | I191: =IF(ISBLANK(F191),"",IF(H191<60,"","V")) | J191: =IF(F191="停修","",IF(F191>=60,E191,"")) | K191: =IF(H191>59,IF(LEFT(D191,4)="大一英文","大一英文",(IF(LEFT(D191,2)="中文","中文",(IF(LEFT(D191,4)="全民國防","軍訓",(IF(LEFT(D191,4)="大一體育","大一體育",(IF(LEFT(D191,4)="大二體育","大二體育",(IF(LEFT(D191,4)="大二英文","大二英文",D191))))))))))),"") -> 0 | L191: =IFERROR(IF(VLOOKUP(K191,工作表2!$B$2:$H$800,2,0 )=0,"",VLOOKUP(K191,工作表2!$B$2:$H$800,2,0 )),"") | M191: =IFERROR(IF(VLOOKUP(K191,工作表2!$B$2:$H$800,3,0 )=0,"",VLOOKUP(K191,工作表2!$B$2:$H$800,3,0 )),"") | N191: =IFERROR(IF(VLOOKUP(K191,工作表2!$B$2:$H$800,4,0 )=0,"",VLOOKUP(K191,工作表2!$B$2:$H$800,4,0 )),"") | O191: =IFERROR(IF(VLOOKUP(K191,工作表2!$B$2:$H$800,5,0 )=0,"",VLOOKUP(K191,工作表2!$B$2:$H$800,5,0 )),"") | P191: =IFERROR(IF(VLOOKUP(K191,工作表2!$B$2:$H$800,6,0 )=0,"",VLOOKUP(K191,工作表2!$B$2:$H$800,6,0 )),"") | Q191: =IFERROR(IF(VLOOKUP(K191,工作表2!$B$2:$H$800,7,0 )=0,"",VLOOKUP(K191,工作表2!$B$2:$H$800,7,0 )),"")
G192: =IF(LEFT(D192,3)="全民國","軍訓",LEFT(D192,3)) | H192: =IF(ISNA(VLOOKUP(F192,$S$2:$T$14,2,0)),"",VLOOKUP(F192,$S$2:$T$14,2,0)) | I192: =IF(ISBLANK(F192),"",IF(H192<60,"","V")) | J192: =IF(F192="停修","",IF(F192>=60,E192,"")) | K192: =IF(H192>59,IF(LEFT(D192,4)="大一英文","大一英文",(IF(LEFT(D192,2)="中文","中文",(IF(LEFT(D192,4)="全民國防","軍訓",(IF(LEFT(D192,4)="大一體育","大一體育",(IF(LEFT(D192,4)="大二體育","大二體育",(IF(LEFT(D192,4)="大二英文","大二英文",D192))))))))))),"") -> 0 | L192: =IFERROR(IF(VLOOKUP(K192,工作表2!$B$2:$H$800,2,0 )=0,"",VLOOKUP(K192,工作表2!$B$2:$H$800,2,0 )),"") | M192: =IFERROR(IF(VLOOKUP(K192,工作表2!$B$2:$H$800,3,0 )=0,"",VLOOKUP(K192,工作表2!$B$2:$H$800,3,0 )),"") | N192: =IFERROR(IF(VLOOKUP(K192,工作表2!$B$2:$H$800,4,0 )=0,"",VLOOKUP(K192,工作表2!$B$2:$H$800,4,0 )),"") | O192: =IFERROR(IF(VLOOKUP(K192,工作表2!$B$2:$H$800,5,0 )=0,"",VLOOKUP(K192,工作表2!$B$2:$H$800,5,0 )),"") | P192: =IFERROR(IF(VLOOKUP(K192,工作表2!$B$2:$H$800,6,0 )=0,"",VLOOKUP(K192,工作表2!$B$2:$H$800,6,0 )),"") | Q192: =IFERROR(IF(VLOOKUP(K192,工作表2!$B$2:$H$800,7,0 )=0,"",VLOOKUP(K192,工作表2!$B$2:$H$800,7,0 )),"")
G193: =IF(LEFT(D193,3)="全民國","軍訓",LEFT(D193,3)) | H193: =IF(ISNA(VLOOKUP(F193,$S$2:$T$14,2,0)),"",VLOOKUP(F193,$S$2:$T$14,2,0)) | I193: =IF(ISBLANK(F193),"",IF(H193<60,"","V")) | J193: =IF(F193="停修","",IF(F193>=60,E193,"")) | K193: =IF(H193>59,IF(LEFT(D193,4)="大一英文","大一英文",(IF(LEFT(D193,2)="中文","中文",(IF(LEFT(D193,4)="全民國防","軍訓",(IF(LEFT(D193,4)="大一體育","大一體育",(IF(LEFT(D193,4)="大二體育","大二體育",(IF(LEFT(D193,4)="大二英文","大二英文",D193))))))))))),"") -> 0 | L193: =IFERROR(IF(VLOOKUP(K193,工作表2!$B$2:$H$800,2,0 )=0,"",VLOOKUP(K193,工作表2!$B$2:$H$800,2,0 )),"") | M193: =IFERROR(IF(VLOOKUP(K193,工作表2!$B$2:$H$800,3,0 )=0,"",VLOOKUP(K193,工作表2!$B$2:$H$800,3,0 )),"") | N193: =IFERROR(IF(VLOOKUP(K193,工作表2!$B$2:$H$800,4,0 )=0,"",VLOOKUP(K193,工作表2!$B$2:$H$800,4,0 )),"") | O193: =IFERROR(IF(VLOOKUP(K193,工作表2!$B$2:$H$800,5,0 )=0,"",VLOOKUP(K193,工作表2!$B$2:$H$800,5,0 )),"") | P193: =IFERROR(IF(VLOOKUP(K193,工作表2!$B$2:$H$800,6,0 )=0,"",VLOOKUP(K193,工作表2!$B$2:$H$800,6,0 )),"") | Q193: =IFERROR(IF(VLOOKUP(K193,工作表2!$B$2:$H$800,7,0 )=0,"",VLOOKUP(K193,工作表2!$B$2:$H$800,7,0 )),"")
G194: =IF(LEFT(D194,3)="全民國","軍訓",LEFT(D194,3)) | H194: =IF(ISNA(VLOOKUP(F194,$S$2:$T$14,2,0)),"",VLOOKUP(F194,$S$2:$T$14,2,0)) | I194: =IF(ISBLANK(F194),"",IF(H194<60,"","V")) | J194: =IF(F194="停修","",IF(F194>=60,E194,"")) | K194: =IF(H194>59,IF(LEFT(D194,4)="大一英文","大一英文",(IF(LEFT(D194,2)="中文","中文",(IF(LEFT(D194,4)="全民國防","軍訓",(IF(LEFT(D194,4)="大一體育","大一體育",(IF(LEFT(D194,4)="大二體育","大二體育",(IF(LEFT(D194,4)="大二英文","大二英文",D194))))))))))),"") -> 0 | L194: =IFERROR(IF(VLOOKUP(K194,工作表2!$B$2:$H$800,2,0 )=0,"",VLOOKUP(K194,工作表2!$B$2:$H$800,2,0 )),"") | M194: =IFERROR(IF(VLOOKUP(K194,工作表2!$B$2:$H$800,3,0 )=0,"",VLOOKUP(K194,工作表2!$B$2:$H$800,3,0 )),"") | N194: =IFERROR(IF(VLOOKUP(K194,工作表2!$B$2:$H$800,4,0 )=0,"",VLOOKUP(K194,工作表2!$B$2:$H$800,4,0 )),"") | O194: =IFERROR(IF(VLOOKUP(K194,工作表2!$B$2:$H$800,5,0 )=0,"",VLOOKUP(K194,工作表2!$B$2:$H$800,5,0 )),"") | P194: =IFERROR(IF(VLOOKUP(K194,工作表2!$B$2:$H$800,6,0 )=0,"",VLOOKUP(K194,工作表2!$B$2:$H$800,6,0 )),"") | Q194: =IFERROR(IF(VLOOKUP(K194,工作表2!$B$2:$H$800,7,0 )=0,"",VLOOKUP(K194,工作表2!$B$2:$H$800,7,0 )),"")
G195: =IF(LEFT(D195,3)="全民國","軍訓",LEFT(D195,3)) | H195: =IF(ISNA(VLOOKUP(F195,$S$2:$T$14,2,0)),"",VLOOKUP(F195,$S$2:$T$14,2,0)) | I195: =IF(ISBLANK(F195),"",IF(H195<60,"","V")) | J195: =IF(F195="停修","",IF(F195>=60,E195,"")) | K195: =IF(H195>59,IF(LEFT(D195,4)="大一英文","大一英文",(IF(LEFT(D195,2)="中文","中文",(IF(LEFT(D195,4)="全民國防","軍訓",(IF(LEFT(D195,4)="大一體育","大一體育",(IF(LEFT(D195,4)="大二體育","大二體育",(IF(LEFT(D195,4)="大二英文","大二英文",D195))))))))))),"") -> 0 | L195: =IFERROR(IF(VLOOKUP(K195,工作表2!$B$2:$H$800,2,0 )=0,"",VLOOKUP(K195,工作表2!$B$2:$H$800,2,0 )),"") | M195: =IFERROR(IF(VLOOKUP(K195,工作表2!$B$2:$H$800,3,0 )=0,"",VLOOKUP(K195,工作表2!$B$2:$H$800,3,0 )),"") | N195: =IFERROR(IF(VLOOKUP(K195,工作表2!$B$2:$H$800,4,0 )=0,"",VLOOKUP(K195,工作表2!$B$2:$H$800,4,0 )),"") | O195: =IFERROR(IF(VLOOKUP(K195,工作表2!$B$2:$H$800,5,0 )=0,"",VLOOKUP(K195,工作表2!$B$2:$H$800,5,0 )),"") | P195: =IFERROR(IF(VLOOKUP(K195,工作表2!$B$2:$H$800,6,0 )=0,"",VLOOKUP(K195,工作表2!$B$2:$H$800,6,0 )),"") | Q195: =IFERROR(IF(VLOOKUP(K195,工作表2!$B$2:$H$800,7,0 )=0,"",VLOOKUP(K195,工作表2!$B$2:$H$800,7,0 )),"")
G196: =IF(LEFT(D196,3)="全民國","軍訓",LEFT(D196,3)) | H196: =IF(ISNA(VLOOKUP(F196,$S$2:$T$14,2,0)),"",VLOOKUP(F196,$S$2:$T$14,2,0)) | I196: =IF(ISBLANK(F196),"",IF(H196<60,"","V")) | J196: =IF(F196="停修","",IF(F196>=60,E196,"")) | K196: =IF(H196>59,IF(LEFT(D196,4)="大一英文","大一英文",(IF(LEFT(D196,2)="中文","中文",(IF(LEFT(D196,4)="全民國防","軍訓",(IF(LEFT(D196,4)="大一體育","大一體育",(IF(LEFT(D196,4)="大二體育","大二體育",(IF(LEFT(D196,4)="大二英文","大二英文",D196))))))))))),"") -> 0 | L196: =IFERROR(IF(VLOOKUP(K196,工作表2!$B$2:$H$800,2,0 )=0,"",VLOOKUP(K196,工作表2!$B$2:$H$800,2,0 )),"") | M196: =IFERROR(IF(VLOOKUP(K196,工作表2!$B$2:$H$800,3,0 )=0,"",VLOOKUP(K196,工作表2!$B$2:$H$800,3,0 )),"") | N196: =IFERROR(IF(VLOOKUP(K196,工作表2!$B$2:$H$800,4,0 )=0,"",VLOOKUP(K196,工作表2!$B$2:$H$800,4,0 )),"") | O196: =IFERROR(IF(VLOOKUP(K196,工作表2!$B$2:$H$800,5,0 )=0,"",VLOOKUP(K196,工作表2!$B$2:$H$800,5,0 )),"") | P196: =IFERROR(IF(VLOOKUP(K196,工作表2!$B$2:$H$800,6,0 )=0,"",VLOOKUP(K196,工作表2!$B$2:$H$800,6,0 )),"") | Q196: =IFERROR(IF(VLOOKUP(K196,工作表2!$B$2:$H$800,7,0 )=0,"",VLOOKUP(K196,工作表2!$B$2:$H$800,7,0 )),"")
G197: =IF(LEFT(D197,3)="全民國","軍訓",LEFT(D197,3)) | H197: =IF(ISNA(VLOOKUP(F197,$S$2:$T$14,2,0)),"",VLOOKUP(F197,$S$2:$T$14,2,0)) | I197: =IF(ISBLANK(F197),"",IF(H197<60,"","V")) | J197: =IF(F197="停修","",IF(F197>=60,E197,"")) | K197: =IF(H197>59,IF(LEFT(D197,4)="大一英文","大一英文",(IF(LEFT(D197,2)="中文","中文",(IF(LEFT(D197,4)="全民國防","軍訓",(IF(LEFT(D197,4)="大一體育","大一體育",(IF(LEFT(D197,4)="大二體育","大二體育",(IF(LEFT(D197,4)="大二英文","大二英文",D197))))))))))),"") -> 0 | L197: =IFERROR(IF(VLOOKUP(K197,工作表2!$B$2:$H$800,2,0 )=0,"",VLOOKUP(K197,工作表2!$B$2:$H$800,2,0 )),"") | M197: =IFERROR(IF(VLOOKUP(K197,工作表2!$B$2:$H$800,3,0 )=0,"",VLOOKUP(K197,工作表2!$B$2:$H$800,3,0 )),"") | N197: =IFERROR(IF(VLOOKUP(K197,工作表2!$B$2:$H$800,4,0 )=0,"",VLOOKUP(K197,工作表2!$B$2:$H$800,4,0 )),"") | O197: =IFERROR(IF(VLOOKUP(K197,工作表2!$B$2:$H$800,5,0 )=0,"",VLOOKUP(K197,工作表2!$B$2:$H$800,5,0 )),"") | P197: =IFERROR(IF(VLOOKUP(K197,工作表2!$B$2:$H$800,6,0 )=0,"",VLOOKUP(K197,工作表2!$B$2:$H$800,6,0 )),"") | Q197: =IFERROR(IF(VLOOKUP(K197,工作表2!$B$2:$H$800,7,0 )=0,"",VLOOKUP(K197,工作表2!$B$2:$H$800,7,0 )),"")
... G199: =IF(LEFT(D199,3)="全民國","軍訓",LEFT(D199,3)) | H199: =IF(ISNA(VLOOKUP(F199,$S$2:$T$14,2,0)),"",VLOOKUP(F199,$S$2:$T$14,2,0)) | I199: =IF(ISBLANK(F199),"",IF(H199<60,"","V")) | J199: =IF(F199="停修","",IF(F199>=60,E199,"")) | K199: =IF(H199>59,IF(LEFT(D199,4)="大一英文","大一英文",(IF(LEFT(D199,2)="中文","中文",(IF(LEFT(D199,4)="全民國防","軍訓",(IF(LEFT(D199,4)="大一體育","大一體育",(IF(LEFT(D199,4)="大二體育","大二體育",(IF(LEFT(D199,4)="大二英文","大二英文",D199))))))))))),"") -> 0 | L199: =IFERROR(IF(VLOOKUP(K199,工作表2!$B$2:$H$800,2,0 )=0,"",VLOOKUP(K199,工作表2!$B$2:$H$800,2,0 )),"") | M199: =IFERROR(IF(VLOOKUP(K199,工作表2!$B$2:$H$800,3,0 )=0,"",VLOOKUP(K199,工作表2!$B$2:$H$800,3,0 )),"") | N199: =IFERROR(IF(VLOOKUP(K199,工作表2!$B$2:$H$800,4,0 )=0,"",VLOOKUP(K199,工作表2!$B$2:$H$800,4,0 )),"") | O199: =IFERROR(IF(VLOOKUP(K199,工作表2!$B$2:$H$800,5,0 )=0,"",VLOOKUP(K199,工作表2!$B$2:$H$800,5,0 )),"") | P199: =IFERROR(IF(VLOOKUP(K199,工作表2!$B$2:$H$800,6,0 )=0,"",VLOOKUP(K199,工作表2!$B$2:$H$800,6,0 )),"") | Q199: =IFERROR(IF(VLOOKUP(K199,工作表2!$B$2:$H$800,7,0 )=0,"",VLOOKUP(K199,工作表2!$B$2:$H$800,7,0 )),"")
G200: =IF(LEFT(D200,3)="全民國","軍訓",LEFT(D200,3)) | H200: =IF(ISNA(VLOOKUP(F200,$S$2:$T$14,2,0)),"",VLOOKUP(F200,$S$2:$T$14,2,0)) | I200: =IF(ISBLANK(F200),"",IF(H200<60,"","V")) | J200: =IF(F200="停修","",IF(F200>=60,E200,"")) | K200: =IF(H200>59,IF(LEFT(D200,4)="大一英文","大一英文",(IF(LEFT(D200,2)="中文","中文",(IF(LEFT(D200,4)="全民國防","軍訓",(IF(LEFT(D200,4)="大一體育","大一體育",(IF(LEFT(D200,4)="大二體育","大二體育",(IF(LEFT(D200,4)="大二英文","大二英文",D200))))))))))),"") -> 0 | L200: =IFERROR(IF(VLOOKUP(K200,工作表2!$B$2:$H$800,2,0 )=0,"",VLOOKUP(K200,工作表2!$B$2:$H$800,2,0 )),"") | M200: =IFERROR(IF(VLOOKUP(K200,工作表2!$B$2:$H$800,3,0 )=0,"",VLOOKUP(K200,工作表2!$B$2:$H$800,3,0 )),"") | N200: =IFERROR(IF(VLOOKUP(K200,工作表2!$B$2:$H$800,4,0 )=0,"",VLOOKUP(K200,工作表2!$B$2:$H$800,4,0 )),"") | O200: =IFERROR(IF(VLOOKUP(K200,工作表2!$B$2:$H$800,5,0 )=0,"",VLOOKUP(K200,工作表2!$B$2:$H$800,5,0 )),"") | P200: =IFERROR(IF(VLOOKUP(K200,工作表2!$B$2:$H$800,6,0 )=0,"",VLOOKUP(K200,工作表2!$B$2:$H$800,6,0 )),"") | Q200: =IFERROR(IF(VLOOKUP(K200,工作表2!$B$2:$H$800,7,0 )=0,"",VLOOKUP(K200,工作表2!$B$2:$H$800,7,0 )),"") | V200: {=_xlfn._xlws.FILTER(表格2[],表格2[有修嗎？]>0)} -> #VALUE! | Y200: =IF(V200<>"",1,"") -> #VALUE!
L201: =IFERROR(IF(VLOOKUP(K201,工作表2!$B$2:$H$800,2,0 )=0,"",VLOOKUP(K201,工作表2!$B$2:$H$800,2,0 )),"") | M201: =IFERROR(IF(VLOOKUP(K201,工作表2!$B$2:$H$800,3,0 )=0,"",VLOOKUP(K201,工作表2!$B$2:$H$800,3,0 )),"") | N201: =IFERROR(IF(VLOOKUP(K201,工作表2!$B$2:$H$800,4,0 )=0,"",VLOOKUP(K201,工作表2!$B$2:$H$800,4,0 )),"") | O201: =IFERROR(IF(VLOOKUP(K201,工作表2!$B$2:$H$800,5,0 )=0,"",VLOOKUP(K201,工作表2!$B$2:$H$800,5,0 )),"") | P201: =IFERROR(IF(VLOOKUP(K201,工作表2!$B$2:$H$800,6,0 )=0,"",VLOOKUP(K201,工作表2!$B$2:$H$800,6,0 )),"") | Q201: =IFERROR(IF(VLOOKUP(K201,工作表2!$B$2:$H$800,7,0 )=0,"",VLOOKUP(K201,工作表2!$B$2:$H$800,7,0 )),"") | Y201: =IF(V201<>"",1,"")
L202: =IFERROR(IF(VLOOKUP(K202,工作表2!$B$2:$H$800,2,0 )=0,"",VLOOKUP(K202,工作表2!$B$2:$H$800,2,0 )),"") | M202: =IFERROR(IF(VLOOKUP(K202,工作表2!$B$2:$H$800,3,0 )=0,"",VLOOKUP(K202,工作表2!$B$2:$H$800,3,0 )),"") | N202: =IFERROR(IF(VLOOKUP(K202,工作表2!$B$2:$H$800,4,0 )=0,"",VLOOKUP(K202,工作表2!$B$2:$H$800,4,0 )),"") | O202: =IFERROR(IF(VLOOKUP(K202,工作表2!$B$2:$H$800,5,0 )=0,"",VLOOKUP(K202,工作表2!$B$2:$H$800,5,0 )),"") | P202: =IFERROR(IF(VLOOKUP(K202,工作表2!$B$2:$H$800,6,0 )=0,"",VLOOKUP(K202,工作表2!$B$2:$H$800,6,0 )),"") | Q202: =IFERROR(IF(VLOOKUP(K202,工作表2!$B$2:$H$800,7,0 )=0,"",VLOOKUP(K202,工作表2!$B$2:$H$800,7,0 )),"") | Y202: =IF(V202<>"",1,"")
L203: =IFERROR(IF(VLOOKUP(K203,工作表2!$B$2:$H$800,2,0 )=0,"",VLOOKUP(K203,工作表2!$B$2:$H$800,2,0 )),"") | M203: =IFERROR(IF(VLOOKUP(K203,工作表2!$B$2:$H$800,3,0 )=0,"",VLOOKUP(K203,工作表2!$B$2:$H$800,3,0 )),"") | N203: =IFERROR(IF(VLOOKUP(K203,工作表2!$B$2:$H$800,4,0 )=0,"",VLOOKUP(K203,工作表2!$B$2:$H$800,4,0 )),"") | O203: =IFERROR(IF(VLOOKUP(K203,工作表2!$B$2:$H$800,5,0 )=0,"",VLOOKUP(K203,工作表2!$B$2:$H$800,5,0 )),"") | P203: =IFERROR(IF(VLOOKUP(K203,工作表2!$B$2:$H$800,6,0 )=0,"",VLOOKUP(K203,工作表2!$B$2:$H$800,6,0 )),"") | Q203: =IFERROR(IF(VLOOKUP(K203,工作表2!$B$2:$H$800,7,0 )=0,"",VLOOKUP(K203,工作表2!$B$2:$H$800,7,0 )),"") | Y203: =IF(V203<>"",1,"")
L204: =IFERROR(IF(VLOOKUP(K204,工作表2!$B$2:$H$800,2,0 )=0,"",VLOOKUP(K204,工作表2!$B$2:$H$800,2,0 )),"") | M204: =IFERROR(IF(VLOOKUP(K204,工作表2!$B$2:$H$800,3,0 )=0,"",VLOOKUP(K204,工作表2!$B$2:$H$800,3,0 )),"") | N204: =IFERROR(IF(VLOOKUP(K204,工作表2!$B$2:$H$800,4,0 )=0,"",VLOOKUP(K204,工作表2!$B$2:$H$800,4,0 )),"") | O204: =IFERROR(IF(VLOOKUP(K204,工作表2!$B$2:$H$800,5,0 )=0,"",VLOOKUP(K204,工作表2!$B$2:$H$800,5,0 )),"") | P204: =IFERROR(IF(VLOOKUP(K204,工作表2!$B$2:$H$800,6,0 )=0,"",VLOOKUP(K204,工作表2!$B$2:$H$800,6,0 )),"") | Q204: =IFERROR(IF(VLOOKUP(K204,工作表2!$B$2:$H$800,7,0 )=0,"",VLOOKUP(K204,工作表2!$B$2:$H$800,7,0 )),"") | Y204: =IF(V204<>"",1,"")
L205: =IFERROR(IF(VLOOKUP(K205,工作表2!$B$2:$H$800,2,0 )=0,"",VLOOKUP(K205,工作表2!$B$2:$H$800,2,0 )),"") | M205: =IFERROR(IF(VLOOKUP(K205,工作表2!$B$2:$H$800,3,0 )=0,"",VLOOKUP(K205,工作表2!$B$2:$H$800,3,0 )),"") | N205: =IFERROR(IF(VLOOKUP(K205,工作表2!$B$2:$H$800,4,0 )=0,"",VLOOKUP(K205,工作表2!$B$2:$H$800,4,0 )),"") | O205: =IFERROR(IF(VLOOKUP(K205,工作表2!$B$2:$H$800,5,0 )=0,"",VLOOKUP(K205,工作表2!$B$2:$H$800,5,0 )),"") | P205: =IFERROR(IF(VLOOKUP(K205,工作表2!$B$2:$H$800,6,0 )=0,"",VLOOKUP(K205,工作表2!$B$2:$H$800,6,0 )),"") | Q205: =IFERROR(IF(VLOOKUP(K205,工作表2!$B$2:$H$800,7,0 )=0,"",VLOOKUP(K205,工作表2!$B$2:$H$800,7,0 )),"") | Y205: =IF(V205<>"",1,"")
L206: =IFERROR(IF(VLOOKUP(K206,工作表2!$B$2:$H$800,2,0 )=0,"",VLOOKUP(K206,工作表2!$B$2:$H$800,2,0 )),"") | M206: =IFERROR(IF(VLOOKUP(K206,工作表2!$B$2:$H$800,3,0 )=0,"",VLOOKUP(K206,工作表2!$B$2:$H$800,3,0 )),"") | N206: =IFERROR(IF(VLOOKUP(K206,工作表2!$B$2:$H$800,4,0 )=0,"",VLOOKUP(K206,工作表2!$B$2:$H$800,4,0 )),"") | O206: =IFERROR(IF(VLOOKUP(K206,工作表2!$B$2:$H$800,5,0 )=0,"",VLOOKUP(K206,工作表2!$B$2:$H$800,5,0 )),"") | P206: =IFERROR(IF(VLOOKUP(K206,工作表2!$B$2:$H$800,6,0 )=0,"",VLOOKUP(K206,工作表2!$B$2:$H$800,6,0 )),"") | Q206: =IFERROR(IF(VLOOKUP(K206,工作表2!$B$2:$H$800,7,0 )=0,"",VLOOKUP(K206,工作表2!$B$2:$H$800,7,0 )),"") | Y206: =IF(V206<>"",1,"")
L207: =IFERROR(IF(VLOOKUP(K207,工作表2!$B$2:$H$800,2,0 )=0,"",VLOOKUP(K207,工作表2!$B$2:$H$800,2,0 )),"") | M207: =IFERROR(IF(VLOOKUP(K207,工作表2!$B$2:$H$800,3,0 )=0,"",VLOOKUP(K207,工作表2!$B$2:$H$800,3,0 )),"") | N207: =IFERROR(IF(VLOOKUP(K207,工作表2!$B$2:$H$800,4,0 )=0,"",VLOOKUP(K207,工作表2!$B$2:$H$800,4,0 )),"") | O207: =IFERROR(IF(VLOOKUP(K207,工作表2!$B$2:$H$800,5,0 )=0,"",VLOOKUP(K207,工作表2!$B$2:$H$800,5,0 )),"") | P207: =IFERROR(IF(VLOOKUP(K207,工作表2!$B$2:$H$800,6,0 )=0,"",VLOOKUP(K207,工作表2!$B$2:$H$800,6,0 )),"") | Q207: =IFERROR(IF(VLOOKUP(K207,工作表2!$B$2:$H$800,7,0 )=0,"",VLOOKUP(K207,工作表2!$B$2:$H$800,7,0 )),"") | Y207: =IF(V207<>"",1,"")
L208: =IFERROR(IF(VLOOKUP(K208,工作表2!$B$2:$H$800,2,0 )=0,"",VLOOKUP(K208,工作表2!$B$2:$H$800,2,0 )),"") | M208: =IFERROR(IF(VLOOKUP(K208,工作表2!$B$2:$H$800,3,0 )=0,"",VLOOKUP(K208,工作表2!$B$2:$H$800,3,0 )),"") | N208: =IFERROR(IF(VLOOKUP(K208,工作表2!$B$2:$H$800,4,0 )=0,"",VLOOKUP(K208,工作表2!$B$2:$H$800,4,0 )),"") | O208: =IFERROR(IF(VLOOKUP(K208,工作表2!$B$2:$H$800,5,0 )=0,"",VLOOKUP(K208,工作表2!$B$2:$H$800,5,0 )),"") | P208: =IFERROR(IF(VLOOKUP(K208,工作表2!$B$2:$H$800,6,0 )=0,"",VLOOKUP(K208,工作表2!$B$2:$H$800,6,0 )),"") | Q208: =IFERROR(IF(VLOOKUP(K208,工作表2!$B$2:$H$800,7,0 )=0,"",VLOOKUP(K208,工作表2!$B$2:$H$800,7,0 )),"") | Y208: =IF(V208<>"",1,"")
L209: =IFERROR(IF(VLOOKUP(K209,工作表2!$B$2:$H$800,2,0 )=0,"",VLOOKUP(K209,工作表2!$B$2:$H$800,2,0 )),"") | M209: =IFERROR(IF(VLOOKUP(K209,工作表2!$B$2:$H$800,3,0 )=0,"",VLOOKUP(K209,工作表2!$B$2:$H$800,3,0 )),"") | N209: =IFERROR(IF(VLOOKUP(K209,工作表2!$B$2:$H$800,4,0 )=0,"",VLOOKUP(K209,工作表2!$B$2:$H$800,4,0 )),"") | O209: =IFERROR(IF(VLOOKUP(K209,工作表2!$B$2:$H$800,5,0 )=0,"",VLOOKUP(K209,工作表2!$B$2:$H$800,5,0 )),"") | P209: =IFERROR(IF(VLOOKUP(K209,工作表2!$B$2:$H$800,6,0 )=0,"",VLOOKUP(K209,工作表2!$B$2:$H$800,6,0 )),"") | Q209: =IFERROR(IF(VLOOKUP(K209,工作表2!$B$2:$H$800,7,0 )=0,"",VLOOKUP(K209,工作表2!$B$2:$H$800,7,0 )),"") | Y209: =IF(V209<>"",1,"")
L210: =IFERROR(IF(VLOOKUP(K210,工作表2!$B$2:$H$800,2,0 )=0,"",VLOOKUP(K210,工作表2!$B$2:$H$800,2,0 )),"") | M210: =IFERROR(IF(VLOOKUP(K210,工作表2!$B$2:$H$800,3,0 )=0,"",VLOOKUP(K210,工作表2!$B$2:$H$800,3,0 )),"") | N210: =IFERROR(IF(VLOOKUP(K210,工作表2!$B$2:$H$800,4,0 )=0,"",VLOOKUP(K210,工作表2!$B$2:$H$800,4,0 )),"") | O210: =IFERROR(IF(VLOOKUP(K210,工作表2!$B$2:$H$800,5,0 )=0,"",VLOOKUP(K210,工作表2!$B$2:$H$800,5,0 )),"") | P210: =IFERROR(IF(VLOOKUP(K210,工作表2!$B$2:$H$800,6,0 )=0,"",VLOOKUP(K210,工作表2!$B$2:$H$800,6,0 )),"") | Q210: =IFERROR(IF(VLOOKUP(K210,工作表2!$B$2:$H$800,7,0 )=0,"",VLOOKUP(K210,工作表2!$B$2:$H$800,7,0 )),"") | Y210: =IF(V210<>"",1,"")
L211: =IFERROR(IF(VLOOKUP(K211,工作表2!$B$2:$H$800,2,0 )=0,"",VLOOKUP(K211,工作表2!$B$2:$H$800,2,0 )),"") | M211: =IFERROR(IF(VLOOKUP(K211,工作表2!$B$2:$H$800,3,0 )=0,"",VLOOKUP(K211,工作表2!$B$2:$H$800,3,0 )),"") | N211: =IFERROR(IF(VLOOKUP(K211,工作表2!$B$2:$H$800,4,0 )=0,"",VLOOKUP(K211,工作表2!$B$2:$H$800,4,0 )),"") | O211: =IFERROR(IF(VLOOKUP(K211,工作表2!$B$2:$H$800,5,0 )=0,"",VLOOKUP(K211,工作表2!$B$2:$H$800,5,0 )),"") | P211: =IFERROR(IF(VLOOKUP(K211,工作表2!$B$2:$H$800,6,0 )=0,"",VLOOKUP(K211,工作表2!$B$2:$H$800,6,0 )),"") | Q211: =IFERROR(IF(VLOOKUP(K211,工作表2!$B$2:$H$800,7,0 )=0,"",VLOOKUP(K211,工作表2!$B$2:$H$800,7,0 )),"") | Y211: =IF(V211<>"",1,"")
L212: =IFERROR(IF(VLOOKUP(K212,工作表2!$B$2:$H$800,2,0 )=0,"",VLOOKUP(K212,工作表2!$B$2:$H$800,2,0 )),"") | M212: =IFERROR(IF(VLOOKUP(K212,工作表2!$B$2:$H$800,3,0 )=0,"",VLOOKUP(K212,工作表2!$B$2:$H$800,3,0 )),"") | N212: =IFERROR(IF(VLOOKUP(K212,工作表2!$B$2:$H$800,4,0 )=0,"",VLOOKUP(K212,工作表2!$B$2:$H$800,4,0 )),"") | O212: =IFERROR(IF(VLOOKUP(K212,工作表2!$B$2:$H$800,5,0 )=0,"",VLOOKUP(K212,工作表2!$B$2:$H$800,5,0 )),"") | P212: =IFERROR(IF(VLOOKUP(K212,工作表2!$B$2:$H$800,6,0 )=0,"",VLOOKUP(K212,工作表2!$B$2:$H$800,6,0 )),"") | Q212: =IFERROR(IF(VLOOKUP(K212,工作表2!$B$2:$H$800,7,0 )=0,"",VLOOKUP(K212,工作表2!$B$2:$H$800,7,0 )),"") | Y212: =IF(V212<>"",1,"")
... L218: =IFERROR(IF(VLOOKUP(K218,工作表2!$B$2:$H$800,2,0 )=0,"",VLOOKUP(K218,工作表2!$B$2:$H$800,2,0 )),"") | M218: =IFERROR(IF(VLOOKUP(K218,工作表2!$B$2:$H$800,3,0 )=0,"",VLOOKUP(K218,工作表2!$B$2:$H$800,3,0 )),"") | N218: =IFERROR(IF(VLOOKUP(K218,工作表2!$B$2:$H$800,4,0 )=0,"",VLOOKUP(K218,工作表2!$B$2:$H$800,4,0 )),"") | O218: =IFERROR(IF(VLOOKUP(K218,工作表2!$B$2:$H$800,5,0 )=0,"",VLOOKUP(K218,工作表2!$B$2:$H$800,5,0 )),"") | P218: =IFERROR(IF(VLOOKUP(K218,工作表2!$B$2:$H$800,6,0 )=0,"",VLOOKUP(K218,工作表2!$B$2:$H$800,6,0 )),"") | Q218: =IFERROR(IF(VLOOKUP(K218,工作表2!$B$2:$H$800,7,0 )=0,"",VLOOKUP(K218,工作表2!$B$2:$H$800,7,0 )),"") | Y218: =IF(V218<>"",1,"")
L219: =IFERROR(IF(VLOOKUP(K219,工作表2!$B$2:$H$800,2,0 )=0,"",VLOOKUP(K219,工作表2!$B$2:$H$800,2,0 )),"") | M219: =IFERROR(IF(VLOOKUP(K219,工作表2!$B$2:$H$800,3,0 )=0,"",VLOOKUP(K219,工作表2!$B$2:$H$800,3,0 )),"") | N219: =IFERROR(IF(VLOOKUP(K219,工作表2!$B$2:$H$800,4,0 )=0,"",VLOOKUP(K219,工作表2!$B$2:$H$800,4,0 )),"") | O219: =IFERROR(IF(VLOOKUP(K219,工作表2!$B$2:$H$800,5,0 )=0,"",VLOOKUP(K219,工作表2!$B$2:$H$800,5,0 )),"") | P219: =IFERROR(IF(VLOOKUP(K219,工作表2!$B$2:$H$800,6,0 )=0,"",VLOOKUP(K219,工作表2!$B$2:$H$800,6,0 )),"") | Q219: =IFERROR(IF(VLOOKUP(K219,工作表2!$B$2:$H$800,7,0 )=0,"",VLOOKUP(K219,工作表2!$B$2:$H$800,7,0 )),"")
L220: =IFERROR(IF(VLOOKUP(K220,工作表2!$B$2:$H$800,2,0 )=0,"",VLOOKUP(K220,工作表2!$B$2:$H$800,2,0 )),"") | M220: =IFERROR(IF(VLOOKUP(K220,工作表2!$B$2:$H$800,3,0 )=0,"",VLOOKUP(K220,工作表2!$B$2:$H$800,3,0 )),"") | N220: =IFERROR(IF(VLOOKUP(K220,工作表2!$B$2:$H$800,4,0 )=0,"",VLOOKUP(K220,工作表2!$B$2:$H$800,4,0 )),"") | O220: =IFERROR(IF(VLOOKUP(K220,工作表2!$B$2:$H$800,5,0 )=0,"",VLOOKUP(K220,工作表2!$B$2:$H$800,5,0 )),"") | P220: =IFERROR(IF(VLOOKUP(K220,工作表2!$B$2:$H$800,6,0 )=0,"",VLOOKUP(K220,工作表2!$B$2:$H$800,6,0 )),"") | Q220: =IFERROR(IF(VLOOKUP(K220,工作表2!$B$2:$H$800,7,0 )=0,"",VLOOKUP(K220,工作表2!$B$2:$H$800,7,0 )),"") | V220: 欄1 | W220: 欄2 | X220: 欄3 | Y220: 欄4
L221: =IFERROR(IF(VLOOKUP(K221,工作表2!$B$2:$H$800,2,0 )=0,"",VLOOKUP(K221,工作表2!$B$2:$H$800,2,0 )),"") | M221: =IFERROR(IF(VLOOKUP(K221,工作表2!$B$2:$H$800,3,0 )=0,"",VLOOKUP(K221,工作表2!$B$2:$H$800,3,0 )),"") | N221: =IFERROR(IF(VLOOKUP(K221,工作表2!$B$2:$H$800,4,0 )=0,"",VLOOKUP(K221,工作表2!$B$2:$H$800,4,0 )),"") | O221: =IFERROR(IF(VLOOKUP(K221,工作表2!$B$2:$H$800,5,0 )=0,"",VLOOKUP(K221,工作表2!$B$2:$H$800,5,0 )),"") | P221: =IFERROR(IF(VLOOKUP(K221,工作表2!$B$2:$H$800,6,0 )=0,"",VLOOKUP(K221,工作表2!$B$2:$H$800,6,0 )),"") | Q221: =IFERROR(IF(VLOOKUP(K221,工作表2!$B$2:$H$800,7,0 )=0,"",VLOOKUP(K221,工作表2!$B$2:$H$800,7,0 )),"") | V221: 微積分甲〈一〉 | W221: =E70 -> 0 | X221: =F70 -> 0 | Y221: =IF(COUNTIF($V$2:$V$258,V221)=1,0,1) -> 0
L222: =IFERROR(IF(VLOOKUP(K222,工作表2!$B$2:$H$800,2,0 )=0,"",VLOOKUP(K222,工作表2!$B$2:$H$800,2,0 )),"") | M222: =IFERROR(IF(VLOOKUP(K222,工作表2!$B$2:$H$800,3,0 )=0,"",VLOOKUP(K222,工作表2!$B$2:$H$800,3,0 )),"") | N222: =IFERROR(IF(VLOOKUP(K222,工作表2!$B$2:$H$800,4,0 )=0,"",VLOOKUP(K222,工作表2!$B$2:$H$800,4,0 )),"") | O222: =IFERROR(IF(VLOOKUP(K222,工作表2!$B$2:$H$800,5,0 )=0,"",VLOOKUP(K222,工作表2!$B$2:$H$800,5,0 )),"") | P222: =IFERROR(IF(VLOOKUP(K222,工作表2!$B$2:$H$800,6,0 )=0,"",VLOOKUP(K222,工作表2!$B$2:$H$800,6,0 )),"") | Q222: =IFERROR(IF(VLOOKUP(K222,工作表2!$B$2:$H$800,7,0 )=0,"",VLOOKUP(K222,工作表2!$B$2:$H$800,7,0 )),"") | V222: 普通物理 | W222: =E71 -> 0 | X222: =F71 -> 0 | Y222: =IF(COUNTIF($V$2:$V$258,V222)=1,0,1) -> 0
L223: =IFERROR(IF(VLOOKUP(K223,工作表2!$B$2:$H$800,2,0 )=0,"",VLOOKUP(K223,工作表2!$B$2:$H$800,2,0 )),"") | M223: =IFERROR(IF(VLOOKUP(K223,工作表2!$B$2:$H$800,3,0 )=0,"",VLOOKUP(K223,工作表2!$B$2:$H$800,3,0 )),"") | N223: =IFERROR(IF(VLOOKUP(K223,工作表2!$B$2:$H$800,4,0 )=0,"",VLOOKUP(K223,工作表2!$B$2:$H$800,4,0 )),"") | O223: =IFERROR(IF(VLOOKUP(K223,工作表2!$B$2:$H$800,5,0 )=0,"",VLOOKUP(K223,工作表2!$B$2:$H$800,5,0 )),"") | P223: =IFERROR(IF(VLOOKUP(K223,工作表2!$B$2:$H$800,6,0 )=0,"",VLOOKUP(K223,工作表2!$B$2:$H$800,6,0 )),"") | Q223: =IFERROR(IF(VLOOKUP(K223,工作表2!$B$2:$H$800,7,0 )=0,"",VLOOKUP(K223,工作表2!$B$2:$H$800,7,0 )),"") | V223: 程式設計 | W223: =E72 -> 0 | X223: =F72 -> 0 | Y223: =IF(COUNTIF($V$2:$V$258,V223)=1,0,1) -> 0
L224: =IFERROR(IF(VLOOKUP(K224,工作表2!$B$2:$H$800,2,0 )=0,"",VLOOKUP(K224,工作表2!$B$2:$H$800,2,0 )),"") | M224: =IFERROR(IF(VLOOKUP(K224,工作表2!$B$2:$H$800,3,0 )=0,"",VLOOKUP(K224,工作表2!$B$2:$H$800,3,0 )),"") | N224: =IFERROR(IF(VLOOKUP(K224,工作表2!$B$2:$H$800,4,0 )=0,"",VLOOKUP(K224,工作表2!$B$2:$H$800,4,0 )),"") | O224: =IFERROR(IF(VLOOKUP(K224,工作表2!$B$2:$H$800,5,0 )=0,"",VLOOKUP(K224,工作表2!$B$2:$H$800,5,0 )),"") | P224: =IFERROR(IF(VLOOKUP(K224,工作表2!$B$2:$H$800,6,0 )=0,"",VLOOKUP(K224,工作表2!$B$2:$H$800,6,0 )),"") | Q224: =IFERROR(IF(VLOOKUP(K224,工作表2!$B$2:$H$800,7,0 )=0,"",VLOOKUP(K224,工作表2!$B$2:$H$800,7,0 )),"") | V224: 邏輯設計 | W224: =E73 -> 0 | X224: =F73 -> 0 | Y224: =IF(COUNTIF($V$2:$V$258,V224)=1,0,1) -> 0
L225: =IFERROR(IF(VLOOKUP(K225,工作表2!$B$2:$H$800,2,0 )=0,"",VLOOKUP(K225,工作表2!$B$2:$H$800,2,0 )),"") | M225: =IFERROR(IF(VLOOKUP(K225,工作表2!$B$2:$H$800,3,0 )=0,"",VLOOKUP(K225,工作表2!$B$2:$H$800,3,0 )),"") | N225: =IFERROR(IF(VLOOKUP(K225,工作表2!$B$2:$H$800,4,0 )=0,"",VLOOKUP(K225,工作表2!$B$2:$H$800,4,0 )),"") | O225: =IFERROR(IF(VLOOKUP(K225,工作表2!$B$2:$H$800,5,0 )=0,"",VLOOKUP(K225,工作表2!$B$2:$H$800,5,0 )),"") | P225: =IFERROR(IF(VLOOKUP(K225,工作表2!$B$2:$H$800,6,0 )=0,"",VLOOKUP(K225,工作表2!$B$2:$H$800,6,0 )),"") | Q225: =IFERROR(IF(VLOOKUP(K225,工作表2!$B$2:$H$800,7,0 )=0,"",VLOOKUP(K225,工作表2!$B$2:$H$800,7,0 )),"") | V225: 邏輯設計實驗 | W225: =E74 -> 0 | X225: =F74 -> 0 | Y225: =IF(COUNTIF($V$2:$V$258,V225)=1,0,1) -> 0
L226: =IFERROR(IF(VLOOKUP(K226,工作表2!$B$2:$H$800,2,0 )=0,"",VLOOKUP(K226,工作表2!$B$2:$H$800,2,0 )),"") | M226: =IFERROR(IF(VLOOKUP(K226,工作表2!$B$2:$H$800,3,0 )=0,"",VLOOKUP(K226,工作表2!$B$2:$H$800,3,0 )),"") | N226: =IFERROR(IF(VLOOKUP(K226,工作表2!$B$2:$H$800,4,0 )=0,"",VLOOKUP(K226,工作表2!$B$2:$H$800,4,0 )),"") | O226: =IFERROR(IF(VLOOKUP(K226,工作表2!$B$2:$H$800,5,0 )=0,"",VLOOKUP(K226,工作表2!$B$2:$H$800,5,0 )),"") | P226: =IFERROR(IF(VLOOKUP(K226,工作表2!$B$2:$H$800,6,0 )=0,"",VLOOKUP(K226,工作表2!$B$2:$H$800,6,0 )),"") | Q226: =IFERROR(IF(VLOOKUP(K226,工作表2!$B$2:$H$800,7,0 )=0,"",VLOOKUP(K226,工作表2!$B$2:$H$800,7,0 )),"") | V226: 線性代數 | W226: =E75 -> 0 | X226: =F75 -> 0 | Y226: =IF(COUNTIF($V$2:$V$258,V226)=1,0,1) -> 0
L227: =IFERROR(IF(VLOOKUP(K227,工作表2!$B$2:$H$800,2,0 )=0,"",VLOOKUP(K227,工作表2!$B$2:$H$800,2,0 )),"") | M227: =IFERROR(IF(VLOOKUP(K227,工作表2!$B$2:$H$800,3,0 )=0,"",VLOOKUP(K227,工作表2!$B$2:$H$800,3,0 )),"") | N227: =IFERROR(IF(VLOOKUP(K227,工作表2!$B$2:$H$800,4,0 )=0,"",VLOOKUP(K227,工作表2!$B$2:$H$800,4,0 )),"") | O227: =IFERROR(IF(VLOOKUP(K227,工作表2!$B$2:$H$800,5,0 )=0,"",VLOOKUP(K227,工作表2!$B$2:$H$800,5,0 )),"") | P227: =IFERROR(IF(VLOOKUP(K227,工作表2!$B$2:$H$800,6,0 )=0,"",VLOOKUP(K227,工作表2!$B$2:$H$800,6,0 )),"") | Q227: =IFERROR(IF(VLOOKUP(K227,工作表2!$B$2:$H$800,7,0 )=0,"",VLOOKUP(K227,工作表2!$B$2:$H$800,7,0 )),"") | V227: 大一英文 | W227: =E76 -> 0 | X227: =F76 -> 0 | Y227: =IF(COUNTIF($V$2:$V$258,V227)=1,0,1) -> 1
L228: =IFERROR(IF(VLOOKUP(K228,工作表2!$B$2:$H$800,2,0 )=0,"",VLOOKUP(K228,工作表2!$B$2:$H$800,2,0 )),"") | M228: =IFERROR(IF(VLOOKUP(K228,工作表2!$B$2:$H$800,3,0 )=0,"",VLOOKUP(K228,工作表2!$B$2:$H$800,3,0 )),"") | N228: =IFERROR(IF(VLOOKUP(K228,工作表2!$B$2:$H$800,4,0 )=0,"",VLOOKUP(K228,工作表2!$B$2:$H$800,4,0 )),"") | O228: =IFERROR(IF(VLOOKUP(K228,工作表2!$B$2:$H$800,5,0 )=0,"",VLOOKUP(K228,工作表2!$B$2:$H$800,5,0 )),"") | P228: =IFERROR(IF(VLOOKUP(K228,工作表2!$B$2:$H$800,6,0 )=0,"",VLOOKUP(K228,工作表2!$B$2:$H$800,6,0 )),"") | Q228: =IFERROR(IF(VLOOKUP(K228,工作表2!$B$2:$H$800,7,0 )=0,"",VLOOKUP(K228,工作表2!$B$2:$H$800,7,0 )),"") | V228: 中文 | W228: =E77 -> 0 | X228: =F77 -> 0 | Y228: =IF(COUNTIF($V$2:$V$258,V228)=1,0,1) -> 1
L229: =IFERROR(IF(VLOOKUP(K229,工作表2!$B$2:$H$800,2,0 )=0,"",VLOOKUP(K229,工作表2!$B$2:$H$800,2,0 )),"") | M229: =IFERROR(IF(VLOOKUP(K229,工作表2!$B$2:$H$800,3,0 )=0,"",VLOOKUP(K229,工作表2!$B$2:$H$800,3,0 )),"") | N229: =IFERROR(IF(VLOOKUP(K229,工作表2!$B$2:$H$800,4,0 )=0,"",VLOOKUP(K229,工作表2!$B$2:$H$800,4,0 )),"") | O229: =IFERROR(IF(VLOOKUP(K229,工作表2!$B$2:$H$800,5,0 )=0,"",VLOOKUP(K229,工作表2!$B$2:$H$800,5,0 )),"") | P229: =IFERROR(IF(VLOOKUP(K229,工作表2!$B$2:$H$800,6,0 )=0,"",VLOOKUP(K229,工作表2!$B$2:$H$800,6,0 )),"") | Q229: =IFERROR(IF(VLOOKUP(K229,工作表2!$B$2:$H$800,7,0 )=0,"",VLOOKUP(K229,工作表2!$B$2:$H$800,7,0 )),"") | V229: 軍訓 | W229: =E78 -> 0 | X229: =F78 -> 0 | Y229: =IF(COUNTIF($V$2:$V$258,V229)=1,0,1) -> 1
L230: =IFERROR(IF(VLOOKUP(K230,工作表2!$B$2:$H$800,2,0 )=0,"",VLOOKUP(K230,工作表2!$B$2:$H$800,2,0 )),"") | M230: =IFERROR(IF(VLOOKUP(K230,工作表2!$B$2:$H$800,3,0 )=0,"",VLOOKUP(K230,工作表2!$B$2:$H$800,3,0 )),"") | N230: =IFERROR(IF(VLOOKUP(K230,工作表2!$B$2:$H$800,4,0 )=0,"",VLOOKUP(K230,工作表2!$B$2:$H$800,4,0 )),"") | O230: =IFERROR(IF(VLOOKUP(K230,工作表2!$B$2:$H$800,5,0 )=0,"",VLOOKUP(K230,工作表2!$B$2:$H$800,5,0 )),"") | P230: =IFERROR(IF(VLOOKUP(K230,工作表2!$B$2:$H$800,6,0 )=0,"",VLOOKUP(K230,工作表2!$B$2:$H$800,6,0 )),"") | Q230: =IFERROR(IF(VLOOKUP(K230,工作表2!$B$2:$H$800,7,0 )=0,"",VLOOKUP(K230,工作表2!$B$2:$H$800,7,0 )),"") | V230: 大一體育 | W230: =E79 -> 0 | X230: =F79 -> 0 | Y230: =IF(COUNTIF($V$2:$V$258,V230)=1,0,1) -> 1
L231: =IFERROR(IF(VLOOKUP(K231,工作表2!$B$2:$H$800,2,0 )=0,"",VLOOKUP(K231,工作表2!$B$2:$H$800,2,0 )),"") | M231: =IFERROR(IF(VLOOKUP(K231,工作表2!$B$2:$H$800,3,0 )=0,"",VLOOKUP(K231,工作表2!$B$2:$H$800,3,0 )),"") | N231: =IFERROR(IF(VLOOKUP(K231,工作表2!$B$2:$H$800,4,0 )=0,"",VLOOKUP(K231,工作表2!$B$2:$H$800,4,0 )),"") | O231: =IFERROR(IF(VLOOKUP(K231,工作表2!$B$2:$H$800,5,0 )=0,"",VLOOKUP(K231,工作表2!$B$2:$H$800,5,0 )),"") | P231: =IFERROR(IF(VLOOKUP(K231,工作表2!$B$2:$H$800,6,0 )=0,"",VLOOKUP(K231,工作表2!$B$2:$H$800,6,0 )),"") | Q231: =IFERROR(IF(VLOOKUP(K231,工作表2!$B$2:$H$800,7,0 )=0,"",VLOOKUP(K231,工作表2!$B$2:$H$800,7,0 )),"") | V231: 微積分甲〈二〉 | W231: =E80 -> 0 | X231: =F80 -> 0 | Y231: =IF(COUNTIF($V$2:$V$258,V231)=1,0,1) -> 0
L232: =IFERROR(IF(VLOOKUP(K232,工作表2!$B$2:$H$800,2,0 )=0,"",VLOOKUP(K232,工作表2!$B$2:$H$800,2,0 )),"") | M232: =IFERROR(IF(VLOOKUP(K232,工作表2!$B$2:$H$800,3,0 )=0,"",VLOOKUP(K232,工作表2!$B$2:$H$800,3,0 )),"") | N232: =IFERROR(IF(VLOOKUP(K232,工作表2!$B$2:$H$800,4,0 )=0,"",VLOOKUP(K232,工作表2!$B$2:$H$800,4,0 )),"") | O232: =IFERROR(IF(VLOOKUP(K232,工作表2!$B$2:$H$800,5,0 )=0,"",VLOOKUP(K232,工作表2!$B$2:$H$800,5,0 )),"") | P232: =IFERROR(IF(VLOOKUP(K232,工作表2!$B$2:$H$800,6,0 )=0,"",VLOOKUP(K232,工作表2!$B$2:$H$800,6,0 )),"") | Q232: =IFERROR(IF(VLOOKUP(K232,工作表2!$B$2:$H$800,7,0 )=0,"",VLOOKUP(K232,工作表2!$B$2:$H$800,7,0 )),"") | V232: 程式語言 | W232: =E81 -> 0 | X232: =F81 -> 0 | Y232: =IF(COUNTIF($V$2:$V$258,V232)=1,0,1) -> 0
... L250: =IFERROR(IF(VLOOKUP(K250,工作表2!$B$2:$H$800,2,0 )=0,"",VLOOKUP(K250,工作表2!$B$2:$H$800,2,0 )),"") | M250: =IFERROR(IF(VLOOKUP(K250,工作表2!$B$2:$H$800,3,0 )=0,"",VLOOKUP(K250,工作表2!$B$2:$H$800,3,0 )),"") | N250: =IFERROR(IF(VLOOKUP(K250,工作表2!$B$2:$H$800,4,0 )=0,"",VLOOKUP(K250,工作表2!$B$2:$H$800,4,0 )),"") | O250: =IFERROR(IF(VLOOKUP(K250,工作表2!$B$2:$H$800,5,0 )=0,"",VLOOKUP(K250,工作表2!$B$2:$H$800,5,0 )),"") | P250: =IFERROR(IF(VLOOKUP(K250,工作表2!$B$2:$H$800,6,0 )=0,"",VLOOKUP(K250,工作表2!$B$2:$H$800,6,0 )),"") | Q250: =IFERROR(IF(VLOOKUP(K250,工作表2!$B$2:$H$800,7,0 )=0,"",VLOOKUP(K250,工作表2!$B$2:$H$800,7,0 )),"") | V250: 電磁學（Ⅰ） | W250: =E99 -> 0 | X250: =F99 -> 0 | Y250: =IF(COUNTIF($V$2:$V$258,V250)=1,0,1) -> 0
V251: 訊號與系統 | W251: =E100 -> 0 | X251: =F100 -> 0 | Y251: =IF(COUNTIF($V$2:$V$258,V251)=1,0,1) -> 0
...
