Workbook
Name 課程名稱: [1]選修課程清單!$A:$A

Sheet 貼完後來這邊檢查
A1: 114學年度畢業生歷年成績單分析
A2: 課程類別 | B2: 年級 | D2: 課程名稱 （代碼、名稱） | F2: 必選修 | G2: 學分數
G3: 數學 | H3: 基礎 科學 | I3: 工程專業課程 | K3: 通識
I4: 理論 | J4: 設計 | K4: 課程
A5: 必修 | B5: 一 年 級 | C5: 第 一 學 期 | D5: 微積分甲〈一〉 | F5: 必 | G5: =IFERROR(IF(VLOOKUP(D5,從此工作表的A2貼上你的成績總表!$K$2:$Q$252,3,0 )=0,"",VLOOKUP(D5,從此工作表的A2貼上你的成績總表!$K$2:$Q$252,3,0 )),"") | H5: =IFERROR(IF(VLOOKUP(D5,從此工作表的A2貼上你的成績總表!$K$2:$Q$252,4,0 )=0,"",VLOOKUP(D5,從此工作表的A2貼上你的成績總表!$K$2:$Q$252,4,0 )),"") | I5: =IFERROR(IF(VLOOKUP(D5,從此工作表的A2貼上你的成績總表!$K$2:$Q$252,5,0 )=0,"",VLOOKUP(D5,從此工作表的A2貼上你的成績總表!$K$2:$Q$252,5,0 )),"") | J5: =IFERROR(IF(VLOOKUP(D5,從此工作表的A2貼上你的成績總表!$K$2:$Q$252,6,0 )=0,"",VLOOKUP(D5,從此工作表的A2貼上你的成績總表!$K$2:$Q$252,6,0 )),"") | K5: =IFERROR(IF(VLOOKUP(D5,從此工作表的A2貼上你的成績總表!$K$2:$Q$252,7,0 )=0,"",VLOOKUP(D5,從此工作表的A2貼上你的成績總表!$K$2:$Q$252,7,0 )),"")
D6: 普通物理 | F6: 必 | G6: =IFERROR(IF(VLOOKUP(D6,從此工作表的A2貼上你的成績總表!$K$2:$Q$252,3,0 )=0,"",VLOOKUP(D6,從此工作表的A2貼上你的成績總表!$K$2:$Q$252,3,0 )),"") | H6: =IFERROR(IF(VLOOKUP(D6,從此工作表的A2貼上你的成績總表!$K$2:$Q$252,4,0 )=0,"",VLOOKUP(D6,從此工作表的A2貼上你的成績總表!$K$2:$Q$252,4,0 )),"") | I6: =IFERROR(IF(VLOOKUP(D6,從此工作表的A2貼上你的成績總表!$K$2:$Q$252,5,0 )=0,"",VLOOKUP(D6,從此工作表的A2貼上你的成績總表!$K$2:$Q$252,5,0 )),"") | J6: =IFERROR(IF(VLOOKUP(D6,從此工作表的A2貼上你的成績總表!$K$2:$Q$252,6,0 )=0,"",VLOOKUP(D6,從此工作表的A2貼上你的成績總表!$K$2:$Q$252,6,0 )),"") | K6: =IFERROR(IF(VLOOKUP(D6,從此工作表的A2貼上你的成績總表!$K$2:$Q$252,7,0 )=0,"",VLOOKUP(D6,從此工作表的A2貼上你的成績總表!$K$2:$Q$252,7,0 )),"")
D7: 程式設計 | F7: 必 | G7: =IFERROR(IF(VLOOKUP(D7,從此工作表的A2貼上你的成績總表!$K$2:$Q$252,3,0 )=0,"",VLOOKUP(D7,從此工作表的A2貼上你的成績總表!$K$2:$Q$252,3,0 )),"") | H7: =IFERROR(IF(VLOOKUP(D7,從此工作表的A2貼上你的成績總表!$K$2:$Q$252,4,0 )=0,"",VLOOKUP(D7,從此工作表的A2貼上你的成績總表!$K$2:$Q$252,4,0 )),"") | I7: =IFERROR(IF(VLOOKUP(D7,從此工作表的A2貼上你的成績總表!$K$2:$Q$252,5,0 )=0,"",VLOOKUP(D7,從此工作表的A2貼上你的成績總表!$K$2:$Q$252,5,0 )),"") | J7: =IFERROR(IF(VLOOKUP(D7,從此工作表的A2貼上你的成績總表!$K$2:$Q$252,6,0 )=0,"",VLOOKUP(D7,從此工作表的A2貼上你的成績總表!$K$2:$Q$252,6,0 )),"") | K7: =IFERROR(IF(VLOOKUP(D7,從此工作表的A2貼上你的成績總表!$K$2:$Q$252,7,0 )=0,"",VLOOKUP(D7,從此工作表的A2貼上你的成績總表!$K$2:$Q$252,7,0 )),"")
D8: 邏輯設計 | F8: 必 | G8: =IFERROR(IF(VLOOKUP(D8,從此工作表的A2貼上你的成績總表!$K$2:$Q$252,3,0 )=0,"",VLOOKUP(D8,從此工作表的A2貼上你的成績總表!$K$2:$Q$252,3,0 )),"") | H8: =IFERROR(IF(VLOOKUP(D8,從此工作表的A2貼上你的成績總表!$K$2:$Q$252,4,0 )=0,"",VLOOKUP(D8,從此工作表的A2貼上你的成績總表!$K$2:$Q$252,4,0 )),"") | I8: =IFERROR(IF(VLOOKUP(D8,從此工作表的A2貼上你的成績總表!$K$2:$Q$252,5,0 )=0,"",VLOOKUP(D8,從此工作表的A2貼上你的成績總表!$K$2:$Q$252,5,0 )),"") | J8: =IFERROR(IF(VLOOKUP(D8,從此工作表的A2貼上你的成績總表!$K$2:$Q$252,6,0 )=0,"",VLOOKUP(D8,從此工作表的A2貼上你的成績總表!$K$2:$Q$252,6,0 )),"") | K8: =IFERROR(IF(VLOOKUP(D8,從此工作表的A2貼上你的成績總表!$K$2:$Q$252,7,0 )=0,"",VLOOKUP(D8,從此工作表的A2貼上你的成績總表!$K$2:$Q$252,7,0 )),"")
D9: 邏輯設計實驗 | F9: 必 | G9: =IFERROR(IF(VLOOKUP(D9,從此工作表的A2貼上你的成績總表!$K$2:$Q$252,3,0 )=0,"",VLOOKUP(D9,從此工作表的A2貼上你的成績總表!$K$2:$Q$252,3,0 )),"") | H9: =IFERROR(IF(VLOOKUP(D9,從此工作表的A2貼上你的成績總表!$K$2:$Q$252,4,0 )=0,"",VLOOKUP(D9,從此工作表的A2貼上你的成績總表!$K$2:$Q$252,4,0 )),"") | I9: =IFERROR(IF(VLOOKUP(D9,從此工作表的A2貼上你的成績總表!$K$2:$Q$252,5,0 )=0,"",VLOOKUP(D9,從此工作表的A2貼上你的成績總表!$K$2:$Q$252,5,0 )),"") | J9: =IFERROR(IF(VLOOKUP(D9,從此工作表的A2貼上你的成績總表!$K$2:$Q$252,6,0 )=0,"",VLOOKUP(D9,從此工作表的A2貼上你的成績總表!$K$2:$Q$252,6,0 )),"") | K9: =IFERROR(IF(VLOOKUP(D9,從此工作表的A2貼上你的成績總表!$K$2:$Q$252,7,0 )=0,"",VLOOKUP(D9,從此工作表的A2貼上你的成績總表!$K$2:$Q$252,7,0 )),"")
D10: 線性代數 | F10: 必 | G10: =IFERROR(IF(VLOOKUP(D10,從此工作表的A2貼上你的成績總表!$K$2:$Q$252,3,0 )=0,"",VLOOKUP(D10,從此工作表的A2貼上你的成績總表!$K$2:$Q$252,3,0 )),"") | H10: =IFERROR(IF(VLOOKUP(D10,從此工作表的A2貼上你的成績總表!$K$2:$Q$252,4,0 )=0,"",VLOOKUP(D10,從此工作表的A2貼上你的成績總表!$K$2:$Q$252,4,0 )),"") | I10: =IFERROR(IF(VLOOKUP(D10,從此工作表的A2貼上你的成績總表!$K$2:$Q$252,5,0 )=0,"",VLOOKUP(D10,從此工作表的A2貼上你的成績總表!$K$2:$Q$252,5,0 )),"") | J10: =IFERROR(IF(VLOOKUP(D10,從此工作表的A2貼上你的成績總表!$K$2:$Q$252,6,0 )=0,"",VLOOKUP(D10,從此工作表的A2貼上你的成績總表!$K$2:$Q$252,6,0 )),"") | K10: =IFERROR(IF(VLOOKUP(D10,從此工作表的A2貼上你的成績總表!$K$2:$Q$252,7,0 )=0,"",VLOOKUP(D10,從此工作表的A2貼上你的成績總表!$K$2:$Q$252,7,0 )),"")
D11: 大一英文 | F11: 必 | G11: =IFERROR(IF(VLOOKUP(D11,從此工作表的A2貼上你的成績總表!$K$2:$Q$252,3,0 )=0,"",VLOOKUP(D11,從此工作表的A2貼上你的成績總表!$K$2:$Q$252,3,0 )),"") | H11: =IFERROR(IF(VLOOKUP(D11,從此工作表的A2貼上你的成績總表!$K$2:$Q$252,4,0 )=0,"",VLOOKUP(D11,從此工作表的A2貼上你的成績總表!$K$2:$Q$252,4,0 )),"") | I11: =IFERROR(IF(VLOOKUP(D11,從此工作表的A2貼上你的成績總表!$K$2:$Q$252,5,0 )=0,"",VLOOKUP(D11,從此工作表的A2貼上你的成績總表!$K$2:$Q$252,5,0 )),"") | J11: =IFERROR(IF(VLOOKUP(D11,從此工作表的A2貼上你的成績總表!$K$2:$Q$252,6,0 )=0,"",VLOOKUP(D11,從此工作表的A2貼上你的成績總表!$K$2:$Q$252,6,0 )),"") | K11: =IFERROR(IF(VLOOKUP(D11,從此工作表的A2貼上你的成績總表!$K$2:$Q$252,7,0 )=0,"",VLOOKUP(D11,從此工作表的A2貼上你的成績總表!$K$2:$Q$252,7,0 )),"")
D12: 中文 | F12: 必 | G12: =IFERROR(IF(VLOOKUP(D12,從此工作表的A2貼上你的成績總表!$K$2:$Q$252,3,0 )=0,"",VLOOKUP(D12,從此工作表的A2貼上你的成績總表!$K$2:$Q$252,3,0 )),"") | H12: =IFERROR(IF(VLOOKUP(D12,從此工作表的A2貼上你的成績總表!$K$2:$Q$252,4,0 )=0,"",VLOOKUP(D12,從此工作表的A2貼上你的成績總表!$K$2:$Q$252,4,0 )),"") | I12: =IFERROR(IF(VLOOKUP(D12,從此工作表的A2貼上你的成績總表!$K$2:$Q$252,5,0 )=0,"",VLOOKUP(D12,從此工作表的A2貼上你的成績總表!$K$2:$Q$252,5,0 )),"") | J12: =IFERROR(IF(VLOOKUP(D12,從此工作表的A2貼上你的成績總表!$K$2:$Q$252,6,0 )=0,"",VLOOKUP(D12,從此工作表的A2貼上你的成績總表!$K$2:$Q$252,6,0 )),"") | K12: =IFERROR(IF(VLOOKUP(D12,從此工作表的A2貼上你的成績總表!$K$2:$Q$252,7,0 )=0,"",VLOOKUP(D12,從此工作表的A2貼上你的成績總表!$K$2:$Q$252,7,0 )),"")
D13: 軍訓 | F13: 必 | G13: =IFERROR(IF(VLOOKUP(D13,從此工作表的A2貼上你的成績總表!$K$2:$Q$252,3,0 )=0,"",VLOOKUP(D13,從此工作表的A2貼上你的成績總表!$K$2:$Q$252,3,0 )),"") | H13: =IFERROR(IF(VLOOKUP(D13,從此工作表的A2貼上你的成績總表!$K$2:$Q$252,4,0 )=0,"",VLOOKUP(D13,從此工作表的A2貼上你的成績總表!$K$2:$Q$252,4,0 )),"") | I13: =IFERROR(IF(VLOOKUP(D13,從此工作表的A2貼上你的成績總表!$K$2:$Q$252,5,0 )=0,"",VLOOKUP(D13,從此工作表的A2貼上你的成績總表!$K$2:$Q$252,5,0 )),"") | J13: =IFERROR(IF(VLOOKUP(D13,從此工作表的A2貼上你的成績總表!$K$2:$Q$252,6,0 )=0,"",VLOOKUP(D13,從此工作表的A2貼上你的成績總表!$K$2:$Q$252,6,0 )),"") | K13: =IFERROR(IF(VLOOKUP(D13,從此工作表的A2貼上你的成績總表!$K$2:$Q$252,7,0 )=0,"",VLOOKUP(D13,從此工作表的A2貼上你的成績總表!$K$2:$Q$252,7,0 )),"")
D14: 大一體育 | F14: 必 | G14: =IFERROR(IF(VLOOKUP(D14,從此工作表的A2貼上你的成績總表!$K$2:$Q$252,3,0 )=0,"",VLOOKUP(D14,從此工作表的A2貼上你的成績總表!$K$2:$Q$252,3,0 )),"") | H14: =IFERROR(IF(VLOOKUP(D14,從此工作表的A2貼上你的成績總表!$K$2:$Q$252,4,0 )=0,"",VLOOKUP(D14,從此工作表的A2貼上你的成績總表!$K$2:$Q$252,4,0 )),"") | I14: =IFERROR(IF(VLOOKUP(D14,從此工作表的A2貼上你的成績總表!$K$2:$Q$252,5,0 )=0,"",VLOOKUP(D14,從此工作表的A2貼上你的成績總表!$K$2:$Q$252,5,0 )),"") | J14: =IFERROR(IF(VLOOKUP(D14,從此工作表的A2貼上你的成績總表!$K$2:$Q$252,6,0 )=0,"",VLOOKUP(D14,從此工作表的A2貼上你的成績總表!$K$2:$Q$252,6,0 )),"") | K14: =IFERROR(IF(VLOOKUP(D14,從此工作表的A2貼上你的成績總表!$K$2:$Q$252,7,0 )=0,"",VLOOKUP(D14,從此工作表的A2貼上你的成績總表!$K$2:$Q$252,7,0 )),"")
C15: 第 二 學 期 | D15: 微積分甲〈二〉 | F15: 必 | G15: =IFERROR(IF(VLOOKUP(D15,從此工作表的A2貼上你的成績總表!$K$2:$Q$800,3,0 )=0,"",VLOOKUP(D15,從此工作表的A2貼上你的成績總表!$K$2:$Q$800,3,0 )),"") | H15: =IFERROR(IF(VLOOKUP(D15,從此工作表的A2貼上你的成績總表!$K$2:$Q$252,4,0 )=0,"",VLOOKUP(D15,從此工作表的A2貼上你的成績總表!$K$2:$Q$252,4,0 )),"") | I15: =IFERROR(IF(VLOOKUP(D15,從此工作表的A2貼上你的成績總表!$K$2:$Q$252,5,0 )=0,"",VLOOKUP(D15,從此工作表的A2貼上你的成績總表!$K$2:$Q$252,5,0 )),"") | J15: =IFERROR(IF(VLOOKUP(D15,從此工作表的A2貼上你的成績總表!$K$2:$Q$252,6,0 )=0,"",VLOOKUP(D15,從此工作表的A2貼上你的成績總表!$K$2:$Q$252,6,0 )),"") | K15: =IFERROR(IF(VLOOKUP(D15,從此工作表的A2貼上你的成績總表!$K$2:$Q$252,7,0 )=0,"",VLOOKUP(D15,從此工作表的A2貼上你的成績總表!$K$2:$Q$252,7,0 )),"")
D16: 程式語言 | F16: 必 | G16: =IFERROR(IF(VLOOKUP(D16,從此工作表的A2貼上你的成績總表!$K$2:$Q$252,3,0 )=0,"",VLOOKUP(D16,從此工作表的A2貼上你的成績總表!$K$2:$Q$252,3,0 )),"") | H16: =IFERROR(IF(VLOOKUP(D16,從此工作表的A2貼上你的成績總表!$K$2:$Q$252,4,0 )=0,"",VLOOKUP(D16,從此工作表的A2貼上你的成績總表!$K$2:$Q$252,4,0 )),"") | I16: =IFERROR(IF(VLOOKUP(D16,從此工作表的A2貼上你的成績總表!$K$2:$Q$252,5,0 )=0,"",VLOOKUP(D16,從此工作表的A2貼上你的成績總表!$K$2:$Q$252,5,0 )),"") | J16: =IFERROR(IF(VLOOKUP(D16,從此工作表的A2貼上你的成績總表!$K$2:$Q$252,6,0 )=0,"",VLOOKUP(D16,從此工作表的A2貼上你的成績總表!$K$2:$Q$252,6,0 )),"") | K16: =IFERROR(IF(VLOOKUP(D16,從此工作表的A2貼上你的成績總表!$K$2:$Q$252,7,0 )=0,"",VLOOKUP(D16,從此工作表的A2貼上你的成績總表!$K$2:$Q$252,7,0 )),"")
D17: 工程數學（Ⅰ） | F17: 必 | G17: =IFERROR(IF(VLOOKUP(D17,從此工作表的A2貼上你的成績總表!$K$2:$Q$252,3,0 )=0,"",VLOOKUP(D17,從此工作表的A2貼上你的成績總表!$K$2:$Q$252,3,0 )),"") | H17: =IFERROR(IF(VLOOKUP(D17,從此工作表的A2貼上你的成績總表!$K$2:$Q$252,4,0 )=0,"",VLOOKUP(D17,從此工作表的A2貼上你的成績總表!$K$2:$Q$252,4,0 )),"") | I17: =IFERROR(IF(VLOOKUP(D17,從此工作表的A2貼上你的成績總表!$K$2:$Q$252,5,0 )=0,"",VLOOKUP(D17,從此工作表的A2貼上你的成績總表!$K$2:$Q$252,5,0 )),"") | J17: =IFERROR(IF(VLOOKUP(D17,從此工作表的A2貼上你的成績總表!$K$2:$Q$252,6,0 )=0,"",VLOOKUP(D17,從此工作表的A2貼上你的成績總表!$K$2:$Q$252,6,0 )),"") | K17: =IFERROR(IF(VLOOKUP(D17,從此工作表的A2貼上你的成績總表!$K$2:$Q$252,7,0 )=0,"",VLOOKUP(D17,從此工作表的A2貼上你的成績總表!$K$2:$Q$252,7,0 )),"")
D18: 工程數學軟體實習 | F18: 必 | G18: =IFERROR(IF(VLOOKUP(D18,從此工作表的A2貼上你的成績總表!$K$2:$Q$252,3,0 )=0,"",VLOOKUP(D18,從此工作表的A2貼上你的成績總表!$K$2:$Q$252,3,0 )),"") | H18: =IFERROR(IF(VLOOKUP(D18,從此工作表的A2貼上你的成績總表!$K$2:$Q$252,4,0 )=0,"",VLOOKUP(D18,從此工作表的A2貼上你的成績總表!$K$2:$Q$252,4,0 )),"") | I18: =IFERROR(IF(VLOOKUP(D18,從此工作表的A2貼上你的成績總表!$K$2:$Q$252,5,0 )=0,"",VLOOKUP(D18,從此工作表的A2貼上你的成績總表!$K$2:$Q$252,5,0 )),"") | J18: =IFERROR(IF(VLOOKUP(D18,從此工作表的A2貼上你的成績總表!$K$2:$Q$252,6,0 )=0,"",VLOOKUP(D18,從此工作表的A2貼上你的成績總表!$K$2:$Q$252,6,0 )),"") | K18: =IFERROR(IF(VLOOKUP(D18,從此工作表的A2貼上你的成績總表!$K$2:$Q$252,7,0 )=0,"",VLOOKUP(D18,從此工作表的A2貼上你的成績總表!$K$2:$Q$252,7,0 )),"")
D19: 大一英文 | F19: 必 | G19: =IFERROR(IF(VLOOKUP(D19,從此工作表的A2貼上你的成績總表!$K$2:$Q$252,3,0 )=0,"",VLOOKUP(D19,從此工作表的A2貼上你的成績總表!$K$2:$Q$252,3,0 )),"") | H19: =IFERROR(IF(VLOOKUP(D19,從此工作表的A2貼上你的成績總表!$K$2:$Q$252,4,0 )=0,"",VLOOKUP(D19,從此工作表的A2貼上你的成績總表!$K$2:$Q$252,4,0 )),"") | I19: =IFERROR(IF(VLOOKUP(D19,從此工作表的A2貼上你的成績總表!$K$2:$Q$252,5,0 )=0,"",VLOOKUP(D19,從此工作表的A2貼上你的成績總表!$K$2:$Q$252,5,0 )),"") | J19: =IFERROR(IF(VLOOKUP(D19,從此工作表的A2貼上你的成績總表!$K$2:$Q$252,6,0 )=0,"",VLOOKUP(D19,從此工作表的A2貼上你的成績總表!$K$2:$Q$252,6,0 )),"") | K19: =IFERROR(IF(VLOOKUP(D19,從此工作表的A2貼上你的成績總表!$K$2:$Q$252,7,0 )=0,"",VLOOKUP(D19,從此工作表的A2貼上你的成績總表!$K$2:$Q$252,7,0 )),"")
D20: 中文 | F20: 必 | G20: =IFERROR(IF(VLOOKUP(D20,從此工作表的A2貼上你的成績總表!$K$2:$Q$252,3,0 )=0,"",VLOOKUP(D20,從此工作表的A2貼上你的成績總表!$K$2:$Q$252,3,0 )),"") | H20: =IFERROR(IF(VLOOKUP(D20,從此工作表的A2貼上你的成績總表!$K$2:$Q$252,4,0 )=0,"",VLOOKUP(D20,從此工作表的A2貼上你的成績總表!$K$2:$Q$252,4,0 )),"") | I20: =IFERROR(IF(VLOOKUP(D20,從此工作表的A2貼上你的成績總表!$K$2:$Q$252,5,0 )=0,"",VLOOKUP(D20,從此工作表的A2貼上你的成績總表!$K$2:$Q$252,5,0 )),"") | J20: =IFERROR(IF(VLOOKUP(D20,從此工作表的A2貼上你的成績總表!$K$2:$Q$252,6,0 )=0,"",VLOOKUP(D20,從此工作表的A2貼上你的成績總表!$K$2:$Q$252,6,0 )),"") | K20: =IFERROR(IF(VLOOKUP(D20,從此工作表的A2貼上你的成績總表!$K$2:$Q$252,7,0 )=0,"",VLOOKUP(D20,從此工作表的A2貼上你的成績總表!$K$2:$Q$252,7,0 )),"")
D21: 軍訓 | F21: 必 | G21: =IFERROR(IF(VLOOKUP(D21,從此工作表的A2貼上你的成績總表!$K$2:$Q$252,3,0 )=0,"",VLOOKUP(D21,從此工作表的A2貼上你的成績總表!$K$2:$Q$252,3,0 )),"") | H21: =IFERROR(IF(VLOOKUP(D21,從此工作表的A2貼上你的成績總表!$K$2:$Q$252,4,0 )=0,"",VLOOKUP(D21,從此工作表的A2貼上你的成績總表!$K$2:$Q$252,4,0 )),"") | I21: =IFERROR(IF(VLOOKUP(D21,從此工作表的A2貼上你的成績總表!$K$2:$Q$252,5,0 )=0,"",VLOOKUP(D21,從此工作表的A2貼上你的成績總表!$K$2:$Q$252,5,0 )),"") | J21: =IFERROR(IF(VLOOKUP(D21,從此工作表的A2貼上你的成績總表!$K$2:$Q$252,6,0 )=0,"",VLOOKUP(D21,從此工作表的A2貼上你的成績總表!$K$2:$Q$252,6,0 )),"") | K21: =IFERROR(IF(VLOOKUP(D21,從此工作表的A2貼上你的成績總表!$K$2:$Q$252,7,0 )=0,"",VLOOKUP(D21,從此工作表的A2貼上你的成績總表!$K$2:$Q$252,7,0 )),"")
D22: 大一體育 | F22: 必 | G22: =IFERROR(IF(VLOOKUP(D22,從此工作表的A2貼上你的成績總表!$K$2:$Q$252,3,0 )=0,"",VLOOKUP(D22,從此工作表的A2貼上你的成績總表!$K$2:$Q$252,3,0 )),"") | H22: =IFERROR(IF(VLOOKUP(D22,從此工作表的A2貼上你的成績總表!$K$2:$Q$252,4,0 )=0,"",VLOOKUP(D22,從此工作表的A2貼上你的成績總表!$K$2:$Q$252,4,0 )),"") | I22: =IFERROR(IF(VLOOKUP(D22,從此工作表的A2貼上你的成績總表!$K$2:$Q$252,5,0 )=0,"",VLOOKUP(D22,從此工作表的A2貼上你的成績總表!$K$2:$Q$252,5,0 )),"") | J22: =IFERROR(IF(VLOOKUP(D22,從此工作表的A2貼上你的成績總表!$K$2:$Q$252,6,0 )=0,"",VLOOKUP(D22,從此工作表的A2貼上你的成績總表!$K$2:$Q$252,6,0 )),"") | K22: =IFERROR(IF(VLOOKUP(D22,從此工作表的A2貼上你的成績總表!$K$2:$Q$252,7,0 )=0,"",VLOOKUP(D22,從此工作表的A2貼上你的成績總表!$K$2:$Q$252,7,0 )),"")
B23: 二年級 | C23: 第一學期 | D23: 工程數學（Ⅱ） | F23: 必 | G23: =IFERROR(IF(VLOOKUP(D23,從此工作表的A2貼上你的成績總表!$K$2:$Q$252,3,0 )=0,"",VLOOKUP(D23,從此工作表的A2貼上你的成績總表!$K$2:$Q$252,3,0 )),"") | H23: =IFERROR(IF(VLOOKUP(D23,從此工作表的A2貼上你的成績總表!$K$2:$Q$252,4,0 )=0,"",VLOOKUP(D23,從此工作表的A2貼上你的成績總表!$K$2:$Q$252,4,0 )),"") | I23: =IFERROR(IF(VLOOKUP(D23,從此工作表的A2貼上你的成績總表!$K$2:$Q$252,5,0 )=0,"",VLOOKUP(D23,從此工作表的A2貼上你的成績總表!$K$2:$Q$252,5,0 )),"") | J23: =IFERROR(IF(VLOOKUP(D23,從此工作表的A2貼上你的成績總表!$K$2:$Q$252,6,0 )=0,"",VLOOKUP(D23,從此工作表的A2貼上你的成績總表!$K$2:$Q$252,6,0 )),"") | K23: =IFERROR(IF(VLOOKUP(D23,從此工作表的A2貼上你的成績總表!$K$2:$Q$252,7,0 )=0,"",VLOOKUP(D23,從此工作表的A2貼上你的成績總表!$K$2:$Q$252,7,0 )),"")
D24: 電子學（Ⅰ） | F24: 必 | G24: =IFERROR(IF(VLOOKUP(D24,從此工作表的A2貼上你的成績總表!$K$2:$Q$252,3,0 )=0,"",VLOOKUP(D24,從此工作表的A2貼上你的成績總表!$K$2:$Q$252,3,0 )),"") | H24: =IFERROR(IF(VLOOKUP(D24,從此工作表的A2貼上你的成績總表!$K$2:$Q$252,4,0 )=0,"",VLOOKUP(D24,從此工作表的A2貼上你的成績總表!$K$2:$Q$252,4,0 )),"") | I24: =IFERROR(IF(VLOOKUP(D24,從此工作表的A2貼上你的成績總表!$K$2:$Q$252,5,0 )=0,"",VLOOKUP(D24,從此工作表的A2貼上你的成績總表!$K$2:$Q$252,5,0 )),"") | J24: =IFERROR(IF(VLOOKUP(D24,從此工作表的A2貼上你的成績總表!$K$2:$Q$252,6,0 )=0,"",VLOOKUP(D24,從此工作表的A2貼上你的成績總表!$K$2:$Q$252,6,0 )),"") | K24: =IFERROR(IF(VLOOKUP(D24,從此工作表的A2貼上你的成績總表!$K$2:$Q$252,7,0 )=0,"",VLOOKUP(D24,從此工作表的A2貼上你的成績總表!$K$2:$Q$252,7,0 )),"")
D25: 電路學（Ⅰ） | F25: 必 | G25: =IFERROR(IF(VLOOKUP(D25,從此工作表的A2貼上你的成績總表!$K$2:$Q$252,3,0 )=0,"",VLOOKUP(D25,從此工作表的A2貼上你的成績總表!$K$2:$Q$252,3,0 )),"") | H25: =IFERROR(IF(VLOOKUP(D25,從此工作表的A2貼上你的成績總表!$K$2:$Q$252,4,0 )=0,"",VLOOKUP(D25,從此工作表的A2貼上你的成績總表!$K$2:$Q$252,4,0 )),"") | I25: =IFERROR(IF(VLOOKUP(D25,從此工作表的A2貼上你的成績總表!$K$2:$Q$252,5,0 )=0,"",VLOOKUP(D25,從此工作表的A2貼上你的成績總表!$K$2:$Q$252,5,0 )),"") | J25: =IFERROR(IF(VLOOKUP(D25,從此工作表的A2貼上你的成績總表!$K$2:$Q$252,6,0 )=0,"",VLOOKUP(D25,從此工作表的A2貼上你的成績總表!$K$2:$Q$252,6,0 )),"") | K25: =IFERROR(IF(VLOOKUP(D25,從此工作表的A2貼上你的成績總表!$K$2:$Q$252,7,0 )=0,"",VLOOKUP(D25,從此工作表的A2貼上你的成績總表!$K$2:$Q$252,7,0 )),"")
D26: 電工實驗（Ⅰ） | F26: 必 | G26: =IFERROR(IF(VLOOKUP(D26,從此工作表的A2貼上你的成績總表!$K$2:$Q$252,3,0 )=0,"",VLOOKUP(D26,從此工作表的A2貼上你的成績總表!$K$2:$Q$252,3,0 )),"") | H26: =IFERROR(IF(VLOOKUP(D26,從此工作表的A2貼上你的成績總表!$K$2:$Q$252,4,0 )=0,"",VLOOKUP(D26,從此工作表的A2貼上你的成績總表!$K$2:$Q$252,4,0 )),"") | I26: =IFERROR(IF(VLOOKUP(D26,從此工作表的A2貼上你的成績總表!$K$2:$Q$252,5,0 )=0,"",VLOOKUP(D26,從此工作表的A2貼上你的成績總表!$K$2:$Q$252,5,0 )),"") | J26: =IFERROR(IF(VLOOKUP(D26,從此工作表的A2貼上你的成績總表!$K$2:$Q$252,6,0 )=0,"",VLOOKUP(D26,從此工作表的A2貼上你的成績總表!$K$2:$Q$252,6,0 )),"") | K26: =IFERROR(IF(VLOOKUP(D26,從此工作表的A2貼上你的成績總表!$K$2:$Q$252,7,0 )=0,"",VLOOKUP(D26,從此工作表的A2貼上你的成績總表!$K$2:$Q$252,7,0 )),"")
D27: 系統軟體實習 | F27: 必 | G27: =IFERROR(IF(VLOOKUP(D27,從此工作表的A2貼上你的成績總表!$K$2:$Q$252,3,0 )=0,"",VLOOKUP(D27,從此工作表的A2貼上你的成績總表!$K$2:$Q$252,3,0 )),"") | H27: =IFERROR(IF(VLOOKUP(D27,從此工作表的A2貼上你的成績總表!$K$2:$Q$252,4,0 )=0,"",VLOOKUP(D27,從此工作表的A2貼上你的成績總表!$K$2:$Q$252,4,0 )),"") | I27: =IFERROR(IF(VLOOKUP(D27,從此工作表的A2貼上你的成績總表!$K$2:$Q$252,5,0 )=0,"",VLOOKUP(D27,從此工作表的A2貼上你的成績總表!$K$2:$Q$252,5,0 )),"") | J27: =IFERROR(IF(VLOOKUP(D27,從此工作表的A2貼上你的成績總表!$K$2:$Q$252,6,0 )=0,"",VLOOKUP(D27,從此工作表的A2貼上你的成績總表!$K$2:$Q$252,6,0 )),"") | K27: =IFERROR(IF(VLOOKUP(D27,從此工作表的A2貼上你的成績總表!$K$2:$Q$252,7,0 )=0,"",VLOOKUP(D27,從此工作表的A2貼上你的成績總表!$K$2:$Q$252,7,0 )),"")
D28: 電子電路軟體實習 | F28: 必 | G28: =IFERROR(IF(VLOOKUP(D28,從此工作表的A2貼上你的成績總表!$K$2:$Q$252,3,0 )=0,"",VLOOKUP(D28,從此工作表的A2貼上你的成績總表!$K$2:$Q$252,3,0 )),"") | H28: =IFERROR(IF(VLOOKUP(D28,從此工作表的A2貼上你的成績總表!$K$2:$Q$252,4,0 )=0,"",VLOOKUP(D28,從此工作表的A2貼上你的成績總表!$K$2:$Q$252,4,0 )),"") | I28: =IFERROR(IF(VLOOKUP(D28,從此工作表的A2貼上你的成績總表!$K$2:$Q$252,5,0 )=0,"",VLOOKUP(D28,從此工作表的A2貼上你的成績總表!$K$2:$Q$252,5,0 )),"") | J28: =IFERROR(IF(VLOOKUP(D28,從此工作表的A2貼上你的成績總表!$K$2:$Q$252,6,0 )=0,"",VLOOKUP(D28,從此工作表的A2貼上你的成績總表!$K$2:$Q$252,6,0 )),"") | K28: =IFERROR(IF(VLOOKUP(D28,從此工作表的A2貼上你的成績總表!$K$2:$Q$252,7,0 )=0,"",VLOOKUP(D28,從此工作表的A2貼上你的成績總表!$K$2:$Q$252,7,0 )),"")
D29: 大二英文 | F29: 必 | G29: =IFERROR(IF(VLOOKUP(D29,從此工作表的A2貼上你的成績總表!$K$2:$Q$252,3,0 )=0,"",VLOOKUP(D29,從此工作表的A2貼上你的成績總表!$K$2:$Q$252,3,0 )),"") | H29: =IFERROR(IF(VLOOKUP(D29,從此工作表的A2貼上你的成績總表!$K$2:$Q$252,4,0 )=0,"",VLOOKUP(D29,從此工作表的A2貼上你的成績總表!$K$2:$Q$252,4,0 )),"") | I29: =IFERROR(IF(VLOOKUP(D29,從此工作表的A2貼上你的成績總表!$K$2:$Q$252,5,0 )=0,"",VLOOKUP(D29,從此工作表的A2貼上你的成績總表!$K$2:$Q$252,5,0 )),"") | J29: =IFERROR(IF(VLOOKUP(D29,從此工作表的A2貼上你的成績總表!$K$2:$Q$252,6,0 )=0,"",VLOOKUP(D29,從此工作表的A2貼上你的成績總表!$K$2:$Q$252,6,0 )),"") | K29: =IFERROR(IF(VLOOKUP(D29,從此工作表的A2貼上你的成績總表!$K$2:$Q$252,7,0 )=0,"",VLOOKUP(D29,從此工作表的A2貼上你的成績總表!$K$2:$Q$252,7,0 )),"")
D30: 大二體育 | F30: 必 | G30: =IFERROR(IF(VLOOKUP(D30,從此工作表的A2貼上你的成績總表!$K$2:$Q$252,3,0 )=0,"",VLOOKUP(D30,從此工作表的A2貼上你的成績總表!$K$2:$Q$252,3,0 )),"") | H30: =IFERROR(IF(VLOOKUP(D30,從此工作表的A2貼上你的成績總表!$K$2:$Q$252,4,0 )=0,"",VLOOKUP(D30,從此工作表的A2貼上你的成績總表!$K$2:$Q$252,4,0 )),"") | I30: =IFERROR(IF(VLOOKUP(D30,從此工作表的A2貼上你的成績總表!$K$2:$Q$252,5,0 )=0,"",VLOOKUP(D30,從此工作表的A2貼上你的成績總表!$K$2:$Q$252,5,0 )),"") | J30: =IFERROR(IF(VLOOKUP(D30,從此工作表的A2貼上你的成績總表!$K$2:$Q$252,6,0 )=0,"",VLOOKUP(D30,從此工作表的A2貼上你的成績總表!$K$2:$Q$252,6,0 )),"") | K30: =IFERROR(IF(VLOOKUP(D30,從此工作表的A2貼上你的成績總表!$K$2:$Q$252,7,0 )=0,"",VLOOKUP(D30,從此工作表的A2貼上你的成績總表!$K$2:$Q$252,7,0 )),"")
C31: 第二學期 | D31: 電子學（Ⅱ） | F31: 必 | G31: =IFERROR(IF(VLOOKUP(D31,從此工作表的A2貼上你的成績總表!$K$2:$Q$252,3,0 )=0,"",VLOOKUP(D31,從此工作表的A2貼上你的成績總表!$K$2:$Q$252,3,0 )),"") | H31: =IFERROR(IF(VLOOKUP(D31,從此工作表的A2貼上你的成績總表!$K$2:$Q$252,4,0 )=0,"",VLOOKUP(D31,從此工作表的A2貼上你的成績總表!$K$2:$Q$252,4,0 )),"") | I31: =IFERROR(IF(VLOOKUP(D31,從此工作表的A2貼上你的成績總表!$K$2:$Q$252,5,0 )=0,"",VLOOKUP(D31,從此工作表的A2貼上你的成績總表!$K$2:$Q$252,5,0 )),"") | J31: =IFERROR(IF(VLOOKUP(D31,從此工作表的A2貼上你的成績總表!$K$2:$Q$252,6,0 )=0,"",VLOOKUP(D31,從此工作表的A2貼上你的成績總表!$K$2:$Q$252,6,0 )),"") | K31: =IFERROR(IF(VLOOKUP(D31,從此工作表的A2貼上你的成績總表!$K$2:$Q$252,7,0 )=0,"",VLOOKUP(D31,從此工作表的A2貼上你的成績總表!$K$2:$Q$252,7,0 )),"")
D32: 電路學（Ⅱ） | F32: 必 | G32: =IFERROR(IF(VLOOKUP(D32,從此工作表的A2貼上你的成績總表!$K$2:$Q$252,3,0 )=0,"",VLOOKUP(D32,從此工作表的A2貼上你的成績總表!$K$2:$Q$252,3,0 )),"") | H32: =IFERROR(IF(VLOOKUP(D32,從此工作表的A2貼上你的成績總表!$K$2:$Q$252,4,0 )=0,"",VLOOKUP(D32,從此工作表的A2貼上你的成績總表!$K$2:$Q$252,4,0 )),"") | I32: =IFERROR(IF(VLOOKUP(D32,從此工作表的A2貼上你的成績總表!$K$2:$Q$252,5,0 )=0,"",VLOOKUP(D32,從此工作表的A2貼上你的成績總表!$K$2:$Q$252,5,0 )),"") | J32: =IFERROR(IF(VLOOKUP(D32,從此工作表的A2貼上你的成績總表!$K$2:$Q$252,6,0 )=0,"",VLOOKUP(D32,從此工作表的A2貼上你的成績總表!$K$2:$Q$252,6,0 )),"") | K32: =IFERROR(IF(VLOOKUP(D32,從此工作表的A2貼上你的成績總表!$K$2:$Q$252,7,0 )=0,"",VLOOKUP(D32,從此工作表的A2貼上你的成績總表!$K$2:$Q$252,7,0 )),"")
D33: 電工實驗（Ⅱ） | F33: 必 | G33: =IFERROR(IF(VLOOKUP(D33,從此工作表的A2貼上你的成績總表!$K$2:$Q$252,3,0 )=0,"",VLOOKUP(D33,從此工作表的A2貼上你的成績總表!$K$2:$Q$252,3,0 )),"") | H33: =IFERROR(IF(VLOOKUP(D33,從此工作表的A2貼上你的成績總表!$K$2:$Q$252,4,0 )=0,"",VLOOKUP(D33,從此工作表的A2貼上你的成績總表!$K$2:$Q$252,4,0 )),"") | I33: =IFERROR(IF(VLOOKUP(D33,從此工作表的A2貼上你的成績總表!$K$2:$Q$252,5,0 )=0,"",VLOOKUP(D33,從此工作表的A2貼上你的成績總表!$K$2:$Q$252,5,0 )),"") | J33: =IFERROR(IF(VLOOKUP(D33,從此工作表的A2貼上你的成績總表!$K$2:$Q$252,6,0 )=0,"",VLOOKUP(D33,從此工作表的A2貼上你的成績總表!$K$2:$Q$252,6,0 )),"") | K33: =IFERROR(IF(VLOOKUP(D33,從此工作表的A2貼上你的成績總表!$K$2:$Q$252,7,0 )=0,"",VLOOKUP(D33,從此工作表的A2貼上你的成績總表!$K$2:$Q$252,7,0 )),"")
D34: 電磁學（Ⅰ） | F34: 必 | G34: =IFERROR(IF(VLOOKUP(D34,從此工作表的A2貼上你的成績總表!$K$2:$Q$252,3,0 )=0,"",VLOOKUP(D34,從此工作表的A2貼上你的成績總表!$K$2:$Q$252,3,0 )),"") | H34: =IFERROR(IF(VLOOKUP(D34,從此工作表的A2貼上你的成績總表!$K$2:$Q$252,4,0 )=0,"",VLOOKUP(D34,從此工作表的A2貼上你的成績總表!$K$2:$Q$252,4,0 )),"") | I34: =IFERROR(IF(VLOOKUP(D34,從此工作表的A2貼上你的成績總表!$K$2:$Q$252,5,0 )=0,"",VLOOKUP(D34,從此工作表的A2貼上你的成績總表!$K$2:$Q$252,5,0 )),"") | J34: =IFERROR(IF(VLOOKUP(D34,從此工作表的A2貼上你的成績總表!$K$2:$Q$252,6,0 )=0,"",VLOOKUP(D34,從此工作表的A2貼上你的成績總表!$K$2:$Q$252,6,0 )),"") | K34: =IFERROR(IF(VLOOKUP(D34,從此工作表的A2貼上你的成績總表!$K$2:$Q$252,7,0 )=0,"",VLOOKUP(D34,從此工作表的A2貼上你的成績總表!$K$2:$Q$252,7,0 )),"")
D35: 訊號與系統 | F35: 必 | G35: =IFERROR(IF(VLOOKUP(D35,從此工作表的A2貼上你的成績總表!$K$2:$Q$252,3,0 )=0,"",VLOOKUP(D35,從此工作表的A2貼上你的成績總表!$K$2:$Q$252,3,0 )),"") | H35: =IFERROR(IF(VLOOKUP(D35,從此工作表的A2貼上你的成績總表!$K$2:$Q$252,4,0 )=0,"",VLOOKUP(D35,從此工作表的A2貼上你的成績總表!$K$2:$Q$252,4,0 )),"") | I35: =IFERROR(IF(VLOOKUP(D35,從此工作表的A2貼上你的成績總表!$K$2:$Q$252,5,0 )=0,"",VLOOKUP(D35,從此工作表的A2貼上你的成績總表!$K$2:$Q$252,5,0 )),"") | J35: =IFERROR(IF(VLOOKUP(D35,從此工作表的A2貼上你的成績總表!$K$2:$Q$252,6,0 )=0,"",VLOOKUP(D35,從此工作表的A2貼上你的成績總表!$K$2:$Q$252,6,0 )),"") | K35: =IFERROR(IF(VLOOKUP(D35,從此工作表的A2貼上你的成績總表!$K$2:$Q$252,7,0 )=0,"",VLOOKUP(D35,從此工作表的A2貼上你的成績總表!$K$2:$Q$252,7,0 )),"")
D36: 大二英文 | F36: 必 | G36: =IFERROR(IF(VLOOKUP(D36,從此工作表的A2貼上你的成績總表!$K$2:$Q$252,3,0 )=0,"",VLOOKUP(D36,從此工作表的A2貼上你的成績總表!$K$2:$Q$252,3,0 )),"") | H36: =IFERROR(IF(VLOOKUP(D36,從此工作表的A2貼上你的成績總表!$K$2:$Q$252,4,0 )=0,"",VLOOKUP(D36,從此工作表的A2貼上你的成績總表!$K$2:$Q$252,4,0 )),"") | I36: =IFERROR(IF(VLOOKUP(D36,從此工作表的A2貼上你的成績總表!$K$2:$Q$252,5,0 )=0,"",VLOOKUP(D36,從此工作表的A2貼上你的成績總表!$K$2:$Q$252,5,0 )),"") | J36: =IFERROR(IF(VLOOKUP(D36,從此工作表的A2貼上你的成績總表!$K$2:$Q$252,6,0 )=0,"",VLOOKUP(D36,從此工作表的A2貼上你的成績總表!$K$2:$Q$252,6,0 )),"") | K36: =IFERROR(IF(VLOOKUP(D36,從此工作表的A2貼上你的成績總表!$K$2:$Q$252,7,0 )=0,"",VLOOKUP(D36,從此工作表的A2貼上你的成績總表!$K$2:$Q$252,7,0 )),"")
D37: 大二體育 | F37: 必 | G37: =IFERROR(IF(VLOOKUP(D37,從此工作表的A2貼上你的成績總表!$K$2:$Q$252,3,0 )=0,"",VLOOKUP(D37,從此工作表的A2貼上你的成績總表!$K$2:$Q$252,3,0 )),"") | H37: =IFERROR(IF(VLOOKUP(D37,從此工作表的A2貼上你的成績總表!$K$2:$Q$252,4,0 )=0,"",VLOOKUP(D37,從此工作表的A2貼上你的成績總表!$K$2:$Q$252,4,0 )),"") | I37: =IFERROR(IF(VLOOKUP(D37,從此工作表的A2貼上你的成績總表!$K$2:$Q$252,5,0 )=0,"",VLOOKUP(D37,從此工作表的A2貼上你的成績總表!$K$2:$Q$252,5,0 )),"") | J37: =IFERROR(IF(VLOOKUP(D37,從此工作表的A2貼上你的成績總表!$K$2:$Q$252,6,0 )=0,"",VLOOKUP(D37,從此工作表的A2貼上你的成績總表!$K$2:$Q$252,6,0 )),"") | K37: =IFERROR(IF(VLOOKUP(D37,從此工作表的A2貼上你的成績總表!$K$2:$Q$252,7,0 )=0,"",VLOOKUP(D37,從此工作表的A2貼上你的成績總表!$K$2:$Q$252,7,0 )),"")
A38: 必修 | B38: 三年級 | C38: 第一二學期 | D38: 電磁學（Ⅱ） | F38: 必 | G38: =IFERROR(IF(VLOOKUP(D38,從此工作表的A2貼上你的成績總表!$K$2:$Q$252,3,0 )=0,"",VLOOKUP(D38,從此工作表的A2貼上你的成績總表!$K$2:$Q$252,3,0 )),"") | H38: =IFERROR(IF(VLOOKUP(D38,從此工作表的A2貼上你的成績總表!$K$2:$Q$252,4,0 )=0,"",VLOOKUP(D38,從此工作表的A2貼上你的成績總表!$K$2:$Q$252,4,0 )),"") | I38: =IFERROR(IF(VLOOKUP(D38,從此工作表的A2貼上你的成績總表!$K$2:$Q$252,5,0 )=0,"",VLOOKUP(D38,從此工作表的A2貼上你的成績總表!$K$2:$Q$252,5,0 )),"") | J38: =IFERROR(IF(VLOOKUP(D38,從此工作表的A2貼上你的成績總表!$K$2:$Q$252,6,0 )=0,"",VLOOKUP(D38,從此工作表的A2貼上你的成績總表!$K$2:$Q$252,6,0 )),"") | K38: =IFERROR(IF(VLOOKUP(D38,從此工作表的A2貼上你的成績總表!$K$2:$Q$252,7,0 )=0,"",VLOOKUP(D38,從此工作表的A2貼上你的成績總表!$K$2:$Q$252,7,0 )),"")
D39: 專題研究 | F39: 必 | G39: =IFERROR(IF(VLOOKUP(D39,從此工作表的A2貼上你的成績總表!$K$2:$Q$252,3,0 )=0,"",VLOOKUP(D39,從此工作表的A2貼上你的成績總表!$K$2:$Q$252,3,0 )),"") | H39: =IFERROR(IF(VLOOKUP(D39,從此工作表的A2貼上你的成績總表!$K$2:$Q$252,4,0 )=0,"",VLOOKUP(D39,從此工作表的A2貼上你的成績總表!$K$2:$Q$252,4,0 )),"") | I39: =IFERROR(IF(VLOOKUP(D39,從此工作表的A2貼上你的成績總表!$K$2:$Q$252,5,0 )=0,"",VLOOKUP(D39,從此工作表的A2貼上你的成績總表!$K$2:$Q$252,5,0 )),"") | J39: =IFERROR(IF(VLOOKUP(D39,從此工作表的A2貼上你的成績總表!$K$2:$Q$252,6,0 )=0,"",VLOOKUP(D39,從此工作表的A2貼上你的成績總表!$K$2:$Q$252,6,0 )),"") | K39: =IFERROR(IF(VLOOKUP(D39,從此工作表的A2貼上你的成績總表!$K$2:$Q$252,7,0 )=0,"",VLOOKUP(D39,從此工作表的A2貼上你的成績總表!$K$2:$Q$252,7,0 )),"")
D40: 專題實作 | F40: 必 | G40: =IFERROR(IF(VLOOKUP(D40,從此工作表的A2貼上你的成績總表!$K$2:$Q$252,3,0 )=0,"",VLOOKUP(D40,從此工作表的A2貼上你的成績總表!$K$2:$Q$252,3,0 )),"") | H40: =IFERROR(IF(VLOOKUP(D40,從此工作表的A2貼上你的成績總表!$K$2:$Q$252,4,0 )=0,"",VLOOKUP(D40,從此工作表的A2貼上你的成績總表!$K$2:$Q$252,4,0 )),"") | I40: =IFERROR(IF(VLOOKUP(D40,從此工作表的A2貼上你的成績總表!$K$2:$Q$252,5,0 )=0,"",VLOOKUP(D40,從此工作表的A2貼上你的成績總表!$K$2:$Q$252,5,0 )),"") | J40: =IFERROR(IF(VLOOKUP(D40,從此工作表的A2貼上你的成績總表!$K$2:$Q$252,6,0 )=0,"",VLOOKUP(D40,從此工作表的A2貼上你的成績總表!$K$2:$Q$252,6,0 )),"") | K40: =IFERROR(IF(VLOOKUP(D40,從此工作表的A2貼上你的成績總表!$K$2:$Q$252,7,0 )=0,"",VLOOKUP(D40,從此工作表的A2貼上你的成績總表!$K$2:$Q$252,7,0 )),"")
...

Sheet 工作表2
B1: 課程名稱 | C1: 必選 | D1: 數學 | E1: 基礎科學 | F1: 理論 | G1: 設計 | H1: 通識課程
B2: 5G尖端技術系統應用與電子電路設計 | C2: 選 | F2: 2 | G2: 1
B3: Python程式語言與機器學習 | C3: 選 | F3: 1.5 | G3: 1.5
B4: RFID無線射頻技術理論與實習 | C4: 選 | F4: 1.5 | G4: 1.5
B5: 一年日文 | C5: 選 | H5: 3
B6: 二年日文 | C6: 選 | H6: 6
B7: 三年日文 | C7: 選 | H7: 6
B8: 一年法文 | C8: 選 | H8: 6
B9: 一年德文 | C9: 選 | H9: 6
B10: 二年德文 | C10: 選 | H10: 6
B11: 大一英文 | C11: 必 | H11: 3
B12: 大一體育 | C12: 必 | H12: 0
B13: 大二英文 | C13: 必 | H13: 2
B14: 大二體育 | C14: 必 | H14: 0
B15: 大數據機器學習導論 | C15: 選 | H15: 3
B16: 大學引導 | C16: 選 | H16: 1
... B18: 工程統整專題(二) | C18: 選 | H18: 3
B19: 工程數學（Ⅰ） | C19: 必 | D19: 3
B20: 工程數學（Ⅱ） | C20: 必 | D20: 3
B21: 工程數學軟體實習（Ⅰ） | C21: 必 | D21: 1
B22: 工程數學軟體實習（Ⅱ） | C22: 必 | D22: 1
B23: 工業工程學概論 | C23: 選 | E23: 3
B24: 中文 | C24: 必 | H24: 2
B25: 公民 | C25: 必 | H25: 2
B26: 天線理論 | C26: 選 | F26: 2 | G26: 1
B27: 太陽能電池及系統專題實作 | C27: 選 | F27: 1.5 | G27: 1.5
B28: 半導體元件物理 | C28: 必 | E28: 2 | F28: 1
B29: 半導體物理與製程導論 | C29: 選 | E29: 1 | F29: 2
B30: 可視光通訊與智慧照明 | C30: 選 | F30: 1 | G30: 2
B31: 生活與法律 | C31: 選 | H31: 2
B32: 生醫工程導論 | C32: 選 | F32: 3
B33: 生醫電子 | C33: 選 | F33: 3
B34: 企業採購契約法實務 | C34: 選 | H34: 3
B35: 先進車用電子系統與電路設計 | C35: 選 | F35: 3
B36: 先進製程專題 | C36: 選
B37: 光電工程導論 | C37: 選 | E37: 1 | F37: 2
B38: 光電半導體檢測及分析 | C38: 選 | F38: 1.5 | G38: 1.5
B39: 多元學習：Arduino 數位卡丁蟲 | C39: 選 | H39: 1
B40: 安全衛生概論 | C40: 選 | H40: 2
B41: 低功率多核心晶片設計 | C41: 選 | F41: 2 | G41: 1
...

Sheet 從此工作表的A2貼上你的成績總表
A1: 學年度 | B1: 學期 | C1: 選課代號 | D1: 課程名稱 | E1: 學分 | F1: 成績 | L1: 必選 | M1: 數學 | N1: 基礎科學 | O1: 理論 | P1: 設計 | Q1: 通識課程 | V1: 課程 | W1: 學分 | X1: 等第 | Y1: 重複
G2: =IF(LEFT(D2,3)="全民國","軍訓",LEFT(D2,3)) | H2: =IF(ISNA(VLOOKUP(F2,$S$2:$T$14,2,0)),"",VLOOKUP(F2,$S$2:$T$14,2,0)) | I2: =IF(ISBLANK(F2),"",IF(H2<60,"","V")) | J2: =IF(F2="停修","",IF(F2>=60,E2,"")) | K2: =IF(H2>59,IF(LEFT(D2,4)="大一英文","大一英文",(IF(LEFT(D2,2)="中文","中文",(IF(LEFT(D2,4)="全民國防","軍訓",(IF(LEFT(D2,4)="大一體育","大一體育",(IF(LEFT(D2,4)="大二體育","大二體育",(IF(LEFT(D2,4)="大二英文","大二英文",D2))))))))))),"") -> 0 | L2: =IFERROR(IF(VLOOKUP(K2,工作表2!$B$2:$H$800,2,0 )=0,"",VLOOKUP(K2,工作表2!$B$2:$H$800,2,0 )),"") | M2: =IFERROR(IF(VLOOKUP(K2,工作表2!$B$2:$H$800,3,0 )=0,"",VLOOKUP(K2,工作表2!$B$2:$H$800,3,0 )),"") | N2: =IFERROR(IF(VLOOKUP(K2,工作表2!$B$2:$H$800,4,0 )=0,"",VLOOKUP(K2,工作表2!$B$2:$H$800,4,0 )),"") | O2: =IFERROR(IF(VLOOKUP(K2,工作表2!$B$2:$H$800,5,0 )=0,"",VLOOKUP(K2,工作表2!$B$2:$H$800,5,0 )),"") | P2: =IFERROR(IF(VLOOKUP(K2,工作表2!$B$2:$H$800,6,0 )=0,"",VLOOKUP(K2,工作表2!$B$2:$H$800,6,0 )),"") | Q2: =IFERROR(IF(VLOOKUP(K2,工作表2!$B$2:$H$800,7,0 )=0,"",VLOOKUP(K2,工作表2!$B$2:$H$800,7,0 )),"") | S2: A+ | T2: 95 | V2: =D2 -> 0 | W2: =E2 -> 0 | X2: =F2 -> 0 | Y2: =IF(COUNTIF($V$2:$V$258,V2)=1,0,1) -> 1 | AA2: {=_xlfn._xlws.FILTER(表格1[],表格1[重複]=0)} -> #VALUE! | AF2: 必選 | AG2: 有修嗎？
G3: =IF(LEFT(D3,3)="全民國","軍訓",LEFT(D3,3)) | H3: =IF(ISNA(VLOOKUP(F3,$S$2:$T$14,2,0)),"",VLOOKUP(F3,$S$2:$T$14,2,0)) | I3: =IF(ISBLANK(F3),"",IF(H3<60,"","V")) | J3: =IF(F3="停修","",IF(F3>=60,E3,"")) | K3: =IF(H3>59,IF(LEFT(D3,4)="大一英文","大一英文",(IF(LEFT(D3,2)="中文","中文",(IF(LEFT(D3,4)="全民國防","軍訓",(IF(LEFT(D3,4)="大一體育","大一體育",(IF(LEFT(D3,4)="大二體育","大二體育",(IF(LEFT(D3,4)="大二英文","大二英文",D3))))))))))),"") -> 0 | L3: =IFERROR(IF(VLOOKUP(K3,工作表2!$B$2:$H$800,2,0 )=0,"",VLOOKUP(K3,工作表2!$B$2:$H$800,2,0 )),"") | M3: =IFERROR(IF(VLOOKUP(K3,工作表2!$B$2:$H$800,3,0 )=0,"",VLOOKUP(K3,工作表2!$B$2:$H$800,3,0 )),"") | N3: =IFERROR(IF(VLOOKUP(K3,工作表2!$B$2:$H$800,4,0 )=0,"",VLOOKUP(K3,工作表2!$B$2:$H$800,4,0 )),"") | O3: =IFERROR(IF(VLOOKUP(K3,工作表2!$B$2:$H$800,5,0 )=0,"",VLOOKUP(K3,工作表2!$B$2:$H$800,5,0 )),"") | P3: =IFERROR(IF(VLOOKUP(K3,工作表2!$B$2:$H$800,6,0 )=0,"",VLOOKUP(K3,工作表2!$B$2:$H$800,6,0 )),"") | Q3: =IFERROR(IF(VLOOKUP(K3,工作表2!$B$2:$H$800,7,0 )=0,"",VLOOKUP(K3,工作表2!$B$2:$H$800,7,0 )),"") | S3: A | T3: 87 | V3: =D3 -> 0 | W3: =E3 -> 0 | X3: =F3 -> 0 | Y3: =IF(COUNTIF($V$2:$V$258,V3)=1,0,1) -> 1 | AF3: 生醫工程導論 | AG3: =IFERROR(_xlfn.XLOOKUP(AF3,$D$2:$D$180,$E$2:$E$180),0) -> 0
G4: =IF(LEFT(D4,3)="全民國","軍訓",LEFT(D4,3)) | H4: =IF(ISNA(VLOOKUP(F4,$S$2:$T$14,2,0)),"",VLOOKUP(F4,$S$2:$T$14,2,0)) | I4: =IF(ISBLANK(F4),"",IF(H4<60,"","V")) | J4: =IF(F4="停修","",IF(F4>=60,E4,"")) | K4: =IF(H4>59,IF(LEFT(D4,4)="大一英文","大一英文",(IF(LEFT(D4,2)="中文","中文",(IF(LEFT(D4,4)="全民國防","軍訓",(IF(LEFT(D4,4)="大一體育","大一體育",(IF(LEFT(D4,4)="大二體育","大二體育",(IF(LEFT(D4,4)="大二英文","大二英文",D4))))))))))),"") -> 0 | L4: =IFERROR(IF(VLOOKUP(K4,工作表2!$B$2:$H$800,2,0 )=0,"",VLOOKUP(K4,工作表2!$B$2:$H$800,2,0 )),"") | M4: =IFERROR(IF(VLOOKUP(K4,工作表2!$B$2:$H$800,3,0 )=0,"",VLOOKUP(K4,工作表2!$B$2:$H$800,3,0 )),"") | N4: =IFERROR(IF(VLOOKUP(K4,工作表2!$B$2:$H$800,4,0 )=0,"",VLOOKUP(K4,工作表2!$B$2:$H$800,4,0 )),"") | O4: =IFERROR(IF(VLOOKUP(K4,工作表2!$B$2:$H$800,5,0 )=0,"",VLOOKUP(K4,工作表2!$B$2:$H$800,5,0 )),"") | P4: =IFERROR(IF(VLOOKUP(K4,工作表2!$B$2:$H$800,6,0 )=0,"",VLOOKUP(K4,工作表2!$B$2:$H$800,6,0 )),"") | Q4: =IFERROR(IF(VLOOKUP(K4,工作表2!$B$2:$H$800,7,0 )=0,"",VLOOKUP(K4,工作表2!$B$2:$H$800,7,0 )),"") | S4: A- | T4: 82 | V4: =D4 -> 0 | W4: =E4 -> 0 | X4: =F4 -> 0 | Y4: =IF(COUNTIF($V$2:$V$258,V4)=1,0,1) -> 1 | AF4: 半導體元件物理 | AG4: =IFERROR(_xlfn.XLOOKUP(AF4,$D$2:$D$180,$E$2:$E$180),0) -> 0
G5: =IF(LEFT(D5,3)="全民國","軍訓",LEFT(D5,3)) | H5: =IF(ISNA(VLOOKUP(F5,$S$2:$T$14,2,0)),"",VLOOKUP(F5,$S$2:$T$14,2,0)) | I5: =IF(ISBLANK(F5),"",IF(H5<60,"","V")) | J5: =IF(F5="停修","",IF(F5>=60,E5,"")) | K5: =IF(H5>59,IF(LEFT(D5,4)="大一英文","大一英文",(IF(LEFT(D5,2)="中文","中文",(IF(LEFT(D5,4)="全民國防","軍訓",(IF(LEFT(D5,4)="大一體育","大一體育",(IF(LEFT(D5,4)="大二體育","大二體育",(IF(LEFT(D5,4)="大二英文","大二英文",D5))))))))))),"") -> 0 | L5: =IFERROR(IF(VLOOKUP(K5,工作表2!$B$2:$H$800,2,0 )=0,"",VLOOKUP(K5,工作表2!$B$2:$H$800,2,0 )),"") | M5: =IFERROR(IF(VLOOKUP(K5,工作表2!$B$2:$H$800,3,0 )=0,"",VLOOKUP(K5,工作表2!$B$2:$H$800,3,0 )),"") | N5: =IFERROR(IF(VLOOKUP(K5,工作表2!$B$2:$H$800,4,0 )=0,"",VLOOKUP(K5,工作表2!$B$2:$H$800,4,0 )),"") | O5: =IFERROR(IF(VLOOKUP(K5,工作表2!$B$2:$H$800,5,0 )=0,"",VLOOKUP(K5,工作表2!$B$2:$H$800,5,0 )),"") | P5: =IFERROR(IF(VLOOKUP(K5,工作表2!$B$2:$H$800,6,0 )=0,"",VLOOKUP(K5,工作表2!$B$2:$H$800,6,0 )),"") | Q5: =IFERROR(IF(VLOOKUP(K5,工作表2!$B$2:$H$800,7,0 )=0,"",VLOOKUP(K5,工作表2!$B$2:$H$800,7,0 )),"") | S5: B+ | T5: 78 | V5: =D5 -> 0 | W5: =E5 -> 0 | X5: =F5 -> 0 | Y5: =IF(COUNTIF($V$2:$V$258,V5)=1,0,1) -> 1 | AF5: 積體電路製程整合 | AG5: =IFERROR(_xlfn.XLOOKUP(AF5,$D$2:$D$180,$E$2:$E$180),0) -> 0
G6: =IF(LEFT(D6,3)="全民國","軍訓",LEFT(D6,3)) | H6: =IF(ISNA(VLOOKUP(F6,$S$2:$T$14,2,0)),"",VLOOKUP(F6,$S$2:$T$14,2,0)) | I6: =IF(ISBLANK(F6),"",IF(H6<60,"","V")) | J6: =IF(F6="停修","",IF(F6>=60,E6,"")) | K6: =IF(H6>59,IF(LEFT(D6,4)="大一英文","大一英文",(IF(LEFT(D6,2)="中文","中文",(IF(LEFT(D6,4)="全民國防","軍訓",(IF(LEFT(D6,4)="大一體育","大一體育",(IF(LEFT(D6,4)="大二體育","大二體育",(IF(LEFT(D6,4)="大二英文","大二英文",D6))))))))))),"") -> 0 | L6: =IFERROR(IF(VLOOKUP(K6,工作表2!$B$2:$H$800,2,0 )=0,"",VLOOKUP(K6,工作表2!$B$2:$H$800,2,0 )),"") | M6: =IFERROR(IF(VLOOKUP(K6,工作表2!$B$2:$H$800,3,0 )=0,"",VLOOKUP(K6,工作表2!$B$2:$H$800,3,0 )),"") | N6: =IFERROR(IF(VLOOKUP(K6,工作表2!$B$2:$H$800,4,0 )=0,"",VLOOKUP(K6,工作表2!$B$2:$H$800,4,0 )),"") | O6: =IFERROR(IF(VLOOKUP(K6,工作表2!$B$2:$H$800,5,0 )=0,"",VLOOKUP(K6,工作表2!$B$2:$H$800,5,0 )),"") | P6: =IFERROR(IF(VLOOKUP(K6,工作表2!$B$2:$H$800,6,0 )=0,"",VLOOKUP(K6,工作表2!$B$2:$H$800,6,0 )),"") | Q6: =IFERROR(IF(VLOOKUP(K6,工作表2!$B$2:$H$800,7,0 )=0,"",VLOOKUP(K6,工作表2!$B$2:$H$800,7,0 )),"") | S6: B | T6: 75 | V6: =D6 -> 0 | W6: =E6 -> 0 | X6: =F6 -> 0 | Y6: =IF(COUNTIF($V$2:$V$258,V6)=1,0,1) -> 1 | AF6: 積體電路製程整合實驗 | AG6: =IFERROR(_xlfn.XLOOKUP(AF6,$D$2:$D$180,$E$2:$E$180),0) -> 0
G7: =IF(LEFT(D7,3)="全民國","軍訓",LEFT(D7,3)) | H7: =IF(ISNA(VLOOKUP(F7,$S$2:$T$14,2,0)),"",VLOOKUP(F7,$S$2:$T$14,2,0)) | I7: =IF(ISBLANK(F7),"",IF(H7<60,"","V")) | J7: =IF(F7="停修","",IF(F7>=60,E7,"")) | K7: =IF(H7>59,IF(LEFT(D7,4)="大一英文","大一英文",(IF(LEFT(D7,2)="中文","中文",(IF(LEFT(D7,4)="全民國防","軍訓",(IF(LEFT(D7,4)="大一體育","大一體育",(IF(LEFT(D7,4)="大二體育","大二體育",(IF(LEFT(D7,4)="大二英文","大二英文",D7))))))))))),"") -> 0 | L7: =IFERROR(IF(VLOOKUP(K7,工作表2!$B$2:$H$800,2,0 )=0,"",VLOOKUP(K7,工作表2!$B$2:$H$800,2,0 )),"") | M7: =IFERROR(IF(VLOOKUP(K7,工作表2!$B$2:$H$800,3,0 )=0,"",VLOOKUP(K7,工作表2!$B$2:$H$800,3,0 )),"") | N7: =IFERROR(IF(VLOOKUP(K7,工作表2!$B$2:$H$800,4,0 )=0,"",VLOOKUP(K7,工作表2!$B$2:$H$800,4,0 )),"") | O7: =IFERROR(IF(VLOOKUP(K7,工作表2!$B$2:$H$800,5,0 )=0,"",VLOOKUP(K7,工作表2!$B$2:$H$800,5,0 )),"") | P7: =IFERROR(IF(VLOOKUP(K7,工作表2!$B$2:$H$800,6,0 )=0,"",VLOOKUP(K7,工作表2!$B$2:$H$800,6,0 )),"") | Q7: =IFERROR(IF(VLOOKUP(K7,工作表2!$B$2:$H$800,7,0 )=0,"",VLOOKUP(K7,工作表2!$B$2:$H$800,7,0 )),"") | S7: B- | T7: 71 | V7: =D7 -> 0 | W7: =E7 -> 0 | X7: =F7 -> 0 | Y7: =IF(COUNTIF($V$2:$V$258,V7)=1,0,1) -> 1 | AF7: 半導體材料與元件實驗 | AG7: =IFERROR(_xlfn.XLOOKUP(AF7,$D$2:$D$180,$E$2:$E$180),0) -> 0
G8: =IF(LEFT(D8,3)="全民國","軍訓",LEFT(D8,3)) | H8: =IF(ISNA(VLOOKUP(F8,$S$2:$T$14,2,0)),"",VLOOKUP(F8,$S$2:$T$14,2,0)) | I8: =IF(ISBLANK(F8),"",IF(H8<60,"","V")) | J8: =IF(F8="停修","",IF(F8>=60,E8,"")) | K8: =IF(H8>59,IF(LEFT(D8,4)="大一英文","大一英文",(IF(LEFT(D8,2)="中文","中文",(IF(LEFT(D8,4)="全民國防","軍訓",(IF(LEFT(D8,4)="大一體育","大一體育",(IF(LEFT(D8,4)="大二體育","大二體育",(IF(LEFT(D8,4)="大二英文","大二英文",D8))))))))))),"") -> 0 | L8: =IFERROR(IF(VLOOKUP(K8,工作表2!$B$2:$H$800,2,0 )=0,"",VLOOKUP(K8,工作表2!$B$2:$H$800,2,0 )),"") | M8: =IFERROR(IF(VLOOKUP(K8,工作表2!$B$2:$H$800,3,0 )=0,"",VLOOKUP(K8,工作表2!$B$2:$H$800,3,0 )),"") | N8: =IFERROR(IF(VLOOKUP(K8,工作表2!$B$2:$H$800,4,0 )=0,"",VLOOKUP(K8,工作表2!$B$2:$H$800,4,0 )),"") | O8: =IFERROR(IF(VLOOKUP(K8,工作表2!$B$2:$H$800,5,0 )=0,"",VLOOKUP(K8,工作表2!$B$2:$H$800,5,0 )),"") | P8: =IFERROR(IF(VLOOKUP(K8,工作表2!$B$2:$H$800,6,0 )=0,"",VLOOKUP(K8,工作表2!$B$2:$H$800,6,0 )),"") | Q8: =IFERROR(IF(VLOOKUP(K8,工作表2!$B$2:$H$800,7,0 )=0,"",VLOOKUP(K8,工作表2!$B$2:$H$800,7,0 )),"") | S8: C+ | T8: 68 | V8: =D8 -> 0 | W8: =E8 -> 0 | X8: =F8 -> 0 | Y8: =IF(COUNTIF($V$2:$V$258,V8)=1,0,1) -> 1 | AF8: 電腦網路概論 | AG8: =IFERROR(_xlfn.XLOOKUP(AF8,$D$2:$D$180,$E$2:$E$180),0) -> 0
G9: =IF(LEFT(D9,3)="全民國","軍訓",LEFT(D9,3)) | H9: =IF(ISNA(VLOOKUP(F9,$S$2:$T$14,2,0)),"",VLOOKUP(F9,$S$2:$T$14,2,0)) | I9: =IF(ISBLANK(F9),"",IF(H9<60,"","V")) | J9: =IF(F9="停修","",IF(F9>=60,E9,"")) | K9: =IF(H9>59,IF(LEFT(D9,4)="大一英文","大一英文",(IF(LEFT(D9,2)="中文","中文",(IF(LEFT(D9,4)="全民國防","軍訓",(IF(LEFT(D9,4)="大一體育","大一體育",(IF(LEFT(D9,4)="大二體育","大二體育",(IF(LEFT(D9,4)="大二英文","大二英文",D9))))))))))),"") -> 0 | L9: =IFERROR(IF(VLOOKUP(K9,工作表2!$B$2:$H$800,2,0 )=0,"",VLOOKUP(K9,工作表2!$B$2:$H$800,2,0 )),"") | M9: =IFERROR(IF(VLOOKUP(K9,工作表2!$B$2:$H$800,3,0 )=0,"",VLOOKUP(K9,工作表2!$B$2:$H$800,3,0 )),"") | N9: =IFERROR(IF(VLOOKUP(K9,工作表2!$B$2:$H$800,4,0 )=0,"",VLOOKUP(K9,工作表2!$B$2:$H$800,4,0 )),"") | O9: =IFERROR(IF(VLOOKUP(K9,工作表2!$B$2:$H$800,5,0 )=0,"",VLOOKUP(K9,工作表2!$B$2:$H$800,5,0 )),"") | P9: =IFERROR(IF(VLOOKUP(K9,工作表2!$B$2:$H$800,6,0 )=0,"",VLOOKUP(K9,工作表2!$B$2:$H$800,6,0 )),"") | Q9: =IFERROR(IF(VLOOKUP(K9,工作表2!$B$2:$H$800,7,0 )=0,"",VLOOKUP(K9,工作表2!$B$2:$H$800,7,0 )),"") | S9: C | T9: 65 | V9: =D9 -> 0 | W9: =E9 -> 0 | X9: =F9 -> 0 | Y9: =IF(COUNTIF($V$2:$V$258,V9)=1,0,1) -> 1 | AF9: 通訊原理 | AG9: =IFERROR(_xlfn.XLOOKUP(AF9,$D$2:$D$180,$E$2:$E$180),0) -> 0
G10: =IF(LEFT(D10,3)="全民國","軍訓",LEFT(D10,3)) | H10: =IF(ISNA(VLOOKUP(F10,$S$2:$T$14,2,0)),"",VLOOKUP(F10,$S$2:$T$14,2,0)) | I10: =IF(ISBLANK(F10),"",IF(H10<60,"","V")) | J10: =IF(F10="停修","",IF(F10>=60,E10,"")) | K10: =IF(H10>59,IF(LEFT(D10,4)="大一英文","大一英文",(IF(LEFT(D10,2)="中文","中文",(IF(LEFT(D10,4)="全民國防","軍訓",(IF(LEFT(D10,4)="大一體育","大一體育",(IF(LEFT(D10,4)="大二體育","大二體育",(IF(LEFT(D10,4)="大二英文","大二英文",D10))))))))))),"") -> 0 | L10: =IFERROR(IF(VLOOKUP(K10,工作表2!$B$2:$H$800,2,0 )=0,"",VLOOKUP(K10,工作表2!$B$2:$H$800,2,0 )),"") | M10: =IFERROR(IF(VLOOKUP(K10,工作表2!$B$2:$H$800,3,0 )=0,"",VLOOKUP(K10,工作表2!$B$2:$H$800,3,0 )),"") | N10: =IFERROR(IF(VLOOKUP(K10,工作表2!$B$2:$H$800,4,0 )=0,"",VLOOKUP(K10,工作表2!$B$2:$H$800,4,0 )),"") | O10: =IFERROR(IF(VLOOKUP(K10,工作表2!$B$2:$H$800,5,0 )=0,"",VLOOKUP(K10,工作表2!$B$2:$H$800,5,0 )),"") | P10: =IFERROR(IF(VLOOKUP(K10,工作表2!$B$2:$H$800,6,0 )=0,"",VLOOKUP(K10,工作表2!$B$2:$H$800,6,0 )),"") | Q10: =IFERROR(IF(VLOOKUP(K10,工作表2!$B$2:$H$800,7,0 )=0,"",VLOOKUP(K10,工作表2!$B$2:$H$800,7,0 )),"") | S10: C- | T10: 61 | V10: =D10 -> 0 | W10: =E10 -> 0 | X10: =F10 -> 0 | Y10: =IF(COUNTIF($V$2:$V$258,V10)=1,0,1) -> 1 | AF10: 機率與統計 | AG10: =IFERROR(_xlfn.XLOOKUP(AF10,$D$2:$D$180,$E$2:$E$180),0) -> 0
G11: =IF(LEFT(D11,3)="全民國","軍訓",LEFT(D11,3)) | H11: =IF(ISNA(VLOOKUP(F11,$S$2:$T$14,2,0)),"",VLOOKUP(F11,$S$2:$T$14,2,0)) | I11: =IF(ISBLANK(F11),"",IF(H11<60,"","V")) | J11: =IF(F11="停修","",IF(F11>=60,E11,"")) | K11: =IF(H11>59,IF(LEFT(D11,4)="大一英文","大一英文",(IF(LEFT(D11,2)="中文","中文",(IF(LEFT(D11,4)="全民國防","軍訓",(IF(LEFT(D11,4)="大一體育","大一體育",(IF(LEFT(D11,4)="大二體育","大二體育",(IF(LEFT(D11,4)="大二英文","大二英文",D11))))))))))),"") -> 0 | L11: =IFERROR(IF(VLOOKUP(K11,工作表2!$B$2:$H$800,2,0 )=0,"",VLOOKUP(K11,工作表2!$B$2:$H$800,2,0 )),"") | M11: =IFERROR(IF(VLOOKUP(K11,工作表2!$B$2:$H$800,3,0 )=0,"",VLOOKUP(K11,工作表2!$B$2:$H$800,3,0 )),"") | N11: =IFERROR(IF(VLOOKUP(K11,工作表2!$B$2:$H$800,4,0 )=0,"",VLOOKUP(K11,工作表2!$B$2:$H$800,4,0 )),"") | O11: =IFERROR(IF(VLOOKUP(K11,工作表2!$B$2:$H$800,5,0 )=0,"",VLOOKUP(K11,工作表2!$B$2:$H$800,5,0 )),"") | P11: =IFERROR(IF(VLOOKUP(K11,工作表2!$B$2:$H$800,6,0 )=0,"",VLOOKUP(K11,工作表2!$B$2:$H$800,6,0 )),"") | Q11: =IFERROR(IF(VLOOKUP(K11,工作表2!$B$2:$H$800,7,0 )=0,"",VLOOKUP(K11,工作表2!$B$2:$H$800,7,0 )),"") | S11: 抵免 | T11: 99 | V11: =D11 -> 0 | W11: =E11 -> 0 | X11: =F11 -> 0 | Y11: =IF(COUNTIF($V$2:$V$258,V11)=1,0,1) -> 1 | AF11: 數位訊號處理導論 | AG11: =IFERROR(_xlfn.XLOOKUP(AF11,$D$2:$D$180,$E$2:$E$180),0) -> 0
G12: =IF(LEFT(D12,3)="全民國","軍訓",LEFT(D12,3)) | H12: =IF(ISNA(VLOOKUP(F12,$S$2:$T$14,2,0)),"",VLOOKUP(F12,$S$2:$T$14,2,0)) | I12: =IF(ISBLANK(F12),"",IF(H12<60,"","V")) | J12: =IF(F12="停修","",IF(F12>=60,E12,"")) | K12: =IF(H12>59,IF(LEFT(D12,4)="大一英文","大一英文",(IF(LEFT(D12,2)="中文","中文",(IF(LEFT(D12,4)="全民國防","軍訓",(IF(LEFT(D12,4)="大一體育","大一體育",(IF(LEFT(D12,4)="大二體育","大二體育",(IF(LEFT(D12,4)="大二英文","大二英文",D12))))))))))),"") -> 0 | L12: =IFERROR(IF(VLOOKUP(K12,工作表2!$B$2:$H$800,2,0 )=0,"",VLOOKUP(K12,工作表2!$B$2:$H$800,2,0 )),"") | M12: =IFERROR(IF(VLOOKUP(K12,工作表2!$B$2:$H$800,3,0 )=0,"",VLOOKUP(K12,工作表2!$B$2:$H$800,3,0 )),"") | N12: =IFERROR(IF(VLOOKUP(K12,工作表2!$B$2:$H$800,4,0 )=0,"",VLOOKUP(K12,工作表2!$B$2:$H$800,4,0 )),"") | O12: =IFERROR(IF(VLOOKUP(K12,工作表2!$B$2:$H$800,5,0 )=0,"",VLOOKUP(K12,工作表2!$B$2:$H$800,5,0 )),"") | P12: =IFERROR(IF(VLOOKUP(K12,工作表2!$B$2:$H$800,6,0 )=0,"",VLOOKUP(K12,工作表2!$B$2:$H$800,6,0 )),"") | Q12: =IFERROR(IF(VLOOKUP(K12,工作表2!$B$2:$H$800,7,0 )=0,"",VLOOKUP(K12,工作表2!$B$2:$H$800,7,0 )),"") | S12: D | T12: 55 | V12: =D12 -> 0 | W12: =E12 -> 0 | X12: =F12 -> 0 | Y12: =IF(COUNTIF($V$2:$V$258,V12)=1,0,1) -> 1 | AF12: 基礎通訊實驗 | AG12: =IFERROR(_xlfn.XLOOKUP(AF12,$D$2:$D$180,$E$2:$E$180),0) -> 0
G13: =IF(LEFT(D13,3)="全民國","軍訓",LEFT(D13,3)) | H13: =IF(ISNA(VLOOKUP(F13,$S$2:$T$14,2,0)),"",VLOOKUP(F13,$S$2:$T$14,2,0)) | I13: =IF(ISBLANK(F13),"",IF(H13<60,"","V")) | J13: =IF(F13="停修","",IF(F13>=60,E13,"")) | K13: =IF(H13>59,IF(LEFT(D13,4)="大一英文","大一英文",(IF(LEFT(D13,2)="中文","中文",(IF(LEFT(D13,4)="全民國防","軍訓",(IF(LEFT(D13,4)="大一體育","大一體育",(IF(LEFT(D13,4)="大二體育","大二體育",(IF(LEFT(D13,4)="大二英文","大二英文",D13))))))))))),"") -> 0 | L13: =IFERROR(IF(VLOOKUP(K13,工作表2!$B$2:$H$800,2,0 )=0,"",VLOOKUP(K13,工作表2!$B$2:$H$800,2,0 )),"") | M13: =IFERROR(IF(VLOOKUP(K13,工作表2!$B$2:$H$800,3,0 )=0,"",VLOOKUP(K13,工作表2!$B$2:$H$800,3,0 )),"") | N13: =IFERROR(IF(VLOOKUP(K13,工作表2!$B$2:$H$800,4,0 )=0,"",VLOOKUP(K13,工作表2!$B$2:$H$800,4,0 )),"") | O13: =IFERROR(IF(VLOOKUP(K13,工作表2!$B$2:$H$800,5,0 )=0,"",VLOOKUP(K13,工作表2!$B$2:$H$800,5,0 )),"") | P13: =IFERROR(IF(VLOOKUP(K13,工作表2!$B$2:$H$800,6,0 )=0,"",VLOOKUP(K13,工作表2!$B$2:$H$800,6,0 )),"") | Q13: =IFERROR(IF(VLOOKUP(K13,工作表2!$B$2:$H$800,7,0 )=0,"",VLOOKUP(K13,工作表2!$B$2:$H$800,7,0 )),"") | S13: E | T13: 49 | V13: =D13 -> 0 | W13: =E13 -> 0 | X13: =F13 -> 0 | Y13: =IF(COUNTIF($V$2:$V$258,V13)=1,0,1) -> 1 | AF13: 射頻電路實驗 | AG13: =IFERROR(_xlfn.XLOOKUP(AF13,$D$2:$D$180,$E$2:$E$180),0) -> 0
G14: =IF(LEFT(D14,3)="全民國","軍訓",LEFT(D14,3)) | H14: =IF(ISNA(VLOOKUP(F14,$S$2:$T$14,2,0)),"",VLOOKUP(F14,$S$2:$T$14,2,0)) | I14: =IF(ISBLANK(F14),"",IF(H14<60,"","V")) | J14: =IF(F14="停修","",IF(F14>=60,E14,"")) | K14: =IF(H14>59,IF(LEFT(D14,4)="大一英文","大一英文",(IF(LEFT(D14,2)="中文","中文",(IF(LEFT(D14,4)="全民國防","軍訓",(IF(LEFT(D14,4)="大一體育","大一體育",(IF(LEFT(D14,4)="大二體育","大二體育",(IF(LEFT(D14,4)="大二英文","大二英文",D14))))))))))),"") -> 0 | L14: =IFERROR(IF(VLOOKUP(K14,工作表2!$B$2:$H$800,2,0 )=0,"",VLOOKUP(K14,工作表2!$B$2:$H$800,2,0 )),"") | M14: =IFERROR(IF(VLOOKUP(K14,工作表2!$B$2:$H$800,3,0 )=0,"",VLOOKUP(K14,工作表2!$B$2:$H$800,3,0 )),"") | N14: =IFERROR(IF(VLOOKUP(K14,工作表2!$B$2:$H$800,4,0 )=0,"",VLOOKUP(K14,工作表2!$B$2:$H$800,4,0 )),"") | O14: =IFERROR(IF(VLOOKUP(K14,工作表2!$B$2:$H$800,5,0 )=0,"",VLOOKUP(K14,工作表2!$B$2:$H$800,5,0 )),"") | P14: =IFERROR(IF(VLOOKUP(K14,工作表2!$B$2:$H$800,6,0 )=0,"",VLOOKUP(K14,工作表2!$B$2:$H$800,6,0 )),"") | Q14: =IFERROR(IF(VLOOKUP(K14,工作表2!$B$2:$H$800,7,0 )=0,"",VLOOKUP(K14,工作表2!$B$2:$H$800,7,0 )),"") | S14: X | T14: 0 | V14: =D14 -> 0 | W14: =E14 -> 0 | X14: =F14 -> 0 | Y14: =IF(COUNTIF($V$2:$V$258,V14)=1,0,1) -> 1 | AF14: 數位系統雛型設計 | AG14: =IFERROR(_xlfn.XLOOKUP(AF14,$D$2:$D$180,$E$2:$E$180),0) -> 0
G15: =IF(LEFT(D15,3)="全民國","軍訓",LEFT(D15,3)) | H15: =IF(ISNA(VLOOKUP(F15,$S$2:$T$14,2,0)),"",VLOOKUP(F15,$S$2:$T$14,2,0)) | I15: =IF(ISBLANK(F15),"",IF(H15<60,"","V")) | J15: =IF(F15="停修","",IF(F15>=60,E15,"")) | K15: =IF(H15>59,IF(LEFT(D15,4)="大一英文","大一英文",(IF(LEFT(D15,2)="中文","中文",(IF(LEFT(D15,4)="全民國防","軍訓",(IF(LEFT(D15,4)="大一體育","大一體育",(IF(LEFT(D15,4)="大二體育","大二體育",(IF(LEFT(D15,4)="大二英文","大二英文",D15))))))))))),"") -> 0 | L15: =IFERROR(IF(VLOOKUP(K15,工作表2!$B$2:$H$800,2,0 )=0,"",VLOOKUP(K15,工作表2!$B$2:$H$800,2,0 )),"") | M15: =IFERROR(IF(VLOOKUP(K15,工作表2!$B$2:$H$800,3,0 )=0,"",VLOOKUP(K15,工作表2!$B$2:$H$800,3,0 )),"") | N15: =IFERROR(IF(VLOOKUP(K15,工作表2!$B$2:$H$800,4,0 )=0,"",VLOOKUP(K15,工作表2!$B$2:$H$800,4,0 )),"") | O15: =IFERROR(IF(VLOOKUP(K15,工作表2!$B$2:$H$800,5,0 )=0,"",VLOOKUP(K15,工作表2!$B$2:$H$800,5,0 )),"") | P15: =IFERROR(IF(VLOOKUP(K15,工作表2!$B$2:$H$800,6,0 )=0,"",VLOOKUP(K15,工作表2!$B$2:$H$800,6,0 )),"") | Q15: =IFERROR(IF(VLOOKUP(K15,工作表2!$B$2:$H$800,7,0 )=0,"",VLOOKUP(K15,工作表2!$B$2:$H$800,7,0 )),"") | V15: =D15 -> 0 | W15: =E15 -> 0 | X15: =F15 -> 0 | Y15: =IF(COUNTIF($V$2:$V$258,V15)=1,0,1) -> 1 | AF15: 超大型積體電路設計導論 | AG15: =IFERROR(_xlfn.XLOOKUP(AF15,$D$2:$D$180,$E$2:$E$180),0) -> 0
G16: =IF(LEFT(D16,3)="全民國","軍訓",LEFT(D16,3)) | H16: =IF(ISNA(VLOOKUP(F16,$S$2:$T$14,2,0)),"",VLOOKUP(F16,$S$2:$T$14,2,0)) | I16: =IF(ISBLANK(F16),"",IF(H16<60,"","V")) | J16: =IF(F16="停修","",IF(F16>=60,E16,"")) | K16: =IF(H16>59,IF(LEFT(D16,4)="大一英文","大一英文",(IF(LEFT(D16,2)="中文","中文",(IF(LEFT(D16,4)="全民國防","軍訓",(IF(LEFT(D16,4)="大一體育","大一體育",(IF(LEFT(D16,4)="大二體育","大二體育",(IF(LEFT(D16,4)="大二英文","大二英文",D16))))))))))),"") -> 0 | L16: =IFERROR(IF(VLOOKUP(K16,工作表2!$B$2:$H$800,2,0 )=0,"",VLOOKUP(K16,工作表2!$B$2:$H$800,2,0 )),"") | M16: =IFERROR(IF(VLOOKUP(K16,工作表2!$B$2:$H$800,3,0 )=0,"",VLOOKUP(K16,工作表2!$B$2:$H$800,3,0 )),"") | N16: =IFERROR(IF(VLOOKUP(K16,工作表2!$B$2:$H$800,4,0 )=0,"",VLOOKUP(K16,工作表2!$B$2:$H$800,4,0 )),"") | O16: =IFERROR(IF(VLOOKUP(K16,工作表2!$B$2:$H$800,5,0 )=0,"",VLOOKUP(K16,工作表2!$B$2:$H$800,5,0 )),"") | P16: =IFERROR(IF(VLOOKUP(K16,工作表2!$B$2:$H$800,6,0 )=0,"",VLOOKUP(K16,工作表2!$B$2:$H$800,6,0 )),"") | Q16: =IFERROR(IF(VLOOKUP(K16,工作表2!$B$2:$H$800,7,0 )=0,"",VLOOKUP(K16,工作表2!$B$2:$H$800,7,0 )),"") | V16: =D16 -> 0 | W16: =E16 -> 0 | X16: =F16 -> 0 | Y16: =IF(COUNTIF($V$2:$V$258,V16)=1,0,1) -> 1 | AF16: 類比積體電路設計導論 | AG16: =IFERROR(_xlfn.XLOOKUP(AF16,$D$2:$D$180,$E$2:$E$180),0) -> 0
G17: =IF(LEFT(D17,3)="全民國","軍訓",LEFT(D17,3)) | H17: =IF(ISNA(VLOOKUP(F17,$S$2:$T$14,2,0)),"",VLOOKUP(F17,$S$2:$T$14,2,0)) | I17: =IF(ISBLANK(F17),"",IF(H17<60,"","V")) | J17: =IF(F17="停修","",IF(F17>=60,E17,"")) | K17: =IF(H17>59,IF(LEFT(D17,4)="大一英文","大一英文",(IF(LEFT(D17,2)="中文","中文",(IF(LEFT(D17,4)="全民國防","軍訓",(IF(LEFT(D17,4)="大一體育","大一體育",(IF(LEFT(D17,4)="大二體育","大二體育",(IF(LEFT(D17,4)="大二英文","大二英文",D17))))))))))),"") -> 0 | L17: =IFERROR(IF(VLOOKUP(K17,工作表2!$B$2:$H$800,2,0 )=0,"",VLOOKUP(K17,工作表2!$B$2:$H$800,2,0 )),"") | M17: =IFERROR(IF(VLOOKUP(K17,工作表2!$B$2:$H$800,3,0 )=0,"",VLOOKUP(K17,工作表2!$B$2:$H$800,3,0 )),"") | N17: =IFERROR(IF(VLOOKUP(K17,工作表2!$B$2:$H$800,4,0 )=0,"",VLOOKUP(K17,工作表2!$B$2:$H$800,4,0 )),"") | O17: =IFERROR(IF(VLOOKUP(K17,工作表2!$B$2:$H$800,5,0 )=0,"",VLOOKUP(K17,工作表2!$B$2:$H$800,5,0 )),"") | P17: =IFERROR(IF(VLOOKUP(K17,工作表2!$B$2:$H$800,6,0 )=0,"",VLOOKUP(K17,工作表2!$B$2:$H$800,6,0 )),"") | Q17: =IFERROR(IF(VLOOKUP(K17,工作表2!$B$2:$H$800,7,0 )=0,"",VLOOKUP(K17,工作表2!$B$2:$H$800,7,0 )),"") | V17: =D17 -> 0 | W17: =E17 -> 0 | X17: =F17 -> 0 | Y17: =IF(COUNTIF($V$2:$V$258,V17)=1,0,1) -> 1 | AF17: 數位系統雛型設計實驗 | AG17: =IFERROR(_xlfn.XLOOKUP(AF17,$D$2:$D$180,$E$2:$E$180),0) -> 0
G18: =IF(LEFT(D18,3)="全民國","軍訓",LEFT(D18,3)) | H18: =IF(ISNA(VLOOKUP(F18,$S$2:$T$14,2,0)),"",VLOOKUP(F18,$S$2:$T$14,2,0)) | I18: =IF(ISBLANK(F18),"",IF(H18<60,"","V")) | J18: =IF(F18="停修","",IF(F18>=60,E18,"")) | K18: =IF(H18>59,IF(LEFT(D18,4)="大一英文","大一英文",(IF(LEFT(D18,2)="中文","中文",(IF(LEFT(D18,4)="全民國防","軍訓",(IF(LEFT(D18,4)="大一體育","大一體育",(IF(LEFT(D18,4)="大二體育","大二體育",(IF(LEFT(D18,4)="大二英文","大二英文",D18))))))))))),"") -> 0 | L18: =IFERROR(IF(VLOOKUP(K18,工作表2!$B$2:$H$800,2,0 )=0,"",VLOOKUP(K18,工作表2!$B$2:$H$800,2,0 )),"") | M18: =IFERROR(IF(VLOOKUP(K18,工作表2!$B$2:$H$800,3,0 )=0,"",VLOOKUP(K18,工作表2!$B$2:$H$800,3,0 )),"") | N18: =IFERROR(IF(VLOOKUP(K18,工作表2!$B$2:$H$800,4,0 )=0,"",VLOOKUP(K18,工作表2!$B$2:$H$800,4,0 )),"") | O18: =IFERROR(IF(VLOOKUP(K18,工作表2!$B$2:$H$800,5,0 )=0,"",VLOOKUP(K18,工作表2!$B$2:$H$800,5,0 )),"") | P18: =IFERROR(IF(VLOOKUP(K18,工作表2!$B$2:$H$800,6,0 )=0,"",VLOOKUP(K18,工作表2!$B$2:$H$800,6,0 )),"") | Q18: =IFERROR(IF(VLOOKUP(K18,工作表2!$B$2:$H$800,7,0 )=0,"",VLOOKUP(K18,工作表2!$B$2:$H$800,7,0 )),"") | V18: =D18 -> 0 | W18: =E18 -> 0 | X18: =F18 -> 0 | Y18: =IF(COUNTIF($V$2:$V$258,V18)=1,0,1) -> 1 | AF18: 積體電路實驗 | AG18: =IFERROR(_xlfn.XLOOKUP(AF18,$D$2:$D$180,$E$2:$E$180),0) -> 0
G19: =IF(LEFT(D19,3)="全民國","軍訓",LEFT(D19,3)) | H19: =IF(ISNA(VLOOKUP(F19,$S$2:$T$14,2,0)),"",VLOOKUP(F19,$S$2:$T$14,2,0)) | I19: =IF(ISBLANK(F19),"",IF(H19<60,"","V")) | J19: =IF(F19="停修","",IF(F19>=60,E19,"")) | K19: =IF(H19>59,IF(LEFT(D19,4)="大一英文","大一英文",(IF(LEFT(D19,2)="中文","中文",(IF(LEFT(D19,4)="全民國防","軍訓",(IF(LEFT(D19,4)="大一體育","大一體育",(IF(LEFT(D19,4)="大二體育","大二體育",(IF(LEFT(D19,4)="大二英文","大二英文",D19))))))))))),"") -> 0 | L19: =IFERROR(IF(VLOOKUP(K19,工作表2!$B$2:$H$800,2,0 )=0,"",VLOOKUP(K19,工作表2!$B$2:$H$800,2,0 )),"") | M19: =IFERROR(IF(VLOOKUP(K19,工作表2!$B$2:$H$800,3,0 )=0,"",VLOOKUP(K19,工作表2!$B$2:$H$800,3,0 )),"") | N19: =IFERROR(IF(VLOOKUP(K19,工作表2!$B$2:$H$800,4,0 )=0,"",VLOOKUP(K19,工作表2!$B$2:$H$800,4,0 )),"") | O19: =IFERROR(IF(VLOOKUP(K19,工作表2!$B$2:$H$800,5,0 )=0,"",VLOOKUP(K19,工作表2!$B$2:$H$800,5,0 )),"") | P19: =IFERROR(IF(VLOOKUP(K19,工作表2!$B$2:$H$800,6,0 )=0,"",VLOOKUP(K19,工作表2!$B$2:$H$800,6,0 )),"") | Q19: =IFERROR(IF(VLOOKUP(K19,工作表2!$B$2:$H$800,7,0 )=0,"",VLOOKUP(K19,工作表2!$B$2:$H$800,7,0 )),"") | V19: =D19 -> 0 | W19: =E19 -> 0 | X19: =F19 -> 0 | Y19: =IF(COUNTIF($V$2:$V$258,V19)=1,0,1) -> 1 | AF19: 感測器原理 | AG19: =IFERROR(_xlfn.XLOOKUP(AF19,$D$2:$D$180,$E$2:$E$180),0) -> 0
G20: =IF(LEFT(D20,3)="全民國","軍訓",LEFT(D20,3)) | H20: =IF(ISNA(VLOOKUP(F20,$S$2:$T$14,2,0)),"",VLOOKUP(F20,$S$2:$T$14,2,0)) | I20: =IF(ISBLANK(F20),"",IF(H20<60,"","V")) | J20: =IF(F20="停修","",IF(F20>=60,E20,"")) | K20: =IF(H20>59,IF(LEFT(D20,4)="大一英文","大一英文",(IF(LEFT(D20,2)="中文","中文",(IF(LEFT(D20,4)="全民國防","軍訓",(IF(LEFT(D20,4)="大一體育","大一體育",(IF(LEFT(D20,4)="大二體育","大二體育",(IF(LEFT(D20,4)="大二英文","大二英文",D20))))))))))),"") -> 0 | L20: =IFERROR(IF(VLOOKUP(K20,工作表2!$B$2:$H$800,2,0 )=0,"",VLOOKUP(K20,工作表2!$B$2:$H$800,2,0 )),"") | M20: =IFERROR(IF(VLOOKUP(K20,工作表2!$B$2:$H$800,3,0 )=0,"",VLOOKUP(K20,工作表2!$B$2:$H$800,3,0 )),"") | N20: =IFERROR(IF(VLOOKUP(K20,工作表2!$B$2:$H$800,4,0 )=0,"",VLOOKUP(K20,工作表2!$B$2:$H$800,4,0 )),"") | O20: =IFERROR(IF(VLOOKUP(K20,工作表2!$B$2:$H$800,5,0 )=0,"",VLOOKUP(K20,工作表2!$B$2:$H$800,5,0 )),"") | P20: =IFERROR(IF(VLOOKUP(K20,工作表2!$B$2:$H$800,6,0 )=0,"",VLOOKUP(K20,工作表2!$B$2:$H$800,6,0 )),"") | Q20: =IFERROR(IF(VLOOKUP(K20,工作表2!$B$2:$H$800,7,0 )=0,"",VLOOKUP(K20,工作表2!$B$2:$H$800,7,0 )),"") | V20: =D20 -> 0 | W20: =E20 -> 0 | X20: =F20 -> 0 | Y20: =IF(COUNTIF($V$2:$V$258,V20)=1,0,1) -> 1 | AF20: Python程式設計 | AG20: =IFERROR(_xlfn.XLOOKUP(AF20,$D$2:$D$180,$E$2:$E$180),0) -> 0
G21: =IF(LEFT(D21,3)="全民國","軍訓",LEFT(D21,3)) | H21: =IF(ISNA(VLOOKUP(F21,$S$2:$T$14,2,0)),"",VLOOKUP(F21,$S$2:$T$14,2,0)) | I21: =IF(ISBLANK(F21),"",IF(H21<60,"","V")) | J21: =IF(F21="停修","",IF(F21>=60,E21,"")) | K21: =IF(H21>59,IF(LEFT(D21,4)="大一英文","大一英文",(IF(LEFT(D21,2)="中文","中文",(IF(LEFT(D21,4)="全民國防","軍訓",(IF(LEFT(D21,4)="大一體育","大一體育",(IF(LEFT(D21,4)="大二體育","大二體育",(IF(LEFT(D21,4)="大二英文","大二英文",D21))))))))))),"") -> 0 | L21: =IFERROR(IF(VLOOKUP(K21,工作表2!$B$2:$H$800,2,0 )=0,"",VLOOKUP(K21,工作表2!$B$2:$H$800,2,0 )),"") | M21: =IFERROR(IF(VLOOKUP(K21,工作表2!$B$2:$H$800,3,0 )=0,"",VLOOKUP(K21,工作表2!$B$2:$H$800,3,0 )),"") | N21: =IFERROR(IF(VLOOKUP(K21,工作表2!$B$2:$H$800,4,0 )=0,"",VLOOKUP(K21,工作表2!$B$2:$H$800,4,0 )),"") | O21: =IFERROR(IF(VLOOKUP(K21,工作表2!$B$2:$H$800,5,0 )=0,"",VLOOKUP(K21,工作表2!$B$2:$H$800,5,0 )),"") | P21: =IFERROR(IF(VLOOKUP(K21,工作表2!$B$2:$H$800,6,0 )=0,"",VLOOKUP(K21,工作表2!$B$2:$H$800,6,0 )),"") | Q21: =IFERROR(IF(VLOOKUP(K21,工作表2!$B$2:$H$800,7,0 )=0,"",VLOOKUP(K21,工作表2!$B$2:$H$800,7,0 )),"") | V21: =D21 -> 0 | W21: =E21 -> 0 | X21: =F21 -> 0 | Y21: =IF(COUNTIF($V$2:$V$258,V21)=1,0,1) -> 1 | AF21: 電腦網路概論 | AG21: =IFERROR(_xlfn.XLOOKUP(AF21,$D$2:$D$180,$E$2:$E$180),0) -> 0
G22: =IF(LEFT(D22,3)="全民國","軍訓",LEFT(D22,3)) | H22: =IF(ISNA(VLOOKUP(F22,$S$2:$T$14,2,0)),"",VLOOKUP(F22,$S$2:$T$14,2,0)) | I22: =IF(ISBLANK(F22),"",IF(H22<60,"","V")) | J22: =IF(F22="停修","",IF(F22>=60,E22,"")) | K22: =IF(H22>59,IF(LEFT(D22,4)="大一英文","大一英文",(IF(LEFT(D22,2)="中文","中文",(IF(LEFT(D22,4)="全民國防","軍訓",(IF(LEFT(D22,4)="大一體育","大一體育",(IF(LEFT(D22,4)="大二體育","大二體育",(IF(LEFT(D22,4)="大二英文","大二英文",D22))))))))))),"") -> 0 | L22: =IFERROR(IF(VLOOKUP(K22,工作表2!$B$2:$H$800,2,0 )=0,"",VLOOKUP(K22,工作表2!$B$2:$H$800,2,0 )),"") | M22: =IFERROR(IF(VLOOKUP(K22,工作表2!$B$2:$H$800,3,0 )=0,"",VLOOKUP(K22,工作表2!$B$2:$H$800,3,0 )),"") | N22: =IFERROR(IF(VLOOKUP(K22,工作表2!$B$2:$H$800,4,0 )=0,"",VLOOKUP(K22,工作表2!$B$2:$H$800,4,0 )),"") | O22: =IFERROR(IF(VLOOKUP(K22,工作表2!$B$2:$H$800,5,0 )=0,"",VLOOKUP(K22,工作表2!$B$2:$H$800,5,0 )),"") | P22: =IFERROR(IF(VLOOKUP(K22,工作表2!$B$2:$H$800,6,0 )=0,"",VLOOKUP(K22,工作表2!$B$2:$H$800,6,0 )),"") | Q22: =IFERROR(IF(VLOOKUP(K22,工作表2!$B$2:$H$800,7,0 )=0,"",VLOOKUP(K22,工作表2!$B$2:$H$800,7,0 )),"") | V22: =D22 -> 0 | W22: =E22 -> 0 | X22: =F22 -> 0 | Y22: =IF(COUNTIF($V$2:$V$258,V22)=1,0,1) -> 1 | AF22: 機器學習 | AG22: =IFERROR(_xlfn.XLOOKUP(AF22,$D$2:$D$180,$E$2:$E$180),0) -> 0
G23: =IF(LEFT(D23,3)="全民國","軍訓",LEFT(D23,3)) | H23: =IF(ISNA(VLOOKUP(F23,$S$2:$T$14,2,0)),"",VLOOKUP(F23,$S$2:$T$14,2,0)) | I23: =IF(ISBLANK(F23),"",IF(H23<60,"","V")) | J23: =IF(F23="停修","",IF(F23>=60,E23,"")) | K23: =IF(H23>59,IF(LEFT(D23,4)="大一英文","大一英文",(IF(LEFT(D23,2)="中文","中文",(IF(LEFT(D23,4)="全民國防","軍訓",(IF(LEFT(D23,4)="大一體育","大一體育",(IF(LEFT(D23,4)="大二體育","大二體育",(IF(LEFT(D23,4)="大二英文","大二英文",D23))))))))))),"") -> 0 | L23: =IFERROR(IF(VLOOKUP(K23,工作表2!$B$2:$H$800,2,0 )=0,"",VLOOKUP(K23,工作表2!$B$2:$H$800,2,0 )),"") | M23: =IFERROR(IF(VLOOKUP(K23,工作表2!$B$2:$H$800,3,0 )=0,"",VLOOKUP(K23,工作表2!$B$2:$H$800,3,0 )),"") | N23: =IFERROR(IF(VLOOKUP(K23,工作表2!$B$2:$H$800,4,0 )=0,"",VLOOKUP(K23,工作表2!$B$2:$H$800,4,0 )),"") | O23: =IFERROR(IF(VLOOKUP(K23,工作表2!$B$2:$H$800,5,0 )=0,"",VLOOKUP(K23,工作表2!$B$2:$H$800,5,0 )),"") | P23: =IFERROR(IF(VLOOKUP(K23,工作表2!$B$2:$H$800,6,0 )=0,"",VLOOKUP(K23,工作表2!$B$2:$H$800,6,0 )),"") | Q23: =IFERROR(IF(VLOOKUP(K23,工作表2!$B$2:$H$800,7,0 )=0,"",VLOOKUP(K23,工作表2!$B$2:$H$800,7,0 )),"") | V23: =D23 -> 0 | W23: =E23 -> 0 | X23: =F23 -> 0 | Y23: =IF(COUNTIF($V$2:$V$258,V23)=1,0,1) -> 1 | AF23: 網路數據應用實驗 | AG23: =IFERROR(_xlfn.XLOOKUP(AF23,$D$2:$D$180,$E$2:$E$180),0) -> 0
G24: =IF(LEFT(D24,3)="全民國","軍訓",LEFT(D24,3)) | H24: =IF(ISNA(VLOOKUP(F24,$S$2:$T$14,2,0)),"",VLOOKUP(F24,$S$2:$T$14,2,0)) | I24: =IF(ISBLANK(F24),"",IF(H24<60,"","V")) | J24: =IF(F24="停修","",IF(F24>=60,E24,"")) | K24: =IF(H24>59,IF(LEFT(D24,4)="大一英文","大一英文",(IF(LEFT(D24,2)="中文","中文",(IF(LEFT(D24,4)="全民國防","軍訓",(IF(LEFT(D24,4)="大一體育","大一體育",(IF(LEFT(D24,4)="大二體育","大二體育",(IF(LEFT(D24,4)="大二英文","大二英文",D24))))))))))),"") -> 0 | L24: =IFERROR(IF(VLOOKUP(K24,工作表2!$B$2:$H$800,2,0 )=0,"",VLOOKUP(K24,工作表2!$B$2:$H$800,2,0 )),"") | M24: =IFERROR(IF(VLOOKUP(K24,工作表2!$B$2:$H$800,3,0 )=0,"",VLOOKUP(K24,工作表2!$B$2:$H$800,3,0 )),"") | N24: =IFERROR(IF(VLOOKUP(K24,工作表2!$B$2:$H$800,4,0 )=0,"",VLOOKUP(K24,工作表2!$B$2:$H$800,4,0 )),"") | O24: =IFERROR(IF(VLOOKUP(K24,工作表2!$B$2:$H$800,5,0 )=0,"",VLOOKUP(K24,工作表2!$B$2:$H$800,5,0 )),"") | P24: =IFERROR(IF(VLOOKUP(K24,工作表2!$B$2:$H$800,6,0 )=0,"",VLOOKUP(K24,工作表2!$B$2:$H$800,6,0 )),"") | Q24: =IFERROR(IF(VLOOKUP(K24,工作表2!$B$2:$H$800,7,0 )=0,"",VLOOKUP(K24,工作表2!$B$2:$H$800,7,0 )),"") | V24: =D24 -> 0 | W24: =E24 -> 0 | X24: =F24 -> 0 | Y24: =IF(COUNTIF($V$2:$V$258,V24)=1,0,1) -> 1 | AF24: 智慧電子應用設計實驗 | AG24: =IFERROR(_xlfn.XLOOKUP(AF24,$D$2:$D$180,$E$2:$E$180),0) -> 0
G25: =IF(LEFT(D25,3)="全民國","軍訓",LEFT(D25,3)) | H25: =IF(ISNA(VLOOKUP(F25,$S$2:$T$14,2,0)),"",VLOOKUP(F25,$S$2:$T$14,2,0)) | I25: =IF(ISBLANK(F25),"",IF(H25<60,"","V")) | J25: =IF(F25="停修","",IF(F25>=60,E25,"")) | K25: =IF(H25>59,IF(LEFT(D25,4)="大一英文","大一英文",(IF(LEFT(D25,2)="中文","中文",(IF(LEFT(D25,4)="全民國防","軍訓",(IF(LEFT(D25,4)="大一體育","大一體育",(IF(LEFT(D25,4)="大二體育","大二體育",(IF(LEFT(D25,4)="大二英文","大二英文",D25))))))))))),"") -> 0 | L25: =IFERROR(IF(VLOOKUP(K25,工作表2!$B$2:$H$800,2,0 )=0,"",VLOOKUP(K25,工作表2!$B$2:$H$800,2,0 )),"") | M25: =IFERROR(IF(VLOOKUP(K25,工作表2!$B$2:$H$800,3,0 )=0,"",VLOOKUP(K25,工作表2!$B$2:$H$800,3,0 )),"") | N25: =IFERROR(IF(VLOOKUP(K25,工作表2!$B$2:$H$800,4,0 )=0,"",VLOOKUP(K25,工作表2!$B$2:$H$800,4,0 )),"") | O25: =IFERROR(IF(VLOOKUP(K25,工作表2!$B$2:$H$800,5,0 )=0,"",VLOOKUP(K25,工作表2!$B$2:$H$800,5,0 )),"") | P25: =IFERROR(IF(VLOOKUP(K25,工作表2!$B$2:$H$800,6,0 )=0,"",VLOOKUP(K25,工作表2!$B$2:$H$800,6,0 )),"") | Q25: =IFERROR(IF(VLOOKUP(K25,工作表2!$B$2:$H$800,7,0 )=0,"",VLOOKUP(K25,工作表2!$B$2:$H$800,7,0 )),"") | V25: =D25 -> 0 | W25: =E25 -> 0 | X25: =F25 -> 0 | Y25: =IF(COUNTIF($V$2:$V$258,V25)=1,0,1) -> 1
G26: =IF(LEFT(D26,3)="全民國","軍訓",LEFT(D26,3)) | H26: =IF(ISNA(VLOOKUP(F26,$S$2:$T$14,2,0)),"",VLOOKUP(F26,$S$2:$T$14,2,0)) | I26: =IF(ISBLANK(F26),"",IF(H26<60,"","V")) | J26: =IF(F26="停修","",IF(F26>=60,E26,"")) | K26: =IF(H26>59,IF(LEFT(D26,4)="大一英文","大一英文",(IF(LEFT(D26,2)="中文","中文",(IF(LEFT(D26,4)="全民國防","軍訓",(IF(LEFT(D26,4)="大一體育","大一體育",(IF(LEFT(D26,4)="大二體育","大二體育",(IF(LEFT(D26,4)="大二英文","大二英文",D26))))))))))),"") -> 0 | L26: =IFERROR(IF(VLOOKUP(K26,工作表2!$B$2:$H$800,2,0 )=0,"",VLOOKUP(K26,工作表2!$B$2:$H$800,2,0 )),"") | M26: =IFERROR(IF(VLOOKUP(K26,工作表2!$B$2:$H$800,3,0 )=0,"",VLOOKUP(K26,工作表2!$B$2:$H$800,3,0 )),"") | N26: =IFERROR(IF(VLOOKUP(K26,工作表2!$B$2:$H$800,4,0 )=0,"",VLOOKUP(K26,工作表2!$B$2:$H$800,4,0 )),"") | O26: =IFERROR(IF(VLOOKUP(K26,工作表2!$B$2:$H$800,5,0 )=0,"",VLOOKUP(K26,工作表2!$B$2:$H$800,5,0 )),"") | P26: =IFERROR(IF(VLOOKUP(K26,工作表2!$B$2:$H$800,6,0 )=0,"",VLOOKUP(K26,工作表2!$B$2:$H$800,6,0 )),"") | Q26: =IFERROR(IF(VLOOKUP(K26,工作表2!$B$2:$H$800,7,0 )=0,"",VLOOKUP(K26,工作表2!$B$2:$H$800,7,0 )),"") | V26: =D26 -> 0 | W26: =E26 -> 0 | X26: =F26 -> 0 | Y26: =IF(COUNTIF($V$2:$V$258,V26)=1,0,1) -> 1
G27: =IF(LEFT(D27,3)="全民國","軍訓",LEFT(D27,3)) | H27: =IF(ISNA(VLOOKUP(F27,$S$2:$T$14,2,0)),"",VLOOKUP(F27,$S$2:$T$14,2,0)) | I27: =IF(ISBLANK(F27),"",IF(H27<60,"","V")) | J27: =IF(F27="停修","",IF(F27>=60,E27,"")) | K27: =IF(H27>59,IF(LEFT(D27,4)="大一英文","大一英文",(IF(LEFT(D27,2)="中文","中文",(IF(LEFT(D27,4)="全民國防","軍訓",(IF(LEFT(D27,4)="大一體育","大一體育",(IF(LEFT(D27,4)="大二體育","大二體育",(IF(LEFT(D27,4)="大二英文","大二英文",D27))))))))))),"") -> 0 | L27: =IFERROR(IF(VLOOKUP(K27,工作表2!$B$2:$H$800,2,0 )=0,"",VLOOKUP(K27,工作表2!$B$2:$H$800,2,0 )),"") | M27: =IFERROR(IF(VLOOKUP(K27,工作表2!$B$2:$H$800,3,0 )=0,"",VLOOKUP(K27,工作表2!$B$2:$H$800,3,0 )),"") | N27: =IFERROR(IF(VLOOKUP(K27,工作表2!$B$2:$H$800,4,0 )=0,"",VLOOKUP(K27,工作表2!$B$2:$H$800,4,0 )),"") | O27: =IFERROR(IF(VLOOKUP(K27,工作表2!$B$2:$H$800,5,0 )=0,"",VLOOKUP(K27,工作表2!$B$2:$H$800,5,0 )),"") | P27: =IFERROR(IF(VLOOKUP(K27,工作表2!$B$2:$H$800,6,0 )=0,"",VLOOKUP(K27,工作表2!$B$2:$H$800,6,0 )),"") | Q27: =IFERROR(IF(VLOOKUP(K27,工作表2!$B$2:$H$800,7,0 )=0,"",VLOOKUP(K27,工作表2!$B$2:$H$800,7,0 )),"") | V27: =D27 -> 0 | W27: =E27 -> 0 | X27: =F27 -> 0 | Y27: =IF(COUNTIF($V$2:$V$258,V27)=1,0,1) -> 1
G28: =IF(LEFT(D28,3)="全民國","軍訓",LEFT(D28,3)) | H28: =IF(ISNA(VLOOKUP(F28,$S$2:$T$14,2,0)),"",VLOOKUP(F28,$S$2:$T$14,2,0)) | I28: =IF(ISBLANK(F28),"",IF(H28<60,"","V")) | J28: =IF(F28="停修","",IF(F28>=60,E28,"")) | K28: =IF(H28>59,IF(LEFT(D28,4)="大一英文","大一英文",(IF(LEFT(D28,2)="中文","中文",(IF(LEFT(D28,4)="全民國防","軍訓",(IF(LEFT(D28,4)="大一體育","大一體育",(IF(LEFT(D28,4)="大二體育","大二體育",(IF(LEFT(D28,4)="大二英文","大二英文",D28))))))))))),"") -> 0 | L28: =IFERROR(IF(VLOOKUP(K28,工作表2!$B$2:$H$800,2,0 )=0,"",VLOOKUP(K28,工作表2!$B$2:$H$800,2,0 )),"") | M28: =IFERROR(IF(VLOOKUP(K28,工作表2!$B$2:$H$800,3,0 )=0,"",VLOOKUP(K28,工作表2!$B$2:$H$800,3,0 )),"") | N28: =IFERROR(IF(VLOOKUP(K28,工作表2!$B$2:$H$800,4,0 )=0,"",VLOOKUP(K28,工作表2!$B$2:$H$800,4,0 )),"") | O28: =IFERROR(IF(VLOOKUP(K28,工作表2!$B$2:$H$800,5,0 )=0,"",VLOOKUP(K28,工作表2!$B$2:$H$800,5,0 )),"") | P28: =IFERROR(IF(VLOOKUP(K28,工作表2!$B$2:$H$800,6,0 )=0,"",VLOOKUP(K28,工作表2!$B$2:$H$800,6,0 )),"") | Q28: =IFERROR(IF(VLOOKUP(K28,工作表2!$B$2:$H$800,7,0 )=0,"",VLOOKUP(K28,工作表2!$B$2:$H$800,7,0 )),"") | V28: =D28 -> 0 | W28: =E28 -> 0 | X28: =F28 -> 0 | Y28: =IF(COUNTIF($V$2:$V$258,V28)=1,0,1) -> 1
G29: =IF(LEFT(D29,3)="全民國","軍訓",LEFT(D29,3)) | H29: =IF(ISNA(VLOOKUP(F29,$S$2:$T$14,2,0)),"",VLOOKUP(F29,$S$2:$T$14,2,0)) | I29: =IF(ISBLANK(F29),"",IF(H29<60,"","V")) | J29: =IF(F29="停修","",IF(F29>=60,E29,"")) | K29: =IF(H29>59,IF(LEFT(D29,4)="大一英文","大一英文",(IF(LEFT(D29,2)="中文","中文",(IF(LEFT(D29,4)="全民國防","軍訓",(IF(LEFT(D29,4)="大一體育","大一體育",(IF(LEFT(D29,4)="大二體育","大二體育",(IF(LEFT(D29,4)="大二英文","大二英文",D29))))))))))),"") -> 0 | L29: =IFERROR(IF(VLOOKUP(K29,工作表2!$B$2:$H$800,2,0 )=0,"",VLOOKUP(K29,工作表2!$B$2:$H$800,2,0 )),"") | M29: =IFERROR(IF(VLOOKUP(K29,工作表2!$B$2:$H$800,3,0 )=0,"",VLOOKUP(K29,工作表2!$B$2:$H$800,3,0 )),"") | N29: =IFERROR(IF(VLOOKUP(K29,工作表2!$B$2:$H$800,4,0 )=0,"",VLOOKUP(K29,工作表2!$B$2:$H$800,4,0 )),"") | O29: =IFERROR(IF(VLOOKUP(K29,工作表2!$B$2:$H$800,5,0 )=0,"",VLOOKUP(K29,工作表2!$B$2:$H$800,5,0 )),"") | P29: =IFERROR(IF(VLOOKUP(K29,工作表2!$B$2:$H$800,6,0 )=0,"",VLOOKUP(K29,工作表2!$B$2:$H$800,6,0 )),"") | Q29: =IFERROR(IF(VLOOKUP(K29,工作表2!$B$2:$H$800,7,0 )=0,"",VLOOKUP(K29,工作表2!$B$2:$H$800,7,0 )),"") | V29: =D29 -> 0 | W29: =E29 -> 0 | X29: =F29 -> 0 | Y29: =IF(COUNTIF($V$2:$V$258,V29)=1,0,1) -> 1
G30: =IF(LEFT(D30,3)="全民國","軍訓",LEFT(D30,3)) | H30: =IF(ISNA(VLOOKUP(F30,$S$2:$T$14,2,0)),"",VLOOKUP(F30,$S$2:$T$14,2,0)) | I30: =IF(ISBLANK(F30),"",IF(H30<60,"","V")) | J30: =IF(F30="停修","",IF(F30>=60,E30,"")) | K30: =IF(H30>59,IF(LEFT(D30,4)="大一英文","大一英文",(IF(LEFT(D30,2)="中文","中文",(IF(LEFT(D30,4)="全民國防","軍訓",(IF(LEFT(D30,4)="大一體育","大一體育",(IF(LEFT(D30,4)="大二體育","大二體育",(IF(LEFT(D30,4)="大二英文","大二英文",D30))))))))))),"") -> 0 | L30: =IFERROR(IF(VLOOKUP(K30,工作表2!$B$2:$H$800,2,0 )=0,"",VLOOKUP(K30,工作表2!$B$2:$H$800,2,0 )),"") | M30: =IFERROR(IF(VLOOKUP(K30,工作表2!$B$2:$H$800,3,0 )=0,"",VLOOKUP(K30,工作表2!$B$2:$H$800,3,0 )),"") | N30: =IFERROR(IF(VLOOKUP(K30,工作表2!$B$2:$H$800,4,0 )=0,"",VLOOKUP(K30,工作表2!$B$2:$H$800,4,0 )),"") | O30: =IFERROR(IF(VLOOKUP(K30,工作表2!$B$2:$H$800,5,0 )=0,"",VLOOKUP(K30,工作表2!$B$2:$H$800,5,0 )),"") | P30: =IFERROR(IF(VLOOKUP(K30,工作表2!$B$2:$H$800,6,0 )=0,"",VLOOKUP(K30,工作表2!$B$2:$H$800,6,0 )),"") | Q30: =IFERROR(IF(VLOOKUP(K30,工作表2!$B$2:$H$800,7,0 )=0,"",VLOOKUP(K30,工作表2!$B$2:$H$800,7,0 )),"") | V30: =D30 -> 0 | W30: =E30 -> 0 | X30: =F30 -> 0 | Y30: =IF(COUNTIF($V$2:$V$258,V30)=1,0,1) -> 1
